BEGIN:VCALENDAR
VERSION:2.0
PRODID:-//Carver Ridge Senior Living - ECPv6.11.2.1//NONSGML v1.0//EN
CALSCALE:GREGORIAN
METHOD:PUBLISH
X-ORIGINAL-URL:https://carverridgeseniorliving.com
X-WR-CALDESC:Events for Carver Ridge Senior Living
REFRESH-INTERVAL;VALUE=DURATION:PT1H
X-Robots-Tag:noindex
X-PUBLISHED-TTL:PT1H
BEGIN:VTIMEZONE
TZID:America/Chicago
BEGIN:DAYLIGHT
TZOFFSETFROM:-0600
TZOFFSETTO:-0500
TZNAME:CDT
DTSTART:20250309T080000
END:DAYLIGHT
BEGIN:STANDARD
TZOFFSETFROM:-0500
TZOFFSETTO:-0600
TZNAME:CST
DTSTART:20251102T070000
END:STANDARD
END:VTIMEZONE
BEGIN:VEVENT
DTSTART;TZID=America/Chicago:20251210T100000
DTEND;TZID=America/Chicago:20251210T110000
DTSTAMP:20260419T104623
CREATED:20251110T160631Z
LAST-MODIFIED:20251210T002116Z
UID:10002038-1765360800-1765364400@carverridgeseniorliving.com
SUMMARY:Coffee and Conversation with Kyle and Laurie
DESCRIPTION:
URL:https://carverridgeseniorliving.com/event-calendar/coffee-and-conversation-with-kyle-and-laurie-12/
LOCATION:Bistro
CATEGORIES:Senior Living
END:VEVENT
BEGIN:VEVENT
DTSTART;TZID=America/Chicago:20251210T100000
DTEND;TZID=America/Chicago:20251210T110000
DTSTAMP:20260419T104623
CREATED:20251110T162109Z
LAST-MODIFIED:20251210T010611Z
UID:10002043-1765360800-1765364400@carverridgeseniorliving.com
SUMMARY:Music with Bryant
DESCRIPTION:
URL:https://carverridgeseniorliving.com/event-calendar/music-with-bryant-32/
LOCATION:Piano Lounge
CATEGORIES:Legacy Court
END:VEVENT
BEGIN:VEVENT
DTSTART;TZID=America/Chicago:20251210T110000
DTEND;TZID=America/Chicago:20251210T113000
DTSTAMP:20260419T104623
CREATED:20251111T160615Z
LAST-MODIFIED:20251210T002116Z
UID:10002045-1765364400-1765366200@carverridgeseniorliving.com
SUMMARY:Stretch and Strength
DESCRIPTION:
URL:https://carverridgeseniorliving.com/event-calendar/stretch-and-strength-60/
LOCATION:Community Room
CATEGORIES:Senior Living
END:VEVENT
BEGIN:VEVENT
DTSTART;TZID=America/Chicago:20251210T110000
DTEND;TZID=America/Chicago:20251210T120000
DTSTAMP:20260419T104623
CREATED:20251111T162110Z
LAST-MODIFIED:20251210T010611Z
UID:10002050-1765364400-1765368000@carverridgeseniorliving.com
SUMMARY:Senior Fitness
DESCRIPTION:
URL:https://carverridgeseniorliving.com/event-calendar/senior-fitness-4/
CATEGORIES:Legacy Court
END:VEVENT
BEGIN:VEVENT
DTSTART;TZID=America/Chicago:20251210T124500
DTEND;TZID=America/Chicago:20251210T134500
DTSTAMP:20260419T104623
CREATED:20251111T160615Z
LAST-MODIFIED:20251124T163604Z
UID:10002046-1765370700-1765374300@carverridgeseniorliving.com
SUMMARY:Spark Challenge Quiz Show!
DESCRIPTION:
URL:https://carverridgeseniorliving.com/event-calendar/spark-challenge-quiz-show-7/
LOCATION:Community Room
CATEGORIES:Senior Living
END:VEVENT
BEGIN:VEVENT
DTSTART;TZID=America/Chicago:20251210T133000
DTEND;TZID=America/Chicago:20251210T134500
DTSTAMP:20260419T104623
CREATED:20251111T160615Z
LAST-MODIFIED:20251210T002116Z
UID:10002047-1765373400-1765374300@carverridgeseniorliving.com
SUMMARY:Catholic Communion with St. Victoria
DESCRIPTION:Receive Catholic Communion from volunteers from St. Victoria Church in Victoria.
URL:https://carverridgeseniorliving.com/event-calendar/catholic-communion-with-st-victoria-31/
LOCATION:Salon
CATEGORIES:Senior Living
END:VEVENT
BEGIN:VEVENT
DTSTART;TZID=America/Chicago:20251210T133000
DTEND;TZID=America/Chicago:20251210T143000
DTSTAMP:20260419T104623
CREATED:20251111T162110Z
LAST-MODIFIED:20251210T010611Z
UID:10002051-1765373400-1765377000@carverridgeseniorliving.com
SUMMARY:Christmas Tree Cones Make and Take
DESCRIPTION:
URL:https://carverridgeseniorliving.com/event-calendar/competition-corner-5/
LOCATION:LC Piano Lounge
CATEGORIES:Legacy Court
END:VEVENT
BEGIN:VEVENT
DTSTART;TZID=America/Chicago:20251210T150000
DTEND;TZID=America/Chicago:20251210T160000
DTSTAMP:20260419T104623
CREATED:20251111T162110Z
LAST-MODIFIED:20251130T003623Z
UID:10002052-1765378800-1765382400@carverridgeseniorliving.com
SUMMARY:Kindness Corner
DESCRIPTION:
URL:https://carverridgeseniorliving.com/event-calendar/kindness-corner-21/
LOCATION:LC Dining Room
CATEGORIES:Legacy Court
END:VEVENT
BEGIN:VEVENT
DTSTART;TZID=America/Chicago:20251210T150000
DTEND;TZID=America/Chicago:20251210T160000
DTSTAMP:20260419T104623
CREATED:20251125T163608Z
LAST-MODIFIED:20251210T010611Z
UID:10002156-1765378800-1765382400@carverridgeseniorliving.com
SUMMARY:December Birthday Party w/music by Scotty!
DESCRIPTION:
URL:https://carverridgeseniorliving.com/event-calendar/december-birthday-party-w-music-by-scotty/
LOCATION:Bistro
CATEGORIES:Legacy Court,Senior Living
END:VEVENT
BEGIN:VEVENT
DTSTART;TZID=America/Chicago:20251210T170000
DTEND;TZID=America/Chicago:20251210T180000
DTSTAMP:20260419T104623
CREATED:20251111T160616Z
LAST-MODIFIED:20251124T163604Z
UID:10002048-1765386000-1765389600@carverridgeseniorliving.com
SUMMARY:The Dinner Den w/Jenna - Sign up in Binder
DESCRIPTION:
URL:https://carverridgeseniorliving.com/event-calendar/the-dinner-den-w-jenna-sign-up-in-binder-6/
LOCATION:Bistro
CATEGORIES:Senior Living
END:VEVENT
BEGIN:VEVENT
DTSTART;TZID=America/Chicago:20251210T173000
DTEND;TZID=America/Chicago:20251210T183000
DTSTAMP:20260419T104624
CREATED:20251125T163608Z
LAST-MODIFIED:20251211T002103Z
UID:10002157-1765387800-1765391400@carverridgeseniorliving.com
SUMMARY:Sever's Light Ride Outing - Sign up in Binder
DESCRIPTION:
URL:https://carverridgeseniorliving.com/event-calendar/severs-christmas-light-ride-outing-sign-up-in-binder/
CATEGORIES:Senior Living
END:VEVENT
BEGIN:VEVENT
DTSTART;TZID=America/Chicago:20251210T180000
DTEND;TZID=America/Chicago:20251210T190000
DTSTAMP:20260419T104624
CREATED:20251115T160609Z
LAST-MODIFIED:20251211T002103Z
UID:10002080-1765389600-1765393200@carverridgeseniorliving.com
SUMMARY:Bible Study with Tom Turner
DESCRIPTION:
URL:https://carverridgeseniorliving.com/event-calendar/bible-study-with-tom-turner-4/
LOCATION:Pub
CATEGORIES:Senior Living
END:VEVENT
BEGIN:VEVENT
DTSTART;TZID=America/Chicago:20251210T180000
DTEND;TZID=America/Chicago:20251210T190000
DTSTAMP:20260419T104624
CREATED:20251203T000614Z
LAST-MODIFIED:20251211T002103Z
UID:10002240-1765389600-1765393200@carverridgeseniorliving.com
SUMMARY:Conversing w/Oliver and Jack
DESCRIPTION:
URL:https://carverridgeseniorliving.com/event-calendar/conversing-w-oliver-and-jack-11/
LOCATION:Bistro
CATEGORIES:Senior Living
END:VEVENT
END:VCALENDAR