BEGIN:VCALENDAR
VERSION:2.0
PRODID:-//Carver Ridge Senior Living - ECPv6.11.2.1//NONSGML v1.0//EN
CALSCALE:GREGORIAN
METHOD:PUBLISH
X-WR-CALNAME:Carver Ridge Senior Living
X-ORIGINAL-URL:https://carverridgeseniorliving.com
X-WR-CALDESC:Events for Carver Ridge Senior Living
REFRESH-INTERVAL;VALUE=DURATION:PT1H
X-Robots-Tag:noindex
X-PUBLISHED-TTL:PT1H
BEGIN:VTIMEZONE
TZID:America/Chicago
BEGIN:DAYLIGHT
TZOFFSETFROM:-0600
TZOFFSETTO:-0500
TZNAME:CDT
DTSTART:20250309T080000
END:DAYLIGHT
BEGIN:STANDARD
TZOFFSETFROM:-0500
TZOFFSETTO:-0600
TZNAME:CST
DTSTART:20251102T070000
END:STANDARD
END:VTIMEZONE
BEGIN:VEVENT
DTSTART;TZID=America/Chicago:20251211T100000
DTEND;TZID=America/Chicago:20251211T113000
DTSTAMP:20260419T104417
CREATED:20251111T160616Z
LAST-MODIFIED:20251211T002103Z
UID:10002049-1765447200-1765452600@carverridgeseniorliving.com
SUMMARY:Catholic Communion Service w/Guardian Angel Church Deacon John
DESCRIPTION:
URL:https://carverridgeseniorliving.com/event-calendar/catholic-communion-service-w-guardian-angel-church-deacon-john-7/
LOCATION:Community Room
CATEGORIES:Senior Living
END:VEVENT
BEGIN:VEVENT
DTSTART;TZID=America/Chicago:20251211T103000
DTEND;TZID=America/Chicago:20251211T113000
DTSTAMP:20260419T104417
CREATED:20251201T003621Z
LAST-MODIFIED:20251211T010604Z
UID:10002219-1765449000-1765452600@carverridgeseniorliving.com
SUMMARY:Artist Spotlight
DESCRIPTION:
URL:https://carverridgeseniorliving.com/event-calendar/artist-spotlight/
CATEGORIES:Legacy Court
END:VEVENT
BEGIN:VEVENT
DTSTART;TZID=America/Chicago:20251211T110000
DTEND;TZID=America/Chicago:20251211T113000
DTSTAMP:20260419T104417
CREATED:20251112T160611Z
LAST-MODIFIED:20251211T002103Z
UID:10002053-1765450800-1765452600@carverridgeseniorliving.com
SUMMARY:Bean Bag Toss w/Jenna
DESCRIPTION:
URL:https://carverridgeseniorliving.com/event-calendar/bean-bag-toss-w-jenna-28/
LOCATION:Community Room
CATEGORIES:Senior Living
END:VEVENT
BEGIN:VEVENT
DTSTART;TZID=America/Chicago:20251211T110000
DTEND;TZID=America/Chicago:20251211T120000
DTSTAMP:20260419T104417
CREATED:20251112T162431Z
LAST-MODIFIED:20251211T010604Z
UID:10002056-1765450800-1765454400@carverridgeseniorliving.com
SUMMARY:Cranium Cafe
DESCRIPTION:
URL:https://carverridgeseniorliving.com/event-calendar/gratitude-attitude-devotions-10/
LOCATION:LC Dining Room
CATEGORIES:Legacy Court
END:VEVENT
BEGIN:VEVENT
DTSTART;TZID=America/Chicago:20251211T130000
DTEND;TZID=America/Chicago:20251211T170000
DTSTAMP:20260419T104417
CREATED:20251112T160611Z
LAST-MODIFIED:20251211T002103Z
UID:10002054-1765458000-1765472400@carverridgeseniorliving.com
SUMMARY:Open Craftroom Time - Christmas Coloring
DESCRIPTION:
URL:https://carverridgeseniorliving.com/event-calendar/open-craftroom-time-5/
LOCATION:Craftroom
CATEGORIES:Senior Living
END:VEVENT
BEGIN:VEVENT
DTSTART;TZID=America/Chicago:20251211T133000
DTEND;TZID=America/Chicago:20251211T143000
DTSTAMP:20260419T104417
CREATED:20251112T162431Z
LAST-MODIFIED:20251211T010604Z
UID:10002057-1765459800-1765463400@carverridgeseniorliving.com
SUMMARY:Musical Moments
DESCRIPTION:
URL:https://carverridgeseniorliving.com/event-calendar/musical-moments-frank-sinatra-11/
LOCATION:LC Dining Room
CATEGORIES:Legacy Court
END:VEVENT
BEGIN:VEVENT
DTSTART;TZID=America/Chicago:20251211T150000
DTEND;TZID=America/Chicago:20251211T160000
DTSTAMP:20260419T104417
CREATED:20251112T162431Z
LAST-MODIFIED:20251211T010604Z
UID:10002058-1765465200-1765468800@carverridgeseniorliving.com
SUMMARY:Color Me Happy
DESCRIPTION:
URL:https://carverridgeseniorliving.com/event-calendar/color-me-happy-14/
LOCATION:LC Dining Room
CATEGORIES:Legacy Court
END:VEVENT
BEGIN:VEVENT
DTSTART;TZID=America/Chicago:20251211T160000
DTEND;TZID=America/Chicago:20251211T170000
DTSTAMP:20260419T104417
CREATED:20251125T163608Z
LAST-MODIFIED:20251211T010604Z
UID:10002158-1765468800-1765472400@carverridgeseniorliving.com
SUMMARY:Resident and Family holiday Dinner - reserve your spot by December 1st
DESCRIPTION:
URL:https://carverridgeseniorliving.com/event-calendar/resident-and-family-holiday-dinner-reserve-your-spot-by-december-1st/
CATEGORIES:Legacy Court,Senior Living
END:VEVENT
END:VCALENDAR