BEGIN:VCALENDAR
VERSION:2.0
PRODID:-//Carver Ridge Senior Living - ECPv6.11.2.1//NONSGML v1.0//EN
CALSCALE:GREGORIAN
METHOD:PUBLISH
X-ORIGINAL-URL:https://carverridgeseniorliving.com
X-WR-CALDESC:Events for Carver Ridge Senior Living
REFRESH-INTERVAL;VALUE=DURATION:PT1H
X-Robots-Tag:noindex
X-PUBLISHED-TTL:PT1H
BEGIN:VTIMEZONE
TZID:America/Chicago
BEGIN:DAYLIGHT
TZOFFSETFROM:-0600
TZOFFSETTO:-0500
TZNAME:CDT
DTSTART:20250309T080000
END:DAYLIGHT
BEGIN:STANDARD
TZOFFSETFROM:-0500
TZOFFSETTO:-0600
TZNAME:CST
DTSTART:20251102T070000
END:STANDARD
END:VTIMEZONE
BEGIN:VEVENT
DTSTART;TZID=America/Chicago:20251213T093000
DTEND;TZID=America/Chicago:20251213T094500
DTSTAMP:20260419T104600
CREATED:20251113T163615Z
LAST-MODIFIED:20251213T010638Z
UID:10002065-1765618200-1765619100@carverridgeseniorliving.com
SUMMARY:News and Views
DESCRIPTION:
URL:https://carverridgeseniorliving.com/event-calendar/news-and-views-62/
CATEGORIES:Legacy Court
END:VEVENT
BEGIN:VEVENT
DTSTART;TZID=America/Chicago:20251213T100000
DTEND;TZID=America/Chicago:20251213T104500
DTSTAMP:20260419T104600
CREATED:20251113T160614Z
LAST-MODIFIED:20251213T005103Z
UID:10002062-1765620000-1765622700@carverridgeseniorliving.com
SUMMARY:Coffee Social
DESCRIPTION:Come gather in the bistro for fresh coffee and conversation with your neighbors.
URL:https://carverridgeseniorliving.com/event-calendar/coffee-social-59/
LOCATION:Bistro
CATEGORIES:Senior Living
END:VEVENT
BEGIN:VEVENT
DTSTART;TZID=America/Chicago:20251213T100000
DTEND;TZID=America/Chicago:20251213T110000
DTSTAMP:20260419T104600
CREATED:20251113T163615Z
LAST-MODIFIED:20251213T010638Z
UID:10002066-1765620000-1765623600@carverridgeseniorliving.com
SUMMARY:Balloonball w/Yvonna
DESCRIPTION:
URL:https://carverridgeseniorliving.com/event-calendar/balloonball-w-yvonna-16/
LOCATION:Piano Lounge
CATEGORIES:Legacy Court
END:VEVENT
BEGIN:VEVENT
DTSTART;TZID=America/Chicago:20251213T110000
DTEND;TZID=America/Chicago:20251213T120000
DTSTAMP:20260419T104600
CREATED:20251114T160628Z
LAST-MODIFIED:20251213T005103Z
UID:10002068-1765623600-1765627200@carverridgeseniorliving.com
SUMMARY:Bean Bag Toss w/Yvonna
DESCRIPTION:
URL:https://carverridgeseniorliving.com/event-calendar/bean-bag-toss-w-yvonna-18/
LOCATION:Community Room
CATEGORIES:Senior Living
END:VEVENT
BEGIN:VEVENT
DTSTART;TZID=America/Chicago:20251213T133000
DTEND;TZID=America/Chicago:20251213T143000
DTSTAMP:20260419T104600
CREATED:20251114T160628Z
LAST-MODIFIED:20251213T005103Z
UID:10002069-1765632600-1765636200@carverridgeseniorliving.com
SUMMARY:BINGO w/Yvonna
DESCRIPTION:
URL:https://carverridgeseniorliving.com/event-calendar/bingo-w-yvonna-18/
LOCATION:Bistro
CATEGORIES:Senior Living
END:VEVENT
BEGIN:VEVENT
DTSTART;TZID=America/Chicago:20251213T133000
DTEND;TZID=America/Chicago:20251213T143000
DTSTAMP:20260419T104600
CREATED:20251114T163607Z
LAST-MODIFIED:20251213T010639Z
UID:10002073-1765632600-1765636200@carverridgeseniorliving.com
SUMMARY:Sharing Joy through Generations
DESCRIPTION:
URL:https://carverridgeseniorliving.com/event-calendar/hhas-led-manicures-and-hand-massage-31/
LOCATION:Dining Room
CATEGORIES:Legacy Court
END:VEVENT
BEGIN:VEVENT
DTSTART;TZID=America/Chicago:20251213T150000
DTEND;TZID=America/Chicago:20251213T153000
DTSTAMP:20260419T104600
CREATED:20251114T160628Z
LAST-MODIFIED:20251213T005103Z
UID:10002070-1765638000-1765639800@carverridgeseniorliving.com
SUMMARY:BYOB Social Hour
DESCRIPTION:
URL:https://carverridgeseniorliving.com/event-calendar/byob-social-hour-31/
LOCATION:Pub
CATEGORIES:Senior Living
END:VEVENT
BEGIN:VEVENT
DTSTART;TZID=America/Chicago:20251213T150000
DTEND;TZID=America/Chicago:20251213T160000
DTSTAMP:20260419T104600
CREATED:20251114T163607Z
LAST-MODIFIED:20251213T010639Z
UID:10002074-1765638000-1765641600@carverridgeseniorliving.com
SUMMARY:Lindsey Sterling Violin Concert (Violin Day)
DESCRIPTION:
URL:https://carverridgeseniorliving.com/event-calendar/saturday-social-time-25/
LOCATION:LC Dining Room
CATEGORIES:Legacy Court
END:VEVENT
BEGIN:VEVENT
DTSTART;TZID=America/Chicago:20251213T163000
DTEND;TZID=America/Chicago:20251213T173000
DTSTAMP:20260419T104600
CREATED:20251114T160628Z
LAST-MODIFIED:20251213T005103Z
UID:10002071-1765643400-1765647000@carverridgeseniorliving.com
SUMMARY:Piano Music by Rohan and Neeva
DESCRIPTION:
URL:https://carverridgeseniorliving.com/event-calendar/piano-music-by-rohan-and-neeva-7/
LOCATION:Dining Room
CATEGORIES:Senior Living
END:VEVENT
END:VCALENDAR