BEGIN:VCALENDAR
VERSION:2.0
PRODID:-//Carver Ridge Senior Living - ECPv6.11.2.1//NONSGML v1.0//EN
CALSCALE:GREGORIAN
METHOD:PUBLISH
X-ORIGINAL-URL:https://carverridgeseniorliving.com
X-WR-CALDESC:Events for Carver Ridge Senior Living
REFRESH-INTERVAL;VALUE=DURATION:PT1H
X-Robots-Tag:noindex
X-PUBLISHED-TTL:PT1H
BEGIN:VTIMEZONE
TZID:America/Chicago
BEGIN:DAYLIGHT
TZOFFSETFROM:-0600
TZOFFSETTO:-0500
TZNAME:CDT
DTSTART:20250309T080000
END:DAYLIGHT
BEGIN:STANDARD
TZOFFSETFROM:-0500
TZOFFSETTO:-0600
TZNAME:CST
DTSTART:20251102T070000
END:STANDARD
END:VTIMEZONE
BEGIN:VEVENT
DTSTART;TZID=America/Chicago:20251215T100000
DTEND;TZID=America/Chicago:20251215T110000
DTSTAMP:20260419T104600
CREATED:20251115T160610Z
LAST-MODIFIED:20251215T010605Z
UID:10002084-1765792800-1765796400@carverridgeseniorliving.com
SUMMARY:Cranium Cafe w/Amanda
DESCRIPTION:
URL:https://carverridgeseniorliving.com/event-calendar/cranium-cafe-w-jenna-27/
LOCATION:Bistro
CATEGORIES:Senior Living
END:VEVENT
BEGIN:VEVENT
DTSTART;TZID=America/Chicago:20251215T103000
DTEND;TZID=America/Chicago:20251215T113000
DTSTAMP:20260419T104600
CREATED:20251115T163606Z
LAST-MODIFIED:20251215T012155Z
UID:10002086-1765794600-1765798200@carverridgeseniorliving.com
SUMMARY:Gratitude Attitude Devotions
DESCRIPTION:
URL:https://carverridgeseniorliving.com/event-calendar/walk-it-out-fitness-5/
CATEGORIES:Legacy Court
END:VEVENT
BEGIN:VEVENT
DTSTART;TZID=America/Chicago:20251215T110000
DTEND;TZID=America/Chicago:20251215T113000
DTSTAMP:20260419T104600
CREATED:20251116T162110Z
LAST-MODIFIED:20251215T010605Z
UID:10002087-1765796400-1765798200@carverridgeseniorliving.com
SUMMARY:Exercise w/Amanda
DESCRIPTION:
URL:https://carverridgeseniorliving.com/event-calendar/stretch-and-strength-61/
LOCATION:Community Room
CATEGORIES:Senior Living
END:VEVENT
BEGIN:VEVENT
DTSTART;TZID=America/Chicago:20251215T110000
DTEND;TZID=America/Chicago:20251215T120000
DTSTAMP:20260419T104600
CREATED:20251116T163608Z
LAST-MODIFIED:20251215T012155Z
UID:10002089-1765796400-1765800000@carverridgeseniorliving.com
SUMMARY:A Cup of Christmas Tea Party
DESCRIPTION:
URL:https://carverridgeseniorliving.com/event-calendar/gratitude-attitude-devotions-11/
LOCATION:LC Dining Room
CATEGORIES:Legacy Court
END:VEVENT
BEGIN:VEVENT
DTSTART;TZID=America/Chicago:20251215T130000
DTEND;TZID=America/Chicago:20251215T140000
DTSTAMP:20260419T104600
CREATED:20251128T122133Z
LAST-MODIFIED:20251215T010605Z
UID:10002188-1765803600-1765807200@carverridgeseniorliving.com
SUMMARY:Foam Wreath Craft w/Amanda - Sign up in Binder
DESCRIPTION:
URL:https://carverridgeseniorliving.com/event-calendar/foam-wreath-craft-w-amanda-sign-up-in-binder/
LOCATION:Creekside Crafters
CATEGORIES:Senior Living
END:VEVENT
BEGIN:VEVENT
DTSTART;TZID=America/Chicago:20251215T140000
DTEND;TZID=America/Chicago:20251215T150000
DTSTAMP:20260419T104600
CREATED:20251116T163608Z
LAST-MODIFIED:20251215T012155Z
UID:10002090-1765807200-1765810800@carverridgeseniorliving.com
SUMMARY:Monday Movie Matinee
DESCRIPTION:
URL:https://carverridgeseniorliving.com/event-calendar/monday-movie-matinee-30/
LOCATION:Piano Lounge
CATEGORIES:Legacy Court
END:VEVENT
BEGIN:VEVENT
DTSTART;TZID=America/Chicago:20251215T150000
DTEND;TZID=America/Chicago:20251215T160000
DTSTAMP:20260419T104600
CREATED:20251125T163609Z
LAST-MODIFIED:20251215T010605Z
UID:10002159-1765810800-1765814400@carverridgeseniorliving.com
SUMMARY:BINGO
DESCRIPTION:
URL:https://carverridgeseniorliving.com/event-calendar/bingo-79/
LOCATION:Bistro
CATEGORIES:Senior Living
END:VEVENT
END:VCALENDAR