BEGIN:VCALENDAR
VERSION:2.0
PRODID:-//Carver Ridge Senior Living - ECPv6.11.2.1//NONSGML v1.0//EN
CALSCALE:GREGORIAN
METHOD:PUBLISH
X-WR-CALNAME:Carver Ridge Senior Living
X-ORIGINAL-URL:https://carverridgeseniorliving.com
X-WR-CALDESC:Events for Carver Ridge Senior Living
REFRESH-INTERVAL;VALUE=DURATION:PT1H
X-Robots-Tag:noindex
X-PUBLISHED-TTL:PT1H
BEGIN:VTIMEZONE
TZID:America/Chicago
BEGIN:DAYLIGHT
TZOFFSETFROM:-0600
TZOFFSETTO:-0500
TZNAME:CDT
DTSTART:20250309T080000
END:DAYLIGHT
BEGIN:STANDARD
TZOFFSETFROM:-0500
TZOFFSETTO:-0600
TZNAME:CST
DTSTART:20251102T070000
END:STANDARD
END:VTIMEZONE
BEGIN:VEVENT
DTSTART;TZID=America/Chicago:20251216T100000
DTEND;TZID=America/Chicago:20251216T110000
DTSTAMP:20260419T104418
CREATED:20251116T162110Z
LAST-MODIFIED:20251124T163605Z
UID:10002088-1765879200-1765882800@carverridgeseniorliving.com
SUMMARY:Coffee and Conversations with Carol
DESCRIPTION:
URL:https://carverridgeseniorliving.com/event-calendar/coffee-and-conversations-with-carol-8/
CATEGORIES:Senior Living
END:VEVENT
BEGIN:VEVENT
DTSTART;TZID=America/Chicago:20251216T110000
DTEND;TZID=America/Chicago:20251216T113000
DTSTAMP:20260419T104418
CREATED:20251117T162110Z
LAST-MODIFIED:20251216T010604Z
UID:10002091-1765882800-1765884600@carverridgeseniorliving.com
SUMMARY:Chair Yoga
DESCRIPTION:
URL:https://carverridgeseniorliving.com/event-calendar/chair-yoga-45/
LOCATION:Community Room
CATEGORIES:Senior Living
END:VEVENT
BEGIN:VEVENT
DTSTART;TZID=America/Chicago:20251216T110000
DTEND;TZID=America/Chicago:20251216T120000
DTSTAMP:20260419T104418
CREATED:20251117T163622Z
LAST-MODIFIED:20251216T012104Z
UID:10002096-1765882800-1765886400@carverridgeseniorliving.com
SUMMARY:Worship w/Chaplain Carol
DESCRIPTION:
URL:https://carverridgeseniorliving.com/event-calendar/worship-w-chaplain-carol-7/
LOCATION:LC Piano Lounge
CATEGORIES:Legacy Court
END:VEVENT
BEGIN:VEVENT
DTSTART;TZID=America/Chicago:20251216T113000
DTEND;TZID=America/Chicago:20251216T123000
DTSTAMP:20260419T104419
CREATED:20251117T163622Z
LAST-MODIFIED:20251216T012104Z
UID:10002097-1765884600-1765888200@carverridgeseniorliving.com
SUMMARY:Christmas w/Dean Martin
DESCRIPTION:
URL:https://carverridgeseniorliving.com/event-calendar/chair-yoga-46/
CATEGORIES:Legacy Court
END:VEVENT
BEGIN:VEVENT
DTSTART;TZID=America/Chicago:20251216T133000
DTEND;TZID=America/Chicago:20251216T143000
DTSTAMP:20260419T104419
CREATED:20251117T163622Z
LAST-MODIFIED:20251216T012104Z
UID:10002098-1765891800-1765895400@carverridgeseniorliving.com
SUMMARY:BINGO!
DESCRIPTION:
URL:https://carverridgeseniorliving.com/event-calendar/bingo-75/
LOCATION:LC Dining Room
CATEGORIES:Legacy Court
END:VEVENT
BEGIN:VEVENT
DTSTART;TZID=America/Chicago:20251216T150000
DTEND;TZID=America/Chicago:20251216T160000
DTSTAMP:20260419T104419
CREATED:20251117T162110Z
LAST-MODIFIED:20251124T163605Z
UID:10002092-1765897200-1765900800@carverridgeseniorliving.com
SUMMARY:BINGO
DESCRIPTION:
URL:https://carverridgeseniorliving.com/event-calendar/bingo-74/
LOCATION:Bistro
CATEGORIES:Senior Living
END:VEVENT
BEGIN:VEVENT
DTSTART;TZID=America/Chicago:20251216T150000
DTEND;TZID=America/Chicago:20251216T160000
DTSTAMP:20260419T104419
CREATED:20251117T162110Z
LAST-MODIFIED:20251216T010604Z
UID:10002093-1765897200-1765900800@carverridgeseniorliving.com
SUMMARY:Communion Service w/Chaplain Carol
DESCRIPTION:
URL:https://carverridgeseniorliving.com/event-calendar/communion-service-w-chaplain-carol-9/
LOCATION:Community Room
CATEGORIES:Senior Living
END:VEVENT
BEGIN:VEVENT
DTSTART;TZID=America/Chicago:20251216T150000
DTEND;TZID=America/Chicago:20251216T160000
DTSTAMP:20260419T104419
CREATED:20251117T163622Z
LAST-MODIFIED:20251216T012104Z
UID:10002099-1765897200-1765900800@carverridgeseniorliving.com
SUMMARY:Chocolate Covered Anything Day!
DESCRIPTION:
URL:https://carverridgeseniorliving.com/event-calendar/nacho-average-tuesday-12/
LOCATION:LC Dining Room
CATEGORIES:Legacy Court
END:VEVENT
BEGIN:VEVENT
DTSTART;TZID=America/Chicago:20251216T153000
DTEND;TZID=America/Chicago:20251216T163000
DTSTAMP:20260419T104419
CREATED:20251201T003622Z
LAST-MODIFIED:20251216T012104Z
UID:10002220-1765899000-1765902600@carverridgeseniorliving.com
SUMMARY:Paul Harvey: A Christmas Story and Reflections
DESCRIPTION:
URL:https://carverridgeseniorliving.com/event-calendar/paul-harvey-a-christmas-story-and-reflections/
LOCATION:LC Dining Room
CATEGORIES:Legacy Court
END:VEVENT
BEGIN:VEVENT
DTSTART;TZID=America/Chicago:20251216T160000
DTEND;TZID=America/Chicago:20251216T170000
DTSTAMP:20260419T104419
CREATED:20251125T163609Z
LAST-MODIFIED:20251216T010604Z
UID:10002160-1765900800-1765904400@carverridgeseniorliving.com
SUMMARY:VFW Veteran's Xmas Party - Sign up in Binder\, Veteran's and spouses only please
DESCRIPTION:
URL:https://carverridgeseniorliving.com/event-calendar/vfw-veterans-xmas-party-sign-up-in-binder-veterans-and-spouses-only-please/
CATEGORIES:Senior Living
END:VEVENT
END:VCALENDAR