BEGIN:VCALENDAR
VERSION:2.0
PRODID:-//Carver Ridge Senior Living - ECPv6.11.2.1//NONSGML v1.0//EN
CALSCALE:GREGORIAN
METHOD:PUBLISH
X-WR-CALNAME:Carver Ridge Senior Living
X-ORIGINAL-URL:https://carverridgeseniorliving.com
X-WR-CALDESC:Events for Carver Ridge Senior Living
REFRESH-INTERVAL;VALUE=DURATION:PT1H
X-Robots-Tag:noindex
X-PUBLISHED-TTL:PT1H
BEGIN:VTIMEZONE
TZID:America/Chicago
BEGIN:DAYLIGHT
TZOFFSETFROM:-0600
TZOFFSETTO:-0500
TZNAME:CDT
DTSTART:20250309T080000
END:DAYLIGHT
BEGIN:STANDARD
TZOFFSETFROM:-0500
TZOFFSETTO:-0600
TZNAME:CST
DTSTART:20251102T070000
END:STANDARD
END:VTIMEZONE
BEGIN:VEVENT
DTSTART;TZID=America/Chicago:20251218T100000
DTEND;TZID=America/Chicago:20251218T110000
DTSTAMP:20260419T104417
CREATED:20251128T122119Z
LAST-MODIFIED:20251218T012115Z
UID:10002172-1766052000-1766055600@carverridgeseniorliving.com
SUMMARY:Carver PALS visit
DESCRIPTION:
URL:https://carverridgeseniorliving.com/event-calendar/carver-pals-visit-6/
LOCATION:Bistro
CATEGORIES:Legacy Court,Senior Living
END:VEVENT
BEGIN:VEVENT
DTSTART;TZID=America/Chicago:20251218T110000
DTEND;TZID=America/Chicago:20251218T113000
DTSTAMP:20260419T104417
CREATED:20251119T162120Z
LAST-MODIFIED:20251218T012106Z
UID:10002108-1766055600-1766057400@carverridgeseniorliving.com
SUMMARY:Bean Bag Toss w/Jenna
DESCRIPTION:
URL:https://carverridgeseniorliving.com/event-calendar/bean-bag-toss-w-jenna-29/
LOCATION:Community Room
CATEGORIES:Senior Living
END:VEVENT
BEGIN:VEVENT
DTSTART;TZID=America/Chicago:20251218T110000
DTEND;TZID=America/Chicago:20251218T120000
DTSTAMP:20260419T104417
CREATED:20251119T163608Z
LAST-MODIFIED:20251218T012115Z
UID:10002111-1766055600-1766059200@carverridgeseniorliving.com
SUMMARY:Cranium Cafe
DESCRIPTION:
URL:https://carverridgeseniorliving.com/event-calendar/what-in-the-world-17/
LOCATION:LC Dining Room
CATEGORIES:Legacy Court
END:VEVENT
BEGIN:VEVENT
DTSTART;TZID=America/Chicago:20251218T133000
DTEND;TZID=America/Chicago:20251218T143000
DTSTAMP:20260419T104418
CREATED:20251119T163609Z
LAST-MODIFIED:20251218T012115Z
UID:10002112-1766064600-1766068200@carverridgeseniorliving.com
SUMMARY:Musical Moments: Julie Andrews
DESCRIPTION:
URL:https://carverridgeseniorliving.com/event-calendar/musical-moments-frank-sinatra-12/
LOCATION:LC Dining Room
CATEGORIES:Legacy Court
END:VEVENT
BEGIN:VEVENT
DTSTART;TZID=America/Chicago:20251218T143000
DTEND;TZID=America/Chicago:20251218T183000
DTSTAMP:20260419T104418
CREATED:20251119T162120Z
LAST-MODIFIED:20251218T012106Z
UID:10002109-1766068200-1766082600@carverridgeseniorliving.com
SUMMARY:Gift Wrapping w/Jenna
DESCRIPTION:
URL:https://carverridgeseniorliving.com/event-calendar/open-craftroom-time-6/
LOCATION:Craftroom
CATEGORIES:Senior Living
END:VEVENT
BEGIN:VEVENT
DTSTART;TZID=America/Chicago:20251218T150000
DTEND;TZID=America/Chicago:20251218T160000
DTSTAMP:20260419T104418
CREATED:20251119T163609Z
LAST-MODIFIED:20251218T012115Z
UID:10002113-1766070000-1766073600@carverridgeseniorliving.com
SUMMARY:It's a Gift
DESCRIPTION:
URL:https://carverridgeseniorliving.com/event-calendar/color-me-happy-15/
LOCATION:LC Dining Room
CATEGORIES:Legacy Court
END:VEVENT
END:VCALENDAR