BEGIN:VCALENDAR
VERSION:2.0
PRODID:-//Carver Ridge Senior Living - ECPv6.11.2.1//NONSGML v1.0//EN
CALSCALE:GREGORIAN
METHOD:PUBLISH
X-ORIGINAL-URL:https://carverridgeseniorliving.com
X-WR-CALDESC:Events for Carver Ridge Senior Living
REFRESH-INTERVAL;VALUE=DURATION:PT1H
X-Robots-Tag:noindex
X-PUBLISHED-TTL:PT1H
BEGIN:VTIMEZONE
TZID:America/Chicago
BEGIN:DAYLIGHT
TZOFFSETFROM:-0600
TZOFFSETTO:-0500
TZNAME:CDT
DTSTART:20250309T080000
END:DAYLIGHT
BEGIN:STANDARD
TZOFFSETFROM:-0500
TZOFFSETTO:-0600
TZNAME:CST
DTSTART:20251102T070000
END:STANDARD
END:VTIMEZONE
BEGIN:VEVENT
DTSTART;VALUE=DATE:20251219
DTEND;VALUE=DATE:20251220
DTSTAMP:20260419T104622
CREATED:20251128T122119Z
LAST-MODIFIED:20251218T012115Z
UID:10002173-1766102400-1766188799@carverridgeseniorliving.com
SUMMARY:Festive Christmas Attire Day!
DESCRIPTION:
URL:https://carverridgeseniorliving.com/event-calendar/festive-christmas-attire-day/
CATEGORIES:Legacy Court,Senior Living
END:VEVENT
BEGIN:VEVENT
DTSTART;TZID=America/Chicago:20251219T100000
DTEND;TZID=America/Chicago:20251219T110000
DTSTAMP:20260419T104622
CREATED:20251119T162120Z
LAST-MODIFIED:20251219T012105Z
UID:10002110-1766138400-1766142000@carverridgeseniorliving.com
SUMMARY:Fancy Fingers Friday
DESCRIPTION:Come to the bistro between 10-10:45 to get nails filed and/or painted.
URL:https://carverridgeseniorliving.com/event-calendar/fancy-fingers-friday-20/
LOCATION:Salon
CATEGORIES:Senior Living
END:VEVENT
BEGIN:VEVENT
DTSTART;TZID=America/Chicago:20251219T110000
DTEND;TZID=America/Chicago:20251219T120000
DTSTAMP:20260419T104622
CREATED:20251120T162109Z
LAST-MODIFIED:20251219T012105Z
UID:10002114-1766142000-1766145600@carverridgeseniorliving.com
SUMMARY:Fun & Fit Exercises
DESCRIPTION:
URL:https://carverridgeseniorliving.com/event-calendar/fun-fit-exercises-27/
LOCATION:Community Room
CATEGORIES:Senior Living
END:VEVENT
BEGIN:VEVENT
DTSTART;TZID=America/Chicago:20251219T130000
DTEND;TZID=America/Chicago:20251219T140000
DTSTAMP:20260419T104622
CREATED:20251120T162109Z
LAST-MODIFIED:20251124T163606Z
UID:10002115-1766149200-1766152800@carverridgeseniorliving.com
SUMMARY:The Really Big Show!
DESCRIPTION:
URL:https://carverridgeseniorliving.com/event-calendar/the-really-big-show-9/
LOCATION:Community Room
CATEGORIES:Senior Living
END:VEVENT
BEGIN:VEVENT
DTSTART;TZID=America/Chicago:20251219T133000
DTEND;TZID=America/Chicago:20251219T143000
DTSTAMP:20260419T104622
CREATED:20251120T163620Z
LAST-MODIFIED:20251219T013609Z
UID:10002118-1766151000-1766154600@carverridgeseniorliving.com
SUMMARY:Make a Mess with Jess
DESCRIPTION:
URL:https://carverridgeseniorliving.com/event-calendar/make-a-mess-with-jess-32/
LOCATION:LC Dining Room
CATEGORIES:Legacy Court
END:VEVENT
BEGIN:VEVENT
DTSTART;TZID=America/Chicago:20251219T143000
DTEND;TZID=America/Chicago:20251219T150000
DTSTAMP:20260419T104622
CREATED:20251120T162109Z
LAST-MODIFIED:20251219T012105Z
UID:10002116-1766154600-1766156400@carverridgeseniorliving.com
SUMMARY:Resident Christmas Party w/Music by Loren Wolfe
DESCRIPTION:
URL:https://carverridgeseniorliving.com/event-calendar/happy-hour-27/
LOCATION:Dining Room
CATEGORIES:Senior Living
END:VEVENT
BEGIN:VEVENT
DTSTART;TZID=America/Chicago:20251219T143000
DTEND;TZID=America/Chicago:20251219T153000
DTSTAMP:20260419T104622
CREATED:20251120T163620Z
LAST-MODIFIED:20251219T013609Z
UID:10002119-1766154600-1766158200@carverridgeseniorliving.com
SUMMARY:Christmas Party w/Music by Loren Wolfe!
DESCRIPTION:
URL:https://carverridgeseniorliving.com/event-calendar/mocktail-social-11/
LOCATION:Bistro
CATEGORIES:Legacy Court
END:VEVENT
END:VCALENDAR