BEGIN:VCALENDAR
VERSION:2.0
PRODID:-//Carver Ridge Senior Living - ECPv6.11.2.1//NONSGML v1.0//EN
CALSCALE:GREGORIAN
METHOD:PUBLISH
X-WR-CALNAME:Carver Ridge Senior Living
X-ORIGINAL-URL:https://carverridgeseniorliving.com
X-WR-CALDESC:Events for Carver Ridge Senior Living
REFRESH-INTERVAL;VALUE=DURATION:PT1H
X-Robots-Tag:noindex
X-PUBLISHED-TTL:PT1H
BEGIN:VTIMEZONE
TZID:America/Chicago
BEGIN:DAYLIGHT
TZOFFSETFROM:-0600
TZOFFSETTO:-0500
TZNAME:CDT
DTSTART:20250309T080000
END:DAYLIGHT
BEGIN:STANDARD
TZOFFSETFROM:-0500
TZOFFSETTO:-0600
TZNAME:CST
DTSTART:20251102T070000
END:STANDARD
END:VTIMEZONE
BEGIN:VEVENT
DTSTART;TZID=America/Chicago:20251221T093000
DTEND;TZID=America/Chicago:20251221T094500
DTSTAMP:20260419T104403
CREATED:20251121T163609Z
LAST-MODIFIED:20251221T015103Z
UID:10002130-1766309400-1766310300@carverridgeseniorliving.com
SUMMARY:News and Views
DESCRIPTION:
URL:https://carverridgeseniorliving.com/event-calendar/news-and-views-65/
CATEGORIES:Legacy Court
END:VEVENT
BEGIN:VEVENT
DTSTART;TZID=America/Chicago:20251221T100000
DTEND;TZID=America/Chicago:20251221T104500
DTSTAMP:20260419T104403
CREATED:20251121T162111Z
LAST-MODIFIED:20251221T012117Z
UID:10002126-1766311200-1766313900@carverridgeseniorliving.com
SUMMARY:Coffee Social
DESCRIPTION:Come gather in the bistro for fresh coffee and conversation with your neighbors.
URL:https://carverridgeseniorliving.com/event-calendar/coffee-social-62/
LOCATION:Bistro
CATEGORIES:Senior Living
END:VEVENT
BEGIN:VEVENT
DTSTART;TZID=America/Chicago:20251221T100000
DTEND;TZID=America/Chicago:20251221T110000
DTSTAMP:20260419T104404
CREATED:20251121T163609Z
LAST-MODIFIED:20251221T015103Z
UID:10002131-1766311200-1766314800@carverridgeseniorliving.com
SUMMARY:Bean Bag Toss w/Amanda
DESCRIPTION:
URL:https://carverridgeseniorliving.com/event-calendar/bean-bag-toss-w-amanda-19/
CATEGORIES:Legacy Court
END:VEVENT
BEGIN:VEVENT
DTSTART;TZID=America/Chicago:20251221T103000
DTEND;TZID=America/Chicago:20251221T113000
DTSTAMP:20260419T104404
CREATED:20251122T163649Z
LAST-MODIFIED:20251221T012117Z
UID:10002132-1766313000-1766316600@carverridgeseniorliving.com
SUMMARY:Streaming St. John's Lutheran Service
DESCRIPTION:
URL:https://carverridgeseniorliving.com/event-calendar/streaming-st-johns-lutheran-service-17/
LOCATION:Pub
CATEGORIES:Senior Living
END:VEVENT
BEGIN:VEVENT
DTSTART;TZID=America/Chicago:20251221T133000
DTEND;TZID=America/Chicago:20251221T143000
DTSTAMP:20260419T104404
CREATED:20251122T163650Z
LAST-MODIFIED:20251221T012117Z
UID:10002133-1766323800-1766327400@carverridgeseniorliving.com
SUMMARY:Popcorn and a Show: "Dean Martin Christmas Special"
DESCRIPTION:
URL:https://carverridgeseniorliving.com/event-calendar/resident-choice-sunday-matinee-movie-and-popcorn-12/
LOCATION:Pub
CATEGORIES:Senior Living
END:VEVENT
BEGIN:VEVENT
DTSTART;TZID=America/Chicago:20251221T150000
DTEND;TZID=America/Chicago:20251221T160000
DTSTAMP:20260419T104404
CREATED:20251122T163843Z
LAST-MODIFIED:20251221T015104Z
UID:10002137-1766329200-1766332800@carverridgeseniorliving.com
SUMMARY:Sunshine and Smiles social time
DESCRIPTION:
URL:https://carverridgeseniorliving.com/event-calendar/sunshine-and-smiles-social-time-4/
LOCATION:LC Dining Room
CATEGORIES:Legacy Court
END:VEVENT
BEGIN:VEVENT
DTSTART;TZID=America/Chicago:20251221T153000
DTEND;TZID=America/Chicago:20251221T163000
DTSTAMP:20260419T104404
CREATED:20251122T163650Z
LAST-MODIFIED:20251221T012117Z
UID:10002134-1766331000-1766334600@carverridgeseniorliving.com
SUMMARY:Resident Led Dominoes Game
DESCRIPTION:
URL:https://carverridgeseniorliving.com/event-calendar/resident-led-dominoes-game-25/
LOCATION:Pub
CATEGORIES:Senior Living
END:VEVENT
END:VCALENDAR