BEGIN:VCALENDAR
VERSION:2.0
PRODID:-//Carver Ridge Senior Living - ECPv6.11.2.1//NONSGML v1.0//EN
CALSCALE:GREGORIAN
METHOD:PUBLISH
X-ORIGINAL-URL:https://carverridgeseniorliving.com
X-WR-CALDESC:Events for Carver Ridge Senior Living
REFRESH-INTERVAL;VALUE=DURATION:PT1H
X-Robots-Tag:noindex
X-PUBLISHED-TTL:PT1H
BEGIN:VTIMEZONE
TZID:America/Chicago
BEGIN:DAYLIGHT
TZOFFSETFROM:-0600
TZOFFSETTO:-0500
TZNAME:CDT
DTSTART:20250309T080000
END:DAYLIGHT
BEGIN:STANDARD
TZOFFSETFROM:-0500
TZOFFSETTO:-0600
TZNAME:CST
DTSTART:20251102T070000
END:STANDARD
END:VTIMEZONE
BEGIN:VEVENT
DTSTART;VALUE=DATE:20251222
DTEND;VALUE=DATE:20251223
DTSTAMP:20260419T104601
CREATED:20251128T122134Z
LAST-MODIFIED:20251221T012117Z
UID:10002189-1766361600-1766447999@carverridgeseniorliving.com
SUMMARY:Door Décor Voting Ends!
DESCRIPTION:
URL:https://carverridgeseniorliving.com/event-calendar/door-decor-voting-ends/
CATEGORIES:Senior Living
END:VEVENT
BEGIN:VEVENT
DTSTART;TZID=America/Chicago:20251222T100000
DTEND;TZID=America/Chicago:20251222T110000
DTSTAMP:20260419T104601
CREATED:20251122T163650Z
LAST-MODIFIED:20251125T163610Z
UID:10002135-1766397600-1766401200@carverridgeseniorliving.com
SUMMARY:Cranium Cafe w/Jenna
DESCRIPTION:
URL:https://carverridgeseniorliving.com/event-calendar/cranium-cafe-w-jenna-28/
LOCATION:Bistro
CATEGORIES:Senior Living
END:VEVENT
BEGIN:VEVENT
DTSTART;TZID=America/Chicago:20251222T100000
DTEND;TZID=America/Chicago:20251222T110000
DTSTAMP:20260419T104601
CREATED:20251122T163650Z
LAST-MODIFIED:20251221T012117Z
UID:10002136-1766397600-1766401200@carverridgeseniorliving.com
SUMMARY:Resident Council
DESCRIPTION:
URL:https://carverridgeseniorliving.com/event-calendar/resident-council-7/
LOCATION:Bistro
CATEGORIES:Senior Living
END:VEVENT
BEGIN:VEVENT
DTSTART;TZID=America/Chicago:20251222T103000
DTEND;TZID=America/Chicago:20251222T113000
DTSTAMP:20260419T104601
CREATED:20251122T163843Z
LAST-MODIFIED:20251222T015107Z
UID:10002138-1766399400-1766403000@carverridgeseniorliving.com
SUMMARY:Gratitude Attitude Devotions
DESCRIPTION:
URL:https://carverridgeseniorliving.com/event-calendar/walk-it-out-fitness-6/
CATEGORIES:Legacy Court
END:VEVENT
BEGIN:VEVENT
DTSTART;TZID=America/Chicago:20251222T110000
DTEND;TZID=America/Chicago:20251222T113000
DTSTAMP:20260419T104601
CREATED:20251123T163611Z
LAST-MODIFIED:20251222T013605Z
UID:10002139-1766401200-1766403000@carverridgeseniorliving.com
SUMMARY:Stretch and Strength
DESCRIPTION:
URL:https://carverridgeseniorliving.com/event-calendar/stretch-and-strength-63/
LOCATION:Community Room
CATEGORIES:Senior Living
END:VEVENT
BEGIN:VEVENT
DTSTART;TZID=America/Chicago:20251222T110000
DTEND;TZID=America/Chicago:20251222T120000
DTSTAMP:20260419T104601
CREATED:20251123T165110Z
LAST-MODIFIED:20251222T015108Z
UID:10002141-1766401200-1766404800@carverridgeseniorliving.com
SUMMARY:"No Two Alike" Snowflake Craft
DESCRIPTION:
URL:https://carverridgeseniorliving.com/event-calendar/gratitude-attitude-devotions-12/
LOCATION:LC Dining Room
CATEGORIES:Legacy Court
END:VEVENT
BEGIN:VEVENT
DTSTART;TZID=America/Chicago:20251222T133000
DTEND;TZID=America/Chicago:20251222T143000
DTSTAMP:20260419T104601
CREATED:20251125T163610Z
LAST-MODIFIED:20251222T013605Z
UID:10002161-1766410200-1766413800@carverridgeseniorliving.com
SUMMARY:Christmas Carol music BINGO w/Jenna
DESCRIPTION:
URL:https://carverridgeseniorliving.com/event-calendar/christmas-carol-music-bingo-w-jenna/
LOCATION:Bistro
CATEGORIES:Senior Living
END:VEVENT
BEGIN:VEVENT
DTSTART;TZID=America/Chicago:20251222T140000
DTEND;TZID=America/Chicago:20251222T150000
DTSTAMP:20260419T104601
CREATED:20251123T165110Z
LAST-MODIFIED:20251222T015108Z
UID:10002142-1766412000-1766415600@carverridgeseniorliving.com
SUMMARY:Monday Movie Matinee
DESCRIPTION:
URL:https://carverridgeseniorliving.com/event-calendar/monday-movie-matinee-31/
LOCATION:Piano Lounge
CATEGORIES:Legacy Court
END:VEVENT
END:VCALENDAR