BEGIN:VCALENDAR
VERSION:2.0
PRODID:-//Carver Ridge Senior Living - ECPv6.11.2.1//NONSGML v1.0//EN
CALSCALE:GREGORIAN
METHOD:PUBLISH
X-WR-CALNAME:Carver Ridge Senior Living
X-ORIGINAL-URL:https://carverridgeseniorliving.com
X-WR-CALDESC:Events for Carver Ridge Senior Living
REFRESH-INTERVAL;VALUE=DURATION:PT1H
X-Robots-Tag:noindex
X-PUBLISHED-TTL:PT1H
BEGIN:VTIMEZONE
TZID:America/Chicago
BEGIN:DAYLIGHT
TZOFFSETFROM:-0600
TZOFFSETTO:-0500
TZNAME:CDT
DTSTART:20250309T080000
END:DAYLIGHT
BEGIN:STANDARD
TZOFFSETFROM:-0500
TZOFFSETTO:-0600
TZNAME:CST
DTSTART:20251102T070000
END:STANDARD
END:VTIMEZONE
BEGIN:VEVENT
DTSTART;TZID=America/Chicago:20251223T100000
DTEND;TZID=America/Chicago:20251223T110000
DTSTAMP:20260419T104418
CREATED:20251123T163611Z
LAST-MODIFIED:20251223T013606Z
UID:10002140-1766484000-1766487600@carverridgeseniorliving.com
SUMMARY:Coffee and Conversation w/Carol
DESCRIPTION:
URL:https://carverridgeseniorliving.com/event-calendar/coffee-and-conversation-w-carol-8/
LOCATION:Bistro
CATEGORIES:Senior Living
END:VEVENT
BEGIN:VEVENT
DTSTART;TZID=America/Chicago:20251223T110000
DTEND;TZID=America/Chicago:20251223T113000
DTSTAMP:20260419T104418
CREATED:20251124T163607Z
LAST-MODIFIED:20251223T013606Z
UID:10002143-1766487600-1766489400@carverridgeseniorliving.com
SUMMARY:Chair Yoga
DESCRIPTION:
URL:https://carverridgeseniorliving.com/event-calendar/chair-yoga-47/
LOCATION:Community Room
CATEGORIES:Senior Living
END:VEVENT
BEGIN:VEVENT
DTSTART;TZID=America/Chicago:20251223T110000
DTEND;TZID=America/Chicago:20251223T120000
DTSTAMP:20260419T104418
CREATED:20251124T165128Z
LAST-MODIFIED:20251223T020605Z
UID:10002146-1766487600-1766491200@carverridgeseniorliving.com
SUMMARY:Worship w/Chaplain Carol
DESCRIPTION:
URL:https://carverridgeseniorliving.com/event-calendar/worship-w-chaplain-carol-8/
LOCATION:LC Piano Lounge
CATEGORIES:Legacy Court
END:VEVENT
BEGIN:VEVENT
DTSTART;TZID=America/Chicago:20251223T113000
DTEND;TZID=America/Chicago:20251223T123000
DTSTAMP:20260419T104418
CREATED:20251124T165128Z
LAST-MODIFIED:20251223T020605Z
UID:10002147-1766489400-1766493000@carverridgeseniorliving.com
SUMMARY:Guess the Christmas Word
DESCRIPTION:
URL:https://carverridgeseniorliving.com/event-calendar/chair-yoga-48/
CATEGORIES:Legacy Court
END:VEVENT
BEGIN:VEVENT
DTSTART;TZID=America/Chicago:20251223T133000
DTEND;TZID=America/Chicago:20251223T143000
DTSTAMP:20260419T104418
CREATED:20251124T165128Z
LAST-MODIFIED:20251223T020605Z
UID:10002148-1766496600-1766500200@carverridgeseniorliving.com
SUMMARY:BINGO!
DESCRIPTION:
URL:https://carverridgeseniorliving.com/event-calendar/bingo-77/
LOCATION:LC Dining Room
CATEGORIES:Legacy Court
END:VEVENT
BEGIN:VEVENT
DTSTART;TZID=America/Chicago:20251223T150000
DTEND;TZID=America/Chicago:20251223T160000
DTSTAMP:20260419T104418
CREATED:20251124T163607Z
LAST-MODIFIED:20251223T013606Z
UID:10002144-1766502000-1766505600@carverridgeseniorliving.com
SUMMARY:BINGO
DESCRIPTION:
URL:https://carverridgeseniorliving.com/event-calendar/bingo-76/
LOCATION:Bistro
CATEGORIES:Senior Living
END:VEVENT
BEGIN:VEVENT
DTSTART;TZID=America/Chicago:20251223T150000
DTEND;TZID=America/Chicago:20251223T160000
DTSTAMP:20260419T104418
CREATED:20251124T165128Z
LAST-MODIFIED:20251223T020605Z
UID:10002149-1766502000-1766505600@carverridgeseniorliving.com
SUMMARY:Michael Buble: Home for Christmas
DESCRIPTION:
URL:https://carverridgeseniorliving.com/event-calendar/nacho-average-tuesday-13/
LOCATION:LC Dining Room
CATEGORIES:Legacy Court
END:VEVENT
END:VCALENDAR