BEGIN:VCALENDAR
VERSION:2.0
PRODID:-//Carver Ridge Senior Living - ECPv6.11.2.1//NONSGML v1.0//EN
CALSCALE:GREGORIAN
METHOD:PUBLISH
X-ORIGINAL-URL:https://carverridgeseniorliving.com
X-WR-CALDESC:Events for Carver Ridge Senior Living
REFRESH-INTERVAL;VALUE=DURATION:PT1H
X-Robots-Tag:noindex
X-PUBLISHED-TTL:PT1H
BEGIN:VTIMEZONE
TZID:America/Chicago
BEGIN:DAYLIGHT
TZOFFSETFROM:-0600
TZOFFSETTO:-0500
TZNAME:CDT
DTSTART:20250309T080000
END:DAYLIGHT
BEGIN:STANDARD
TZOFFSETFROM:-0500
TZOFFSETTO:-0600
TZNAME:CST
DTSTART:20251102T070000
END:STANDARD
END:VTIMEZONE
BEGIN:VEVENT
DTSTART;TZID=America/Chicago:20251225T100000
DTEND;TZID=America/Chicago:20251225T110000
DTSTAMP:20260419T104622
CREATED:20251128T122120Z
LAST-MODIFIED:20251225T022108Z
UID:10002175-1766656800-1766660400@carverridgeseniorliving.com
SUMMARY:Short Stories from Reminisce books
DESCRIPTION:
URL:https://carverridgeseniorliving.com/event-calendar/gratitude-attitude-devotions-13/
LOCATION:LC Dining Room
CATEGORIES:Legacy Court
END:VEVENT
BEGIN:VEVENT
DTSTART;TZID=America/Chicago:20251225T100000
DTEND;TZID=America/Chicago:20251225T113000
DTSTAMP:20260419T104622
CREATED:20251125T163611Z
LAST-MODIFIED:20251223T013606Z
UID:10002166-1766656800-1766662200@carverridgeseniorliving.com
SUMMARY:Catholic Mass w/Guardian Angels Fr. Tony
DESCRIPTION:
URL:https://carverridgeseniorliving.com/event-calendar/catholic-mass-w-guardian-angels-fr-tony-8/
LOCATION:Community Room
CATEGORIES:Senior Living
END:VEVENT
BEGIN:VEVENT
DTSTART;TZID=America/Chicago:20251225T110000
DTEND;TZID=America/Chicago:20251225T113000
DTSTAMP:20260419T104622
CREATED:20251128T122134Z
LAST-MODIFIED:20251225T015105Z
UID:10002190-1766660400-1766662200@carverridgeseniorliving.com
SUMMARY:Bean Bag Toss w/Amanda
DESCRIPTION:
URL:https://carverridgeseniorliving.com/event-calendar/bean-bag-toss-w-jenna-30/
LOCATION:Community Room
CATEGORIES:Senior Living
END:VEVENT
BEGIN:VEVENT
DTSTART;TZID=America/Chicago:20251225T130000
DTEND;TZID=America/Chicago:20251225T170000
DTSTAMP:20260419T104622
CREATED:20251128T122134Z
LAST-MODIFIED:20251225T015105Z
UID:10002191-1766667600-1766682000@carverridgeseniorliving.com
SUMMARY:Movie Matinee: "It's a Wonderful Life"
DESCRIPTION:
URL:https://carverridgeseniorliving.com/event-calendar/open-craftroom-time-7/
LOCATION:Pub
CATEGORIES:Senior Living
END:VEVENT
BEGIN:VEVENT
DTSTART;TZID=America/Chicago:20251225T133000
DTEND;TZID=America/Chicago:20251225T143000
DTSTAMP:20260419T104622
CREATED:20251128T122120Z
LAST-MODIFIED:20251225T022108Z
UID:10002176-1766669400-1766673000@carverridgeseniorliving.com
SUMMARY:Musical Moments: Frank Sinatra
DESCRIPTION:
URL:https://carverridgeseniorliving.com/event-calendar/musical-moments-frank-sinatra-13/
LOCATION:LC Dining Room
CATEGORIES:Legacy Court
END:VEVENT
BEGIN:VEVENT
DTSTART;TZID=America/Chicago:20251225T150000
DTEND;TZID=America/Chicago:20251225T160000
DTSTAMP:20260419T104622
CREATED:20251128T122120Z
LAST-MODIFIED:20251225T022108Z
UID:10002177-1766674800-1766678400@carverridgeseniorliving.com
SUMMARY:Pumpkin Pie social w/musical Moments (The Carpenters: A Christmas Portrait)
DESCRIPTION:
URL:https://carverridgeseniorliving.com/event-calendar/color-me-happy-16/
LOCATION:LC Dining Room
CATEGORIES:Legacy Court
END:VEVENT
END:VCALENDAR