BEGIN:VCALENDAR
VERSION:2.0
PRODID:-//Carver Ridge Senior Living - ECPv6.11.2.1//NONSGML v1.0//EN
CALSCALE:GREGORIAN
METHOD:PUBLISH
X-ORIGINAL-URL:https://carverridgeseniorliving.com
X-WR-CALDESC:Events for Carver Ridge Senior Living
REFRESH-INTERVAL;VALUE=DURATION:PT1H
X-Robots-Tag:noindex
X-PUBLISHED-TTL:PT1H
BEGIN:VTIMEZONE
TZID:America/Chicago
BEGIN:DAYLIGHT
TZOFFSETFROM:-0600
TZOFFSETTO:-0500
TZNAME:CDT
DTSTART:20260308T080000
END:DAYLIGHT
BEGIN:STANDARD
TZOFFSETFROM:-0500
TZOFFSETTO:-0600
TZNAME:CST
DTSTART:20261101T070000
END:STANDARD
END:VTIMEZONE
BEGIN:VEVENT
DTSTART;TZID=America/Chicago:20260101T100000
DTEND;TZID=America/Chicago:20260101T110000
DTSTAMP:20260419T104525
CREATED:20251203T003639Z
LAST-MODIFIED:20260101T025102Z
UID:10002244-1767261600-1767265200@carverridgeseniorliving.com
SUMMARY:News and views of the new year
DESCRIPTION:
URL:https://carverridgeseniorliving.com/event-calendar/cranium-cafe-7/
LOCATION:LC Dining Room
CATEGORIES:Legacy Court
END:VEVENT
BEGIN:VEVENT
DTSTART;TZID=America/Chicago:20260101T110000
DTEND;TZID=America/Chicago:20260101T113000
DTSTAMP:20260419T104525
CREATED:20251203T000619Z
LAST-MODIFIED:20260101T023613Z
UID:10002241-1767265200-1767267000@carverridgeseniorliving.com
SUMMARY:Bean Bag Toss w/Yvonna
DESCRIPTION:
URL:https://carverridgeseniorliving.com/event-calendar/bean-bag-toss-w-jenna-31/
LOCATION:Community Room
CATEGORIES:Senior Living
END:VEVENT
BEGIN:VEVENT
DTSTART;TZID=America/Chicago:20260101T113000
DTEND;TZID=America/Chicago:20260101T123000
DTSTAMP:20260419T104525
CREATED:20260101T025101Z
LAST-MODIFIED:20260101T025102Z
UID:10002484-1767267000-1767270600@carverridgeseniorliving.com
SUMMARY:Resolutions & Reflections
DESCRIPTION:
URL:https://carverridgeseniorliving.com/event-calendar/resolutions-reflections/
LOCATION:LC Dining Room
CATEGORIES:Legacy Court
END:VEVENT
BEGIN:VEVENT
DTSTART;TZID=America/Chicago:20260101T130000
DTEND;TZID=America/Chicago:20260101T140000
DTSTAMP:20260419T104525
CREATED:20251203T003639Z
LAST-MODIFIED:20260101T025102Z
UID:10002245-1767272400-1767276000@carverridgeseniorliving.com
SUMMARY:Musical Moments: Wonderful World of Disney
DESCRIPTION:
URL:https://carverridgeseniorliving.com/event-calendar/musical-moments-frank-sinatra-14/
LOCATION:LC Piano Lounge
CATEGORIES:Legacy Court
END:VEVENT
BEGIN:VEVENT
DTSTART;TZID=America/Chicago:20260101T130000
DTEND;TZID=America/Chicago:20260101T170000
DTSTAMP:20260419T104525
CREATED:20251203T000619Z
LAST-MODIFIED:20251230T022108Z
UID:10002242-1767272400-1767286800@carverridgeseniorliving.com
SUMMARY:Open Craftroom Time
DESCRIPTION:
URL:https://carverridgeseniorliving.com/event-calendar/open-craftroom-time-8/
LOCATION:Craftroom
CATEGORIES:Senior Living
END:VEVENT
BEGIN:VEVENT
DTSTART;TZID=America/Chicago:20260101T133000
DTEND;TZID=America/Chicago:20260101T143000
DTSTAMP:20260419T104525
CREATED:20251231T022111Z
LAST-MODIFIED:20260101T023613Z
UID:10002447-1767274200-1767277800@carverridgeseniorliving.com
SUMMARY:Rose Bowl Parade 2026 rerun with Popcorn
DESCRIPTION:
URL:https://carverridgeseniorliving.com/event-calendar/rose-bowl-parade-2026-rerun-with-popcorn/
LOCATION:Pub
CATEGORIES:Senior Living
END:VEVENT
BEGIN:VEVENT
DTSTART;TZID=America/Chicago:20260101T150000
DTEND;TZID=America/Chicago:20260101T160000
DTSTAMP:20260419T104525
CREATED:20251203T003639Z
LAST-MODIFIED:20260101T025102Z
UID:10002246-1767279600-1767283200@carverridgeseniorliving.com
SUMMARY:Color Me Happy
DESCRIPTION:
URL:https://carverridgeseniorliving.com/event-calendar/color-me-happy-17/
LOCATION:LC Dining Room
CATEGORIES:Legacy Court
END:VEVENT
BEGIN:VEVENT
DTSTART;TZID=America/Chicago:20260101T180000
DTEND;TZID=America/Chicago:20260101T190000
DTSTAMP:20260419T104525
CREATED:20251203T000619Z
LAST-MODIFIED:20251230T022108Z
UID:10002243-1767290400-1767294000@carverridgeseniorliving.com
SUMMARY:Conversing w/Oliver and Jack
DESCRIPTION:
URL:https://carverridgeseniorliving.com/event-calendar/conversing-w-oliver-and-jack-12/
LOCATION:Bistro
CATEGORIES:Senior Living
END:VEVENT
END:VCALENDAR