BEGIN:VCALENDAR
VERSION:2.0
PRODID:-//Carver Ridge Senior Living - ECPv6.11.2.1//NONSGML v1.0//EN
CALSCALE:GREGORIAN
METHOD:PUBLISH
X-WR-CALNAME:Carver Ridge Senior Living
X-ORIGINAL-URL:https://carverridgeseniorliving.com
X-WR-CALDESC:Events for Carver Ridge Senior Living
REFRESH-INTERVAL;VALUE=DURATION:PT1H
X-Robots-Tag:noindex
X-PUBLISHED-TTL:PT1H
BEGIN:VTIMEZONE
TZID:America/Chicago
BEGIN:DAYLIGHT
TZOFFSETFROM:-0600
TZOFFSETTO:-0500
TZNAME:CDT
DTSTART:20260308T080000
END:DAYLIGHT
BEGIN:STANDARD
TZOFFSETFROM:-0500
TZOFFSETTO:-0600
TZNAME:CST
DTSTART:20261101T070000
END:STANDARD
END:VTIMEZONE
BEGIN:VEVENT
DTSTART;TZID=America/Chicago:20260103T093000
DTEND;TZID=America/Chicago:20260103T094500
DTSTAMP:20260419T104404
CREATED:20251205T003607Z
LAST-MODIFIED:20260103T030610Z
UID:10002257-1767432600-1767433500@carverridgeseniorliving.com
SUMMARY:News and Views
DESCRIPTION:
URL:https://carverridgeseniorliving.com/event-calendar/news-and-views-68/
CATEGORIES:Legacy Court
END:VEVENT
BEGIN:VEVENT
DTSTART;TZID=America/Chicago:20260103T100000
DTEND;TZID=America/Chicago:20260103T104500
DTSTAMP:20260419T104404
CREATED:20251205T000612Z
LAST-MODIFIED:20260103T025145Z
UID:10002252-1767434400-1767437100@carverridgeseniorliving.com
SUMMARY:Coffee Social
DESCRIPTION:Come gather in the bistro for fresh coffee and conversation with your neighbors.
URL:https://carverridgeseniorliving.com/event-calendar/coffee-social-65/
LOCATION:Bistro
CATEGORIES:Senior Living
END:VEVENT
BEGIN:VEVENT
DTSTART;TZID=America/Chicago:20260103T100000
DTEND;TZID=America/Chicago:20260103T110000
DTSTAMP:20260419T104404
CREATED:20251205T003607Z
LAST-MODIFIED:20260103T030610Z
UID:10002258-1767434400-1767438000@carverridgeseniorliving.com
SUMMARY:Balloonball w/Amanda
DESCRIPTION:
URL:https://carverridgeseniorliving.com/event-calendar/balloonball-w-amanda-17/
LOCATION:Piano Lounge
CATEGORIES:Legacy Court
END:VEVENT
BEGIN:VEVENT
DTSTART;TZID=America/Chicago:20260103T103000
DTEND;TZID=America/Chicago:20260103T113000
DTSTAMP:20260419T104404
CREATED:20251205T000613Z
LAST-MODIFIED:20260103T025145Z
UID:10002253-1767436200-1767439800@carverridgeseniorliving.com
SUMMARY:The Bond Between Pet Visits! - Jana and Nala
DESCRIPTION:
URL:https://carverridgeseniorliving.com/event-calendar/the-bond-between-pet-visits-jana-and-nala-3/
LOCATION:Bistro
CATEGORIES:Senior Living
END:VEVENT
BEGIN:VEVENT
DTSTART;TZID=America/Chicago:20260103T110000
DTEND;TZID=America/Chicago:20260103T113000
DTSTAMP:20260419T104404
CREATED:20251205T000613Z
LAST-MODIFIED:20260103T025145Z
UID:10002254-1767438000-1767439800@carverridgeseniorliving.com
SUMMARY:Bean Bag Toss w/Amanda
DESCRIPTION:
URL:https://carverridgeseniorliving.com/event-calendar/bean-bag-toss-w-amanda-20/
LOCATION:Community Room
CATEGORIES:Senior Living
END:VEVENT
BEGIN:VEVENT
DTSTART;TZID=America/Chicago:20260103T110000
DTEND;TZID=America/Chicago:20260103T120000
DTSTAMP:20260419T104404
CREATED:20251205T003607Z
LAST-MODIFIED:20260103T030610Z
UID:10002259-1767438000-1767441600@carverridgeseniorliving.com
SUMMARY:The Bond Between visits! - Jana and Nala
DESCRIPTION:
URL:https://carverridgeseniorliving.com/event-calendar/the-bond-between-visits-jana-and-nala-3/
LOCATION:LC Dining Room
CATEGORIES:Legacy Court
END:VEVENT
BEGIN:VEVENT
DTSTART;TZID=America/Chicago:20260103T133000
DTEND;TZID=America/Chicago:20260103T143000
DTSTAMP:20260419T104404
CREATED:20251205T000613Z
LAST-MODIFIED:20260103T025145Z
UID:10002255-1767447000-1767450600@carverridgeseniorliving.com
SUMMARY:Bingo w/Amanda
DESCRIPTION:
URL:https://carverridgeseniorliving.com/event-calendar/bingo-w-amanda-18/
LOCATION:Bistro
CATEGORIES:Senior Living
END:VEVENT
BEGIN:VEVENT
DTSTART;TZID=America/Chicago:20260103T133000
DTEND;TZID=America/Chicago:20260103T143000
DTSTAMP:20260419T104404
CREATED:20251205T003608Z
LAST-MODIFIED:20260103T030610Z
UID:10002260-1767447000-1767450600@carverridgeseniorliving.com
SUMMARY:HHAs led Manicures and Hand Massage
DESCRIPTION:
URL:https://carverridgeseniorliving.com/event-calendar/hhas-led-manicures-and-hand-massage-34/
LOCATION:Dining Room
CATEGORIES:Legacy Court
END:VEVENT
BEGIN:VEVENT
DTSTART;TZID=America/Chicago:20260103T150000
DTEND;TZID=America/Chicago:20260103T153000
DTSTAMP:20260419T104404
CREATED:20251205T000613Z
LAST-MODIFIED:20260103T025145Z
UID:10002256-1767452400-1767454200@carverridgeseniorliving.com
SUMMARY:BYOB Social Hour
DESCRIPTION:
URL:https://carverridgeseniorliving.com/event-calendar/byob-social-hour-34/
LOCATION:Pub
CATEGORIES:Senior Living
END:VEVENT
BEGIN:VEVENT
DTSTART;TZID=America/Chicago:20260103T150000
DTEND;TZID=America/Chicago:20260103T160000
DTSTAMP:20260419T104404
CREATED:20251205T003608Z
LAST-MODIFIED:20260103T030610Z
UID:10002261-1767452400-1767456000@carverridgeseniorliving.com
SUMMARY:Saturday social time
DESCRIPTION:
URL:https://carverridgeseniorliving.com/event-calendar/saturday-social-time-28/
LOCATION:LC Dining Room
CATEGORIES:Legacy Court
END:VEVENT
END:VCALENDAR