BEGIN:VCALENDAR
VERSION:2.0
PRODID:-//Carver Ridge Senior Living - ECPv6.11.2.1//NONSGML v1.0//EN
CALSCALE:GREGORIAN
METHOD:PUBLISH
X-WR-CALNAME:Carver Ridge Senior Living
X-ORIGINAL-URL:https://carverridgeseniorliving.com
X-WR-CALDESC:Events for Carver Ridge Senior Living
REFRESH-INTERVAL;VALUE=DURATION:PT1H
X-Robots-Tag:noindex
X-PUBLISHED-TTL:PT1H
BEGIN:VTIMEZONE
TZID:America/Chicago
BEGIN:DAYLIGHT
TZOFFSETFROM:-0600
TZOFFSETTO:-0500
TZNAME:CDT
DTSTART:20260308T080000
END:DAYLIGHT
BEGIN:STANDARD
TZOFFSETFROM:-0500
TZOFFSETTO:-0600
TZNAME:CST
DTSTART:20261101T070000
END:STANDARD
END:VTIMEZONE
BEGIN:VEVENT
DTSTART;TZID=America/Chicago:20260112T100000
DTEND;TZID=America/Chicago:20260112T110000
DTSTAMP:20260420T000629
CREATED:20251214T005133Z
LAST-MODIFIED:20260112T032106Z
UID:10002318-1768212000-1768215600@carverridgeseniorliving.com
SUMMARY:Wheel of Fortune w/Jenna
DESCRIPTION:
URL:https://carverridgeseniorliving.com/event-calendar/cranium-cafe-w-jenna-31/
LOCATION:Bistro
CATEGORIES:Senior Living
END:VEVENT
BEGIN:VEVENT
DTSTART;TZID=America/Chicago:20260112T103000
DTEND;TZID=America/Chicago:20260112T113000
DTSTAMP:20260420T000629
CREATED:20251214T010623Z
LAST-MODIFIED:20260112T033626Z
UID:10002320-1768213800-1768217400@carverridgeseniorliving.com
SUMMARY:History Makers (Dolly Parton)
DESCRIPTION:
URL:https://carverridgeseniorliving.com/event-calendar/gratitude-attitude-devotions-18/
CATEGORIES:Legacy Court
END:VEVENT
BEGIN:VEVENT
DTSTART;TZID=America/Chicago:20260112T110000
DTEND;TZID=America/Chicago:20260112T113000
DTSTAMP:20260420T000629
CREATED:20251214T005133Z
LAST-MODIFIED:20260112T032106Z
UID:10002319-1768215600-1768217400@carverridgeseniorliving.com
SUMMARY:Stretch and Strength
DESCRIPTION:
URL:https://carverridgeseniorliving.com/event-calendar/stretch-and-strength-69/
LOCATION:Community Room
CATEGORIES:Senior Living
END:VEVENT
BEGIN:VEVENT
DTSTART;TZID=America/Chicago:20260112T113000
DTEND;TZID=America/Chicago:20260112T123000
DTSTAMP:20260420T000629
CREATED:20251214T010623Z
LAST-MODIFIED:20260112T033626Z
UID:10002321-1768217400-1768221000@carverridgeseniorliving.com
SUMMARY:Short Stories
DESCRIPTION:
URL:https://carverridgeseniorliving.com/event-calendar/gratitude-attitude-devotions-19/
LOCATION:LC Dining Room
CATEGORIES:Legacy Court
END:VEVENT
BEGIN:VEVENT
DTSTART;TZID=America/Chicago:20260112T130000
DTEND;TZID=America/Chicago:20260112T140000
DTSTAMP:20260420T000629
CREATED:20260101T023613Z
LAST-MODIFIED:20260112T032106Z
UID:10002465-1768222800-1768226400@carverridgeseniorliving.com
SUMMARY:TRYathlon Captain and Coach Meeting
DESCRIPTION:
URL:https://carverridgeseniorliving.com/event-calendar/tryathlon-captain-and-coach-meeting/
LOCATION:Community Room
CATEGORIES:Senior Living
END:VEVENT
BEGIN:VEVENT
DTSTART;TZID=America/Chicago:20260112T140000
DTEND;TZID=America/Chicago:20260112T150000
DTSTAMP:20260420T000629
CREATED:20251214T010623Z
LAST-MODIFIED:20260112T033626Z
UID:10002322-1768226400-1768230000@carverridgeseniorliving.com
SUMMARY:Monday Movie Matinee
DESCRIPTION:
URL:https://carverridgeseniorliving.com/event-calendar/monday-movie-matinee-34/
LOCATION:Piano Lounge
CATEGORIES:Legacy Court
END:VEVENT
BEGIN:VEVENT
DTSTART;TZID=America/Chicago:20260112T150000
DTEND;TZID=America/Chicago:20260112T160000
DTSTAMP:20260420T000629
CREATED:20251231T022113Z
LAST-MODIFIED:20251231T022113Z
UID:10002452-1768230000-1768233600@carverridgeseniorliving.com
SUMMARY:Orchestral Evolution - learn about stringed instruments!
DESCRIPTION:
URL:https://carverridgeseniorliving.com/event-calendar/orchestral-evolution-learn-about-stringed-instruments/
LOCATION:Bistro
CATEGORIES:Senior Living
END:VEVENT
BEGIN:VEVENT
DTSTART;TZID=America/Chicago:20260112T150000
DTEND;TZID=America/Chicago:20260112T160000
DTSTAMP:20260420T000629
CREATED:20260101T023613Z
LAST-MODIFIED:20260112T032106Z
UID:10002466-1768230000-1768233600@carverridgeseniorliving.com
SUMMARY:BINGO
DESCRIPTION:
URL:https://carverridgeseniorliving.com/event-calendar/bingo-91/
LOCATION:Bistro
CATEGORIES:Senior Living
END:VEVENT
END:VCALENDAR