BEGIN:VCALENDAR
VERSION:2.0
PRODID:-//Carver Ridge Senior Living - ECPv6.11.2.1//NONSGML v1.0//EN
CALSCALE:GREGORIAN
METHOD:PUBLISH
X-WR-CALNAME:Carver Ridge Senior Living
X-ORIGINAL-URL:https://carverridgeseniorliving.com
X-WR-CALDESC:Events for Carver Ridge Senior Living
REFRESH-INTERVAL;VALUE=DURATION:PT1H
X-Robots-Tag:noindex
X-PUBLISHED-TTL:PT1H
BEGIN:VTIMEZONE
TZID:America/Chicago
BEGIN:DAYLIGHT
TZOFFSETFROM:-0600
TZOFFSETTO:-0500
TZNAME:CDT
DTSTART:20260308T080000
END:DAYLIGHT
BEGIN:STANDARD
TZOFFSETFROM:-0500
TZOFFSETTO:-0600
TZNAME:CST
DTSTART:20261101T070000
END:STANDARD
END:VTIMEZONE
BEGIN:VEVENT
DTSTART;TZID=America/Chicago:20260113T100000
DTEND;TZID=America/Chicago:20260113T110000
DTSTAMP:20260420T012455
CREATED:20251215T010609Z
LAST-MODIFIED:20260113T032117Z
UID:10002323-1768298400-1768302000@carverridgeseniorliving.com
SUMMARY:Show and Share w/Carol
DESCRIPTION:
URL:https://carverridgeseniorliving.com/event-calendar/show-and-share-w-carol-9/
LOCATION:Bistro
CATEGORIES:Senior Living
END:VEVENT
BEGIN:VEVENT
DTSTART;TZID=America/Chicago:20260113T110000
DTEND;TZID=America/Chicago:20260113T113000
DTSTAMP:20260420T012455
CREATED:20251215T010609Z
LAST-MODIFIED:20260113T032117Z
UID:10002324-1768302000-1768303800@carverridgeseniorliving.com
SUMMARY:Chair Yoga
DESCRIPTION:
URL:https://carverridgeseniorliving.com/event-calendar/chair-yoga-52/
LOCATION:Community Room
CATEGORIES:Senior Living
END:VEVENT
BEGIN:VEVENT
DTSTART;TZID=America/Chicago:20260113T110000
DTEND;TZID=America/Chicago:20260113T120000
DTSTAMP:20260420T012456
CREATED:20251215T012159Z
LAST-MODIFIED:20260113T035125Z
UID:10002326-1768302000-1768305600@carverridgeseniorliving.com
SUMMARY:Worship w/Chaplain Carol
DESCRIPTION:
URL:https://carverridgeseniorliving.com/event-calendar/worship-w-chaplain-carol-11/
LOCATION:LC Piano Lounge
CATEGORIES:Legacy Court
END:VEVENT
BEGIN:VEVENT
DTSTART;TZID=America/Chicago:20260113T113000
DTEND;TZID=America/Chicago:20260113T123000
DTSTAMP:20260420T012456
CREATED:20251215T012159Z
LAST-MODIFIED:20260113T035125Z
UID:10002327-1768303800-1768307400@carverridgeseniorliving.com
SUMMARY:Artist Spotlight
DESCRIPTION:
URL:https://carverridgeseniorliving.com/event-calendar/chair-yoga-53/
CATEGORIES:Legacy Court
END:VEVENT
BEGIN:VEVENT
DTSTART;TZID=America/Chicago:20260113T124500
DTEND;TZID=America/Chicago:20260113T134500
DTSTAMP:20260420T012456
CREATED:20251223T013611Z
LAST-MODIFIED:20260113T032117Z
UID:10002379-1768308300-1768311900@carverridgeseniorliving.com
SUMMARY:TRYathlon: Wizzer Challenge (walking)
DESCRIPTION:
URL:https://carverridgeseniorliving.com/event-calendar/tryathlon-wizzer-challenge-walking/
LOCATION:Pub
CATEGORIES:Senior Living
END:VEVENT
BEGIN:VEVENT
DTSTART;TZID=America/Chicago:20260113T133000
DTEND;TZID=America/Chicago:20260113T143000
DTSTAMP:20260420T012456
CREATED:20251215T012159Z
LAST-MODIFIED:20260113T035125Z
UID:10002328-1768311000-1768314600@carverridgeseniorliving.com
SUMMARY:BINGO!
DESCRIPTION:
URL:https://carverridgeseniorliving.com/event-calendar/bingo-85/
LOCATION:LC Dining Room
CATEGORIES:Legacy Court
END:VEVENT
BEGIN:VEVENT
DTSTART;TZID=America/Chicago:20260113T150000
DTEND;TZID=America/Chicago:20260113T160000
DTSTAMP:20260420T012456
CREATED:20251215T010609Z
LAST-MODIFIED:20251231T022113Z
UID:10002325-1768316400-1768320000@carverridgeseniorliving.com
SUMMARY:BINGO
DESCRIPTION:
URL:https://carverridgeseniorliving.com/event-calendar/bingo-84/
LOCATION:Bistro
CATEGORIES:Senior Living
END:VEVENT
BEGIN:VEVENT
DTSTART;TZID=America/Chicago:20260113T150000
DTEND;TZID=America/Chicago:20260113T160000
DTSTAMP:20260420T012456
CREATED:20251215T012159Z
LAST-MODIFIED:20260113T035125Z
UID:10002329-1768316400-1768320000@carverridgeseniorliving.com
SUMMARY:Cranium Café
DESCRIPTION:
URL:https://carverridgeseniorliving.com/event-calendar/nacho-average-tuesday-15/
LOCATION:LC Dining Room
CATEGORIES:Legacy Court
END:VEVENT
BEGIN:VEVENT
DTSTART;TZID=America/Chicago:20260113T150000
DTEND;TZID=America/Chicago:20260113T160000
DTSTAMP:20260420T012456
CREATED:20260101T023613Z
LAST-MODIFIED:20260113T032117Z
UID:10002467-1768316400-1768320000@carverridgeseniorliving.com
SUMMARY:Maria G. Memorial Service
DESCRIPTION:
URL:https://carverridgeseniorliving.com/event-calendar/maria-g-memorial-service/
LOCATION:Community Room
CATEGORIES:Senior Living
END:VEVENT
END:VCALENDAR