BEGIN:VCALENDAR
VERSION:2.0
PRODID:-//Carver Ridge Senior Living - ECPv6.11.2.1//NONSGML v1.0//EN
CALSCALE:GREGORIAN
METHOD:PUBLISH
X-WR-CALNAME:Carver Ridge Senior Living
X-ORIGINAL-URL:https://carverridgeseniorliving.com
X-WR-CALDESC:Events for Carver Ridge Senior Living
REFRESH-INTERVAL;VALUE=DURATION:PT1H
X-Robots-Tag:noindex
X-PUBLISHED-TTL:PT1H
BEGIN:VTIMEZONE
TZID:America/Chicago
BEGIN:DAYLIGHT
TZOFFSETFROM:-0600
TZOFFSETTO:-0500
TZNAME:CDT
DTSTART:20260308T080000
END:DAYLIGHT
BEGIN:STANDARD
TZOFFSETFROM:-0500
TZOFFSETTO:-0600
TZNAME:CST
DTSTART:20261101T070000
END:STANDARD
END:VTIMEZONE
BEGIN:VEVENT
DTSTART;TZID=America/Chicago:20260114T100000
DTEND;TZID=America/Chicago:20260114T110000
DTSTAMP:20260420T025900
CREATED:20251216T010624Z
LAST-MODIFIED:20260114T032104Z
UID:10002330-1768384800-1768388400@carverridgeseniorliving.com
SUMMARY:Coffee and Conversation with Kyle and Laurie
DESCRIPTION:
URL:https://carverridgeseniorliving.com/event-calendar/coffee-and-conversation-with-kyle-and-laurie-17/
LOCATION:Bistro
CATEGORIES:Senior Living
END:VEVENT
BEGIN:VEVENT
DTSTART;TZID=America/Chicago:20260114T100000
DTEND;TZID=America/Chicago:20260114T110000
DTSTAMP:20260420T025900
CREATED:20251216T012118Z
LAST-MODIFIED:20260114T035109Z
UID:10002334-1768384800-1768388400@carverridgeseniorliving.com
SUMMARY:Music with Bryant
DESCRIPTION:
URL:https://carverridgeseniorliving.com/event-calendar/music-with-bryant-37/
LOCATION:Piano Lounge
CATEGORIES:Legacy Court
END:VEVENT
BEGIN:VEVENT
DTSTART;TZID=America/Chicago:20260114T110000
DTEND;TZID=America/Chicago:20260114T113000
DTSTAMP:20260420T025900
CREATED:20251216T010624Z
LAST-MODIFIED:20251230T022109Z
UID:10002331-1768388400-1768390200@carverridgeseniorliving.com
SUMMARY:Stretch and Strength
DESCRIPTION:
URL:https://carverridgeseniorliving.com/event-calendar/stretch-and-strength-70/
LOCATION:Community Room
CATEGORIES:Senior Living
END:VEVENT
BEGIN:VEVENT
DTSTART;TZID=America/Chicago:20260114T110000
DTEND;TZID=America/Chicago:20260114T113000
DTSTAMP:20260420T025900
CREATED:20251231T022113Z
LAST-MODIFIED:20260114T032104Z
UID:10002453-1768388400-1768390200@carverridgeseniorliving.com
SUMMARY:Bean Bag Toss w/Amanda
DESCRIPTION:
URL:https://carverridgeseniorliving.com/event-calendar/bean-bag-toss-w-amanda-24/
LOCATION:Community Room
CATEGORIES:Senior Living
END:VEVENT
BEGIN:VEVENT
DTSTART;TZID=America/Chicago:20260114T110000
DTEND;TZID=America/Chicago:20260114T120000
DTSTAMP:20260420T025900
CREATED:20251216T012118Z
LAST-MODIFIED:20260114T035109Z
UID:10002335-1768388400-1768392000@carverridgeseniorliving.com
SUMMARY:Mood Videos
DESCRIPTION:
URL:https://carverridgeseniorliving.com/event-calendar/senior-fitness-8/
LOCATION:Piano Lounge
CATEGORIES:Legacy Court
END:VEVENT
BEGIN:VEVENT
DTSTART;TZID=America/Chicago:20260114T133000
DTEND;TZID=America/Chicago:20260114T134500
DTSTAMP:20260420T025900
CREATED:20251216T010624Z
LAST-MODIFIED:20260114T032104Z
UID:10002332-1768397400-1768398300@carverridgeseniorliving.com
SUMMARY:Catholic Communion with St. Victoria
DESCRIPTION:Receive Catholic Communion from volunteers from St. Victoria Church in Victoria.
URL:https://carverridgeseniorliving.com/event-calendar/catholic-communion-with-st-victoria-36/
LOCATION:Salon
CATEGORIES:Senior Living
END:VEVENT
BEGIN:VEVENT
DTSTART;TZID=America/Chicago:20260114T133000
DTEND;TZID=America/Chicago:20260114T143000
DTSTAMP:20260420T025900
CREATED:20251216T012118Z
LAST-MODIFIED:20260114T035109Z
UID:10002336-1768397400-1768401000@carverridgeseniorliving.com
SUMMARY:Finish the Line Trivia
DESCRIPTION:
URL:https://carverridgeseniorliving.com/event-calendar/competition-corner-9/
LOCATION:LC Dining Room
CATEGORIES:Legacy Court
END:VEVENT
BEGIN:VEVENT
DTSTART;TZID=America/Chicago:20260114T141500
DTEND;TZID=America/Chicago:20260114T151500
DTSTAMP:20260420T025900
CREATED:20251223T013611Z
LAST-MODIFIED:20260114T032104Z
UID:10002380-1768400100-1768403700@carverridgeseniorliving.com
SUMMARY:$$$ Shopping at Target - Sign up in Binder
DESCRIPTION:
URL:https://carverridgeseniorliving.com/event-calendar/shopping-at-target-sign-up-in-binder-2/
CATEGORIES:Senior Living
END:VEVENT
BEGIN:VEVENT
DTSTART;TZID=America/Chicago:20260114T143000
DTEND;TZID=America/Chicago:20260114T153000
DTSTAMP:20260420T025900
CREATED:20251216T012118Z
LAST-MODIFIED:20260114T035109Z
UID:10002337-1768401000-1768404600@carverridgeseniorliving.com
SUMMARY:Kooky Canines
DESCRIPTION:
URL:https://carverridgeseniorliving.com/event-calendar/kindness-corner-25/
LOCATION:LC Piano Lounge
CATEGORIES:Legacy Court
END:VEVENT
BEGIN:VEVENT
DTSTART;TZID=America/Chicago:20260114T180000
DTEND;TZID=America/Chicago:20260114T190000
DTSTAMP:20260420T025900
CREATED:20251216T010624Z
LAST-MODIFIED:20251216T010624Z
UID:10002333-1768413600-1768417200@carverridgeseniorliving.com
SUMMARY:Bible Study with Tom Turner
DESCRIPTION:
URL:https://carverridgeseniorliving.com/event-calendar/bible-study-with-tom-turner-9/
LOCATION:Pub
CATEGORIES:Senior Living
END:VEVENT
BEGIN:VEVENT
DTSTART;TZID=America/Chicago:20260114T180000
DTEND;TZID=America/Chicago:20260114T190000
DTSTAMP:20260420T025900
CREATED:20260114T032103Z
LAST-MODIFIED:20260114T032104Z
UID:10002573-1768413600-1768417200@carverridgeseniorliving.com
SUMMARY:Conversations w/Oliver and Jack
DESCRIPTION:
URL:https://carverridgeseniorliving.com/event-calendar/conversations-w-oliver-and-jack-2/
LOCATION:Bistro
CATEGORIES:Senior Living
END:VEVENT
END:VCALENDAR