BEGIN:VCALENDAR
VERSION:2.0
PRODID:-//Carver Ridge Senior Living - ECPv6.11.2.1//NONSGML v1.0//EN
CALSCALE:GREGORIAN
METHOD:PUBLISH
X-WR-CALNAME:Carver Ridge Senior Living
X-ORIGINAL-URL:https://carverridgeseniorliving.com
X-WR-CALDESC:Events for Carver Ridge Senior Living
REFRESH-INTERVAL;VALUE=DURATION:PT1H
X-Robots-Tag:noindex
X-PUBLISHED-TTL:PT1H
BEGIN:VTIMEZONE
TZID:America/Chicago
BEGIN:DAYLIGHT
TZOFFSETFROM:-0600
TZOFFSETTO:-0500
TZNAME:CDT
DTSTART:20260308T080000
END:DAYLIGHT
BEGIN:STANDARD
TZOFFSETFROM:-0500
TZOFFSETTO:-0600
TZNAME:CST
DTSTART:20261101T070000
END:STANDARD
END:VTIMEZONE
BEGIN:VEVENT
DTSTART;TZID=America/Chicago:20260209T100000
DTEND;TZID=America/Chicago:20260209T110000
DTSTAMP:20260425T163243
CREATED:20260111T032114Z
LAST-MODIFIED:20260209T043604Z
UID:10002552-1770631200-1770634800@carverridgeseniorliving.com
SUMMARY:Hangman w/Amanda
DESCRIPTION:
URL:https://carverridgeseniorliving.com/event-calendar/cranium-cafe-w-jenna-34/
LOCATION:Bistro
CATEGORIES:Senior Living
END:VEVENT
BEGIN:VEVENT
DTSTART;TZID=America/Chicago:20260209T103000
DTEND;TZID=America/Chicago:20260209T113000
DTSTAMP:20260425T163243
CREATED:20260111T033619Z
LAST-MODIFIED:20260131T045119Z
UID:10002554-1770633000-1770636600@carverridgeseniorliving.com
SUMMARY:Gratitude Attitude Devotions
DESCRIPTION:
URL:https://carverridgeseniorliving.com/event-calendar/gratitude-attitude-devotions-28/
CATEGORIES:Legacy Court
END:VEVENT
BEGIN:VEVENT
DTSTART;TZID=America/Chicago:20260209T110000
DTEND;TZID=America/Chicago:20260209T113000
DTSTAMP:20260425T163243
CREATED:20260111T032114Z
LAST-MODIFIED:20260209T043605Z
UID:10002553-1770634800-1770636600@carverridgeseniorliving.com
SUMMARY:Stretch and Strength
DESCRIPTION:
URL:https://carverridgeseniorliving.com/event-calendar/stretch-and-strength-81/
LOCATION:Community Room
CATEGORIES:Senior Living
END:VEVENT
BEGIN:VEVENT
DTSTART;TZID=America/Chicago:20260209T110000
DTEND;TZID=America/Chicago:20260209T120000
DTSTAMP:20260425T163243
CREATED:20260111T033619Z
LAST-MODIFIED:20260209T045104Z
UID:10002555-1770634800-1770638400@carverridgeseniorliving.com
SUMMARY:Bingo
DESCRIPTION:
URL:https://carverridgeseniorliving.com/event-calendar/gratitude-attitude-devotions-29/
LOCATION:LC Dining Room
CATEGORIES:Legacy Court
END:VEVENT
BEGIN:VEVENT
DTSTART;TZID=America/Chicago:20260209T120000
DTEND;TZID=America/Chicago:20260209T130000
DTSTAMP:20260425T163243
CREATED:20260201T045104Z
LAST-MODIFIED:20260209T045105Z
UID:10002745-1770638400-1770642000@carverridgeseniorliving.com
SUMMARY:Oshibori
DESCRIPTION:
URL:https://carverridgeseniorliving.com/event-calendar/oshibori-9/
LOCATION:LC Dining Room
CATEGORIES:Legacy Court
END:VEVENT
BEGIN:VEVENT
DTSTART;TZID=America/Chicago:20260209T133000
DTEND;TZID=America/Chicago:20260209T143000
DTSTAMP:20260425T163243
CREATED:20260201T042105Z
LAST-MODIFIED:20260209T043605Z
UID:10002713-1770643800-1770647400@carverridgeseniorliving.com
SUMMARY:Who\, What\, Where? w/Amanda
DESCRIPTION:
URL:https://carverridgeseniorliving.com/event-calendar/who-what-where-w-amanda/
LOCATION:Bistro
CATEGORIES:Senior Living
END:VEVENT
BEGIN:VEVENT
DTSTART;TZID=America/Chicago:20260209T140000
DTEND;TZID=America/Chicago:20260209T150000
DTSTAMP:20260425T163243
CREATED:20260111T033619Z
LAST-MODIFIED:20260209T045105Z
UID:10002556-1770645600-1770649200@carverridgeseniorliving.com
SUMMARY:Monday Movie Matinee
DESCRIPTION:
URL:https://carverridgeseniorliving.com/event-calendar/monday-movie-matinee-38/
LOCATION:Piano Lounge
CATEGORIES:Legacy Court
END:VEVENT
BEGIN:VEVENT
DTSTART;TZID=America/Chicago:20260209T150000
DTEND;TZID=America/Chicago:20260209T160000
DTSTAMP:20260425T163243
CREATED:20260201T042105Z
LAST-MODIFIED:20260209T043605Z
UID:10002714-1770649200-1770652800@carverridgeseniorliving.com
SUMMARY:Delightful Dessert Social - Sweet Potato Pie
DESCRIPTION:
URL:https://carverridgeseniorliving.com/event-calendar/delightful-dessert-social-sweet-potato-pie/
LOCATION:Pub
CATEGORIES:Senior Living
END:VEVENT
BEGIN:VEVENT
DTSTART;TZID=America/Chicago:20260209T153000
DTEND;TZID=America/Chicago:20260209T163000
DTSTAMP:20260425T163243
CREATED:20260201T045104Z
LAST-MODIFIED:20260209T045105Z
UID:10002746-1770651000-1770654600@carverridgeseniorliving.com
SUMMARY:Color Me Happy
DESCRIPTION:
URL:https://carverridgeseniorliving.com/event-calendar/color-me-happy-27/
LOCATION:LC Dining Room
CATEGORIES:Legacy Court
END:VEVENT
BEGIN:VEVENT
DTSTART;TZID=America/Chicago:20260209T183000
DTEND;TZID=America/Chicago:20260209T193000
DTSTAMP:20260425T163243
CREATED:20260201T045104Z
LAST-MODIFIED:20260209T045105Z
UID:10002747-1770661800-1770665400@carverridgeseniorliving.com
SUMMARY:HHA Led Game show viewing hour!
DESCRIPTION:
URL:https://carverridgeseniorliving.com/event-calendar/hha-led-game-show-viewing-hour-9/
LOCATION:Piano Lounge
CATEGORIES:Legacy Court
END:VEVENT
END:VCALENDAR