BEGIN:VCALENDAR
VERSION:2.0
PRODID:-//Carver Ridge Senior Living - ECPv6.11.2.1//NONSGML v1.0//EN
CALSCALE:GREGORIAN
METHOD:PUBLISH
X-ORIGINAL-URL:https://carverridgeseniorliving.com
X-WR-CALDESC:Events for Carver Ridge Senior Living
REFRESH-INTERVAL;VALUE=DURATION:PT1H
X-Robots-Tag:noindex
X-PUBLISHED-TTL:PT1H
BEGIN:VTIMEZONE
TZID:America/Chicago
BEGIN:DAYLIGHT
TZOFFSETFROM:-0600
TZOFFSETTO:-0500
TZNAME:CDT
DTSTART:20260308T080000
END:DAYLIGHT
BEGIN:STANDARD
TZOFFSETFROM:-0500
TZOFFSETTO:-0600
TZNAME:CST
DTSTART:20261101T070000
END:STANDARD
END:VTIMEZONE
BEGIN:VEVENT
DTSTART;TZID=America/Chicago:20260210T100000
DTEND;TZID=America/Chicago:20260210T110000
DTSTAMP:20260425T163341
CREATED:20260112T032111Z
LAST-MODIFIED:20260210T043609Z
UID:10002557-1770717600-1770721200@carverridgeseniorliving.com
SUMMARY:Show and Share w/Carol
DESCRIPTION:
URL:https://carverridgeseniorliving.com/event-calendar/show-and-share-w-carol-10/
LOCATION:Bistro
CATEGORIES:Senior Living
END:VEVENT
BEGIN:VEVENT
DTSTART;TZID=America/Chicago:20260210T110000
DTEND;TZID=America/Chicago:20260210T113000
DTSTAMP:20260425T163341
CREATED:20260112T032111Z
LAST-MODIFIED:20260210T043609Z
UID:10002558-1770721200-1770723000@carverridgeseniorliving.com
SUMMARY:Chair Yoga
DESCRIPTION:
URL:https://carverridgeseniorliving.com/event-calendar/chair-yoga-60/
LOCATION:Community Room
CATEGORIES:Senior Living
END:VEVENT
BEGIN:VEVENT
DTSTART;TZID=America/Chicago:20260210T110000
DTEND;TZID=America/Chicago:20260210T120000
DTSTAMP:20260425T163341
CREATED:20260112T033636Z
LAST-MODIFIED:20260210T050608Z
UID:10002562-1770721200-1770724800@carverridgeseniorliving.com
SUMMARY:Worship w/Chaplain Carol
DESCRIPTION:
URL:https://carverridgeseniorliving.com/event-calendar/worship-w-chaplain-carol-15/
LOCATION:LC Piano Lounge
CATEGORIES:Legacy Court
END:VEVENT
BEGIN:VEVENT
DTSTART;TZID=America/Chicago:20260210T113000
DTEND;TZID=America/Chicago:20260210T123000
DTSTAMP:20260425T163341
CREATED:20260112T033636Z
LAST-MODIFIED:20260210T050608Z
UID:10002563-1770723000-1770726600@carverridgeseniorliving.com
SUMMARY:Stretch it Out
DESCRIPTION:
URL:https://carverridgeseniorliving.com/event-calendar/chair-yoga-61/
CATEGORIES:Legacy Court
END:VEVENT
BEGIN:VEVENT
DTSTART;TZID=America/Chicago:20260210T120000
DTEND;TZID=America/Chicago:20260210T130000
DTSTAMP:20260425T163341
CREATED:20260201T045104Z
LAST-MODIFIED:20260210T050608Z
UID:10002748-1770724800-1770728400@carverridgeseniorliving.com
SUMMARY:Oshibori
DESCRIPTION:
URL:https://carverridgeseniorliving.com/event-calendar/oshibori-10/
LOCATION:LC Dining Room
CATEGORIES:Legacy Court
END:VEVENT
BEGIN:VEVENT
DTSTART;TZID=America/Chicago:20260210T124500
DTEND;TZID=America/Chicago:20260210T134500
DTSTAMP:20260425T163341
CREATED:20260112T032111Z
LAST-MODIFIED:20260210T043609Z
UID:10002559-1770727500-1770731100@carverridgeseniorliving.com
SUMMARY:TRYathlon: Wizzer Challenge (walking)
DESCRIPTION:
URL:https://carverridgeseniorliving.com/event-calendar/tryathlon-wizzer-challenge-walking-5/
LOCATION:Pub
CATEGORIES:Senior Living
END:VEVENT
BEGIN:VEVENT
DTSTART;TZID=America/Chicago:20260210T133000
DTEND;TZID=America/Chicago:20260210T143000
DTSTAMP:20260425T163341
CREATED:20260112T033636Z
LAST-MODIFIED:20260131T045119Z
UID:10002564-1770730200-1770733800@carverridgeseniorliving.com
SUMMARY:BINGO!
DESCRIPTION:
URL:https://carverridgeseniorliving.com/event-calendar/bingo-96/
LOCATION:LC Dining Room
CATEGORIES:Legacy Court
END:VEVENT
BEGIN:VEVENT
DTSTART;TZID=America/Chicago:20260210T133000
DTEND;TZID=America/Chicago:20260210T143000
DTSTAMP:20260425T163341
CREATED:20260210T050608Z
LAST-MODIFIED:20260210T050608Z
UID:10002884-1770730200-1770733800@carverridgeseniorliving.com
SUMMARY:Bean Bag Toss
DESCRIPTION:
URL:https://carverridgeseniorliving.com/event-calendar/bean-bag-toss-22/
LOCATION:LC Piano Lounge
CATEGORIES:Legacy Court
END:VEVENT
BEGIN:VEVENT
DTSTART;TZID=America/Chicago:20260210T133000
DTEND;TZID=America/Chicago:20260210T143000
DTSTAMP:20260425T163341
CREATED:20260210T050609Z
LAST-MODIFIED:20260210T050609Z
UID:10002883-1770730200-1770733800@carverridgeseniorliving.com
SUMMARY:Bean Bag Toss
DESCRIPTION:
URL:https://carverridgeseniorliving.com/event-calendar/bean-bag-toss-23/
LOCATION:LC Piano Lounge
CATEGORIES:Legacy Court
END:VEVENT
BEGIN:VEVENT
DTSTART;TZID=America/Chicago:20260210T150000
DTEND;TZID=America/Chicago:20260210T160000
DTSTAMP:20260425T163341
CREATED:20260112T032111Z
LAST-MODIFIED:20260210T043609Z
UID:10002560-1770735600-1770739200@carverridgeseniorliving.com
SUMMARY:BINGO
DESCRIPTION:
URL:https://carverridgeseniorliving.com/event-calendar/bingo-95/
LOCATION:Bistro
CATEGORIES:Senior Living
END:VEVENT
BEGIN:VEVENT
DTSTART;TZID=America/Chicago:20260210T150000
DTEND;TZID=America/Chicago:20260210T160000
DTSTAMP:20260425T163341
CREATED:20260112T033636Z
LAST-MODIFIED:20260210T050609Z
UID:10002565-1770735600-1770739200@carverridgeseniorliving.com
SUMMARY:Cupid's arrow mocktail and valentine's cards
DESCRIPTION:
URL:https://carverridgeseniorliving.com/event-calendar/nacho-average-tuesday-19/
LOCATION:LC Dining Room
CATEGORIES:Legacy Court
END:VEVENT
BEGIN:VEVENT
DTSTART;TZID=America/Chicago:20260210T170000
DTEND;TZID=America/Chicago:20260210T180000
DTSTAMP:20260425T163341
CREATED:20260112T032111Z
LAST-MODIFIED:20260131T042105Z
UID:10002561-1770742800-1770746400@carverridgeseniorliving.com
SUMMARY:The Dinner Den w/Jenna - Sign up in Binder
DESCRIPTION:
URL:https://carverridgeseniorliving.com/event-calendar/the-dinner-den-w-jenna-sign-up-in-binder-7/
LOCATION:Bistro
CATEGORIES:Senior Living
END:VEVENT
BEGIN:VEVENT
DTSTART;TZID=America/Chicago:20260210T180000
DTEND;TZID=America/Chicago:20260210T190000
DTSTAMP:20260425T163341
CREATED:20260124T035119Z
LAST-MODIFIED:20260210T043610Z
UID:10002647-1770746400-1770750000@carverridgeseniorliving.com
SUMMARY:Community Cribbage Night
DESCRIPTION:
URL:https://carverridgeseniorliving.com/event-calendar/community-cribbage-night-3/
LOCATION:Bistro
CATEGORIES:Senior Living
END:VEVENT
BEGIN:VEVENT
DTSTART;TZID=America/Chicago:20260210T183000
DTEND;TZID=America/Chicago:20260210T193000
DTSTAMP:20260425T163341
CREATED:20260201T045104Z
LAST-MODIFIED:20260210T050610Z
UID:10002749-1770748200-1770751800@carverridgeseniorliving.com
SUMMARY:HHA Led Game show viewing hour!
DESCRIPTION:
URL:https://carverridgeseniorliving.com/event-calendar/hha-led-game-show-viewing-hour-10/
LOCATION:Piano Lounge
CATEGORIES:Legacy Court
END:VEVENT
END:VCALENDAR