BEGIN:VCALENDAR
VERSION:2.0
PRODID:-//Carver Ridge Senior Living - ECPv6.11.2.1//NONSGML v1.0//EN
CALSCALE:GREGORIAN
METHOD:PUBLISH
X-WR-CALNAME:Carver Ridge Senior Living
X-ORIGINAL-URL:https://carverridgeseniorliving.com
X-WR-CALDESC:Events for Carver Ridge Senior Living
REFRESH-INTERVAL;VALUE=DURATION:PT1H
X-Robots-Tag:noindex
X-PUBLISHED-TTL:PT1H
BEGIN:VTIMEZONE
TZID:America/Chicago
BEGIN:DAYLIGHT
TZOFFSETFROM:-0600
TZOFFSETTO:-0500
TZNAME:CDT
DTSTART:20260308T080000
END:DAYLIGHT
BEGIN:STANDARD
TZOFFSETFROM:-0500
TZOFFSETTO:-0600
TZNAME:CST
DTSTART:20261101T070000
END:STANDARD
END:VTIMEZONE
BEGIN:VEVENT
DTSTART;TZID=America/Chicago:20260211T100000
DTEND;TZID=America/Chicago:20260211T110000
DTSTAMP:20260425T163333
CREATED:20260113T032124Z
LAST-MODIFIED:20260211T045106Z
UID:10002566-1770804000-1770807600@carverridgeseniorliving.com
SUMMARY:Coffee and Conversation with Kyle and Laurie
DESCRIPTION:
URL:https://carverridgeseniorliving.com/event-calendar/coffee-and-conversation-with-kyle-and-laurie-21/
LOCATION:Bistro
CATEGORIES:Senior Living
END:VEVENT
BEGIN:VEVENT
DTSTART;TZID=America/Chicago:20260211T100000
DTEND;TZID=America/Chicago:20260211T110000
DTSTAMP:20260425T163333
CREATED:20260113T035131Z
LAST-MODIFIED:20260211T050611Z
UID:10002569-1770804000-1770807600@carverridgeseniorliving.com
SUMMARY:Music with Bryant
DESCRIPTION:
URL:https://carverridgeseniorliving.com/event-calendar/music-with-bryant-41/
LOCATION:Piano Lounge
CATEGORIES:Legacy Court
END:VEVENT
BEGIN:VEVENT
DTSTART;TZID=America/Chicago:20260211T110000
DTEND;TZID=America/Chicago:20260211T113000
DTSTAMP:20260425T163333
CREATED:20260113T032124Z
LAST-MODIFIED:20260211T045106Z
UID:10002567-1770807600-1770809400@carverridgeseniorliving.com
SUMMARY:Bean Bag Toss w/Amanda
DESCRIPTION:
URL:https://carverridgeseniorliving.com/event-calendar/bean-bag-toss-w-jenna-39/
LOCATION:Community Room
CATEGORIES:Senior Living
END:VEVENT
BEGIN:VEVENT
DTSTART;TZID=America/Chicago:20260211T110000
DTEND;TZID=America/Chicago:20260211T120000
DTSTAMP:20260425T163333
CREATED:20260113T035131Z
LAST-MODIFIED:20260211T050612Z
UID:10002570-1770807600-1770811200@carverridgeseniorliving.com
SUMMARY:Balloonball
DESCRIPTION:
URL:https://carverridgeseniorliving.com/event-calendar/senior-fitness-12/
LOCATION:Piano Lounge
CATEGORIES:Legacy Court
END:VEVENT
BEGIN:VEVENT
DTSTART;TZID=America/Chicago:20260211T120000
DTEND;TZID=America/Chicago:20260211T130000
DTSTAMP:20260425T163333
CREATED:20260201T045104Z
LAST-MODIFIED:20260211T050612Z
UID:10002750-1770811200-1770814800@carverridgeseniorliving.com
SUMMARY:Oshibori
DESCRIPTION:
URL:https://carverridgeseniorliving.com/event-calendar/oshibori-11/
LOCATION:LC Dining Room
CATEGORIES:Legacy Court
END:VEVENT
BEGIN:VEVENT
DTSTART;TZID=America/Chicago:20260211T133000
DTEND;TZID=America/Chicago:20260211T134500
DTSTAMP:20260425T163333
CREATED:20260113T032124Z
LAST-MODIFIED:20260211T045107Z
UID:10002568-1770816600-1770817500@carverridgeseniorliving.com
SUMMARY:Catholic Communion with St. Victoria
DESCRIPTION:Receive Catholic Communion from volunteers from St. Victoria Church in Victoria.
URL:https://carverridgeseniorliving.com/event-calendar/catholic-communion-with-st-victoria-40/
LOCATION:Salon
CATEGORIES:Senior Living
END:VEVENT
BEGIN:VEVENT
DTSTART;TZID=America/Chicago:20260211T133000
DTEND;TZID=America/Chicago:20260211T143000
DTSTAMP:20260425T163333
CREATED:20260113T035131Z
LAST-MODIFIED:20260209T045118Z
UID:10002571-1770816600-1770820200@carverridgeseniorliving.com
SUMMARY:Memory Cafe
DESCRIPTION:
URL:https://carverridgeseniorliving.com/event-calendar/competition-corner-13/
LOCATION:LC Piano Lounge
CATEGORIES:Legacy Court
END:VEVENT
BEGIN:VEVENT
DTSTART;TZID=America/Chicago:20260211T133000
DTEND;TZID=America/Chicago:20260211T143000
DTSTAMP:20260425T163333
CREATED:20260128T042109Z
LAST-MODIFIED:20260211T045106Z
UID:10002679-1770816600-1770820200@carverridgeseniorliving.com
SUMMARY:Outing to Arboretum Indoor Flower Show - Sign up in Binder
DESCRIPTION:
URL:https://carverridgeseniorliving.com/event-calendar/outing-to-arboretum-indoor-flower-show-sign-up-in-binder/
CATEGORIES:Senior Living
END:VEVENT
BEGIN:VEVENT
DTSTART;TZID=America/Chicago:20260211T134500
DTEND;TZID=America/Chicago:20260211T144500
DTSTAMP:20260425T163333
CREATED:20260201T045105Z
LAST-MODIFIED:20260211T050612Z
UID:10002751-1770817500-1770821100@carverridgeseniorliving.com
SUMMARY:Catholic Communion Delivery
DESCRIPTION:
URL:https://carverridgeseniorliving.com/event-calendar/catholic-communion-delivery-19/
LOCATION:Piano Lounge
CATEGORIES:Legacy Court
END:VEVENT
BEGIN:VEVENT
DTSTART;TZID=America/Chicago:20260211T150000
DTEND;TZID=America/Chicago:20260211T160000
DTSTAMP:20260425T163333
CREATED:20260113T035131Z
LAST-MODIFIED:20260209T045119Z
UID:10002572-1770822000-1770825600@carverridgeseniorliving.com
SUMMARY:Kindness Corner
DESCRIPTION:
URL:https://carverridgeseniorliving.com/event-calendar/kindness-corner-29/
LOCATION:LC Dining Room
CATEGORIES:Legacy Court
END:VEVENT
BEGIN:VEVENT
DTSTART;TZID=America/Chicago:20260211T180000
DTEND;TZID=America/Chicago:20260211T190000
DTSTAMP:20260425T163333
CREATED:20260123T035111Z
LAST-MODIFIED:20260211T045107Z
UID:10002634-1770832800-1770836400@carverridgeseniorliving.com
SUMMARY:Non Denominational Bible Study w/Tom Turner
DESCRIPTION:
URL:https://carverridgeseniorliving.com/event-calendar/non-denominational-bible-study-w-tom-turner-3/
LOCATION:Pub
CATEGORIES:Senior Living
END:VEVENT
BEGIN:VEVENT
DTSTART;TZID=America/Chicago:20260211T183000
DTEND;TZID=America/Chicago:20260211T193000
DTSTAMP:20260425T163333
CREATED:20260201T045105Z
LAST-MODIFIED:20260211T050612Z
UID:10002752-1770834600-1770838200@carverridgeseniorliving.com
SUMMARY:HHA Led Game show viewing hour!
DESCRIPTION:
URL:https://carverridgeseniorliving.com/event-calendar/hha-led-game-show-viewing-hour-11/
LOCATION:Piano Lounge
CATEGORIES:Legacy Court
END:VEVENT
END:VCALENDAR