BEGIN:VCALENDAR
VERSION:2.0
PRODID:-//Carver Ridge Senior Living - ECPv6.11.2.1//NONSGML v1.0//EN
CALSCALE:GREGORIAN
METHOD:PUBLISH
X-ORIGINAL-URL:https://carverridgeseniorliving.com
X-WR-CALDESC:Events for Carver Ridge Senior Living
REFRESH-INTERVAL;VALUE=DURATION:PT1H
X-Robots-Tag:noindex
X-PUBLISHED-TTL:PT1H
BEGIN:VTIMEZONE
TZID:America/Chicago
BEGIN:DAYLIGHT
TZOFFSETFROM:-0600
TZOFFSETTO:-0500
TZNAME:CDT
DTSTART:20260308T080000
END:DAYLIGHT
BEGIN:STANDARD
TZOFFSETFROM:-0500
TZOFFSETTO:-0600
TZNAME:CST
DTSTART:20261101T070000
END:STANDARD
END:VTIMEZONE
BEGIN:VEVENT
DTSTART;TZID=America/Chicago:20260214T100000
DTEND;TZID=America/Chicago:20260214T104500
DTSTAMP:20260425T163341
CREATED:20260116T032118Z
LAST-MODIFIED:20260214T045113Z
UID:10002586-1771063200-1771065900@carverridgeseniorliving.com
SUMMARY:Coffee Social
DESCRIPTION:Come gather in the bistro for fresh coffee and conversation with your neighbors.
URL:https://carverridgeseniorliving.com/event-calendar/coffee-social-77/
LOCATION:Bistro
CATEGORIES:Senior Living
END:VEVENT
BEGIN:VEVENT
DTSTART;TZID=America/Chicago:20260214T100000
DTEND;TZID=America/Chicago:20260214T110000
DTSTAMP:20260425T163341
CREATED:20260116T040617Z
LAST-MODIFIED:20260214T053611Z
UID:10002591-1771063200-1771066800@carverridgeseniorliving.com
SUMMARY:Heart Treat Social
DESCRIPTION:
URL:https://carverridgeseniorliving.com/event-calendar/balloonball-w-amanda-20/
LOCATION:Piano Lounge
CATEGORIES:Legacy Court
END:VEVENT
BEGIN:VEVENT
DTSTART;TZID=America/Chicago:20260214T110000
DTEND;TZID=America/Chicago:20260214T113000
DTSTAMP:20260425T163341
CREATED:20260116T032118Z
LAST-MODIFIED:20260214T045113Z
UID:10002587-1771066800-1771068600@carverridgeseniorliving.com
SUMMARY:Bean Bag Toss w/Jessica
DESCRIPTION:
URL:https://carverridgeseniorliving.com/event-calendar/bean-bag-toss-w-jessica-2/
LOCATION:Community Room
CATEGORIES:Senior Living
END:VEVENT
BEGIN:VEVENT
DTSTART;TZID=America/Chicago:20260214T120000
DTEND;TZID=America/Chicago:20260214T130000
DTSTAMP:20260425T163341
CREATED:20260201T045105Z
LAST-MODIFIED:20260214T053612Z
UID:10002758-1771070400-1771074000@carverridgeseniorliving.com
SUMMARY:Oshibori
DESCRIPTION:
URL:https://carverridgeseniorliving.com/event-calendar/oshibori-14/
LOCATION:LC Dining Room
CATEGORIES:Legacy Court
END:VEVENT
BEGIN:VEVENT
DTSTART;TZID=America/Chicago:20260214T133000
DTEND;TZID=America/Chicago:20260214T143000
DTSTAMP:20260425T163341
CREATED:20260116T032118Z
LAST-MODIFIED:20260214T045114Z
UID:10002588-1771075800-1771079400@carverridgeseniorliving.com
SUMMARY:Bingo w/Jessica
DESCRIPTION:
URL:https://carverridgeseniorliving.com/event-calendar/bingo-w-jessica-2/
LOCATION:Bistro
CATEGORIES:Senior Living
END:VEVENT
BEGIN:VEVENT
DTSTART;TZID=America/Chicago:20260214T133000
DTEND;TZID=America/Chicago:20260214T143000
DTSTAMP:20260425T163341
CREATED:20260116T040618Z
LAST-MODIFIED:20260214T053612Z
UID:10002592-1771075800-1771079400@carverridgeseniorliving.com
SUMMARY:HHAs led Manicures and Hand Massage
DESCRIPTION:
URL:https://carverridgeseniorliving.com/event-calendar/hhas-led-manicures-and-hand-massage-40/
LOCATION:Dining Room
CATEGORIES:Legacy Court
END:VEVENT
BEGIN:VEVENT
DTSTART;TZID=America/Chicago:20260214T150000
DTEND;TZID=America/Chicago:20260214T153000
DTSTAMP:20260425T163341
CREATED:20260116T032118Z
LAST-MODIFIED:20260214T045114Z
UID:10002589-1771081200-1771083000@carverridgeseniorliving.com
SUMMARY:BYOB Social Hour
DESCRIPTION:
URL:https://carverridgeseniorliving.com/event-calendar/byob-social-hour-40/
LOCATION:Pub
CATEGORIES:Senior Living
END:VEVENT
BEGIN:VEVENT
DTSTART;TZID=America/Chicago:20260214T150000
DTEND;TZID=America/Chicago:20260214T160000
DTSTAMP:20260425T163341
CREATED:20260116T040618Z
LAST-MODIFIED:20260214T053612Z
UID:10002593-1771081200-1771084800@carverridgeseniorliving.com
SUMMARY:Harmony from the Heart
DESCRIPTION:
URL:https://carverridgeseniorliving.com/event-calendar/saturday-social-time-34/
LOCATION:LC Dining Room
CATEGORIES:Legacy Court
END:VEVENT
BEGIN:VEVENT
DTSTART;TZID=America/Chicago:20260214T163000
DTEND;TZID=America/Chicago:20260214T173000
DTSTAMP:20260425T163341
CREATED:20260116T032118Z
LAST-MODIFIED:20260214T045115Z
UID:10002590-1771086600-1771090200@carverridgeseniorliving.com
SUMMARY:Piano Music by Rohan and Neeva
DESCRIPTION:
URL:https://carverridgeseniorliving.com/event-calendar/piano-music-by-rohan-and-neeva-9/
LOCATION:Dining Room
CATEGORIES:Senior Living
END:VEVENT
BEGIN:VEVENT
DTSTART;TZID=America/Chicago:20260214T183000
DTEND;TZID=America/Chicago:20260214T193000
DTSTAMP:20260425T163341
CREATED:20260201T045105Z
LAST-MODIFIED:20260214T053613Z
UID:10002759-1771093800-1771097400@carverridgeseniorliving.com
SUMMARY:HHA Led Game show viewing hour!
DESCRIPTION:
URL:https://carverridgeseniorliving.com/event-calendar/hha-led-game-show-viewing-hour-14/
LOCATION:Piano Lounge
CATEGORIES:Legacy Court
END:VEVENT
END:VCALENDAR