BEGIN:VCALENDAR
VERSION:2.0
PRODID:-//Carver Ridge Senior Living - ECPv6.11.2.1//NONSGML v1.0//EN
CALSCALE:GREGORIAN
METHOD:PUBLISH
X-WR-CALNAME:Carver Ridge Senior Living
X-ORIGINAL-URL:https://carverridgeseniorliving.com
X-WR-CALDESC:Events for Carver Ridge Senior Living
REFRESH-INTERVAL;VALUE=DURATION:PT1H
X-Robots-Tag:noindex
X-PUBLISHED-TTL:PT1H
BEGIN:VTIMEZONE
TZID:America/Chicago
BEGIN:DAYLIGHT
TZOFFSETFROM:-0600
TZOFFSETTO:-0500
TZNAME:CDT
DTSTART:20260308T080000
END:DAYLIGHT
BEGIN:STANDARD
TZOFFSETFROM:-0500
TZOFFSETTO:-0600
TZNAME:CST
DTSTART:20261101T070000
END:STANDARD
END:VTIMEZONE
BEGIN:VEVENT
DTSTART;TZID=America/Chicago:20260422T100000
DTEND;TZID=America/Chicago:20260422T110000
DTSTAMP:20260422T044910
CREATED:20260324T095121Z
LAST-MODIFIED:20260421T180606Z
UID:10003312-1776852000-1776855600@carverridgeseniorliving.com
SUMMARY:Music with Bryant
DESCRIPTION:
URL:https://carverridgeseniorliving.com/event-calendar/music-with-bryant-51/
LOCATION:Piano Lounge
CATEGORIES:Legacy Court
END:VEVENT
BEGIN:VEVENT
DTSTART;TZID=America/Chicago:20260422T100000
DTEND;TZID=America/Chicago:20260422T110000
DTSTAMP:20260422T044910
CREATED:20260401T133713Z
LAST-MODIFIED:20260401T133713Z
UID:10003422-1776852000-1776855600@carverridgeseniorliving.com
SUMMARY:Coffee and Conversation with Kyle and Laurie
DESCRIPTION:
URL:https://carverridgeseniorliving.com/event-calendar/coffee-and-conversation-with-kyle-and-laurie-31/
LOCATION:Bistro
CATEGORIES:Senior Living
END:VEVENT
BEGIN:VEVENT
DTSTART;TZID=America/Chicago:20260422T110000
DTEND;TZID=America/Chicago:20260422T113000
DTSTAMP:20260422T044910
CREATED:20260401T133713Z
LAST-MODIFIED:20260401T133713Z
UID:10003423-1776855600-1776857400@carverridgeseniorliving.com
SUMMARY:Bean Bag Toss
DESCRIPTION:
URL:https://carverridgeseniorliving.com/event-calendar/bean-bag-toss-34/
LOCATION:Community Room
CATEGORIES:Senior Living
END:VEVENT
BEGIN:VEVENT
DTSTART;TZID=America/Chicago:20260422T110000
DTEND;TZID=America/Chicago:20260422T120000
DTSTAMP:20260422T044910
CREATED:20260324T095121Z
LAST-MODIFIED:20260421T180606Z
UID:10003313-1776855600-1776859200@carverridgeseniorliving.com
SUMMARY:Senior Fitness
DESCRIPTION:
URL:https://carverridgeseniorliving.com/event-calendar/senior-fitness-22/
LOCATION:Piano Lounge
CATEGORIES:Legacy Court
END:VEVENT
BEGIN:VEVENT
DTSTART;TZID=America/Chicago:20260422T110000
DTEND;TZID=America/Chicago:20260422T120000
DTSTAMP:20260422T044910
CREATED:20260331T100628Z
LAST-MODIFIED:20260421T180606Z
UID:10003364-1776855600-1776859200@carverridgeseniorliving.com
SUMMARY:IMAX & Icees
DESCRIPTION:
URL:https://carverridgeseniorliving.com/event-calendar/imax-icees/
LOCATION:LC Piano Lounge
CATEGORIES:Legacy Court
END:VEVENT
BEGIN:VEVENT
DTSTART;TZID=America/Chicago:20260422T120000
DTEND;TZID=America/Chicago:20260422T130000
DTSTAMP:20260422T044910
CREATED:20260324T095121Z
LAST-MODIFIED:20260421T180606Z
UID:10003314-1776859200-1776862800@carverridgeseniorliving.com
SUMMARY:Oshibori
DESCRIPTION:
URL:https://carverridgeseniorliving.com/event-calendar/oshibori-81/
LOCATION:LC Dining Room
CATEGORIES:Legacy Court
END:VEVENT
BEGIN:VEVENT
DTSTART;TZID=America/Chicago:20260422T130000
DTEND;TZID=America/Chicago:20260422T140000
DTSTAMP:20260422T044910
CREATED:20260401T133713Z
LAST-MODIFIED:20260401T133713Z
UID:10003424-1776862800-1776866400@carverridgeseniorliving.com
SUMMARY:"The Chosen" Episode 8 Series Viewing
DESCRIPTION:
URL:https://carverridgeseniorliving.com/event-calendar/the-chosen-episode-8-series-viewing/
LOCATION:Pub
CATEGORIES:Senior Living
END:VEVENT
BEGIN:VEVENT
DTSTART;TZID=America/Chicago:20260422T133000
DTEND;TZID=America/Chicago:20260422T134500
DTSTAMP:20260422T044910
CREATED:20260401T133713Z
LAST-MODIFIED:20260401T133713Z
UID:10003425-1776864600-1776865500@carverridgeseniorliving.com
SUMMARY:Catholic Communion with St. Victoria
DESCRIPTION:Receive Catholic Communion from volunteers from St. Victoria Church in Victoria.
URL:https://carverridgeseniorliving.com/event-calendar/catholic-communion-with-st-victoria-50/
LOCATION:Salon
CATEGORIES:Senior Living
END:VEVENT
BEGIN:VEVENT
DTSTART;TZID=America/Chicago:20260422T133000
DTEND;TZID=America/Chicago:20260422T143000
DTSTAMP:20260422T044910
CREATED:20260331T100628Z
LAST-MODIFIED:20260421T180606Z
UID:10003365-1776864600-1776868200@carverridgeseniorliving.com
SUMMARY:Cranium Cafe
DESCRIPTION:
URL:https://carverridgeseniorliving.com/event-calendar/cranium-cafe-14/
LOCATION:LC Piano Lounge
CATEGORIES:Legacy Court
END:VEVENT
BEGIN:VEVENT
DTSTART;TZID=America/Chicago:20260422T134500
DTEND;TZID=America/Chicago:20260422T144500
DTSTAMP:20260422T044910
CREATED:20260324T095121Z
LAST-MODIFIED:20260421T180606Z
UID:10003315-1776865500-1776869100@carverridgeseniorliving.com
SUMMARY:Catholic Communion Delivery
DESCRIPTION:
URL:https://carverridgeseniorliving.com/event-calendar/catholic-communion-delivery-29/
LOCATION:Piano Lounge
CATEGORIES:Legacy Court
END:VEVENT
BEGIN:VEVENT
DTSTART;TZID=America/Chicago:20260422T150000
DTEND;TZID=America/Chicago:20260422T160000
DTSTAMP:20260422T044910
CREATED:20260324T095121Z
LAST-MODIFIED:20260421T180606Z
UID:10003316-1776870000-1776873600@carverridgeseniorliving.com
SUMMARY:Walk & Talk
DESCRIPTION:
URL:https://carverridgeseniorliving.com/event-calendar/kindness-corner-39/
LOCATION:LC Dining Room
CATEGORIES:Legacy Court
END:VEVENT
BEGIN:VEVENT
DTSTART;TZID=America/Chicago:20260422T150000
DTEND;TZID=America/Chicago:20260422T160000
DTSTAMP:20260422T044910
CREATED:20260401T133713Z
LAST-MODIFIED:20260401T133713Z
UID:10003426-1776870000-1776873600@carverridgeseniorliving.com
SUMMARY:BINGO
DESCRIPTION:
URL:https://carverridgeseniorliving.com/event-calendar/bingo-128/
LOCATION:Bistro
CATEGORIES:Senior Living
END:VEVENT
BEGIN:VEVENT
DTSTART;TZID=America/Chicago:20260422T180000
DTEND;TZID=America/Chicago:20260422T190000
DTSTAMP:20260422T044910
CREATED:20260401T133713Z
LAST-MODIFIED:20260401T133713Z
UID:10003427-1776880800-1776884400@carverridgeseniorliving.com
SUMMARY:Bible Study w/Tom Turner
DESCRIPTION:
URL:https://carverridgeseniorliving.com/event-calendar/bible-study-w-tom-turner-4/
LOCATION:Pub
CATEGORIES:Senior Living
END:VEVENT
BEGIN:VEVENT
DTSTART;TZID=America/Chicago:20260422T181000
DTEND;TZID=America/Chicago:20260422T191000
DTSTAMP:20260422T044910
CREATED:20260401T133713Z
LAST-MODIFIED:20260401T133713Z
UID:10003428-1776881400-1776885000@carverridgeseniorliving.com
SUMMARY:Twins vs. New York Mets
DESCRIPTION:
URL:https://carverridgeseniorliving.com/event-calendar/twins-vs-new-york-mets-2/
CATEGORIES:Senior Living
END:VEVENT
BEGIN:VEVENT
DTSTART;TZID=America/Chicago:20260422T183000
DTEND;TZID=America/Chicago:20260422T193000
DTSTAMP:20260422T044910
CREATED:20260324T095121Z
LAST-MODIFIED:20260331T100629Z
UID:10003317-1776882600-1776886200@carverridgeseniorliving.com
SUMMARY:HHA Led Game show viewing hour!
DESCRIPTION:
URL:https://carverridgeseniorliving.com/event-calendar/hha-led-game-show-viewing-hour-81/
LOCATION:Piano Lounge
CATEGORIES:Legacy Court
END:VEVENT
END:VCALENDAR