BEGIN:VCALENDAR
VERSION:2.0
PRODID:-//Carver Ridge Senior Living - ECPv6.11.2.1//NONSGML v1.0//EN
CALSCALE:GREGORIAN
METHOD:PUBLISH
X-WR-CALNAME:Carver Ridge Senior Living
X-ORIGINAL-URL:https://carverridgeseniorliving.com
X-WR-CALDESC:Events for Carver Ridge Senior Living
REFRESH-INTERVAL;VALUE=DURATION:PT1H
X-Robots-Tag:noindex
X-PUBLISHED-TTL:PT1H
BEGIN:VTIMEZONE
TZID:America/Chicago
BEGIN:DAYLIGHT
TZOFFSETFROM:-0600
TZOFFSETTO:-0500
TZNAME:CDT
DTSTART:20260308T080000
END:DAYLIGHT
BEGIN:STANDARD
TZOFFSETFROM:-0500
TZOFFSETTO:-0600
TZNAME:CST
DTSTART:20261101T070000
END:STANDARD
END:VTIMEZONE
BEGIN:VEVENT
DTSTART;TZID=America/Chicago:20260425T100000
DTEND;TZID=America/Chicago:20260425T104500
DTSTAMP:20260425T162630
CREATED:20260401T133714Z
LAST-MODIFIED:20260401T133714Z
UID:10003441-1777111200-1777113900@carverridgeseniorliving.com
SUMMARY:Coffee Social
DESCRIPTION:Come gather in the bistro for fresh coffee and conversation with your neighbors.
URL:https://carverridgeseniorliving.com/event-calendar/coffee-social-97/
LOCATION:Bistro
CATEGORIES:Senior Living
END:VEVENT
BEGIN:VEVENT
DTSTART;TZID=America/Chicago:20260425T100000
DTEND;TZID=America/Chicago:20260425T110000
DTSTAMP:20260425T162630
CREATED:20260327T095149Z
LAST-MODIFIED:20260424T180607Z
UID:10003330-1777111200-1777114800@carverridgeseniorliving.com
SUMMARY:Balloonball w/Amanda
DESCRIPTION:
URL:https://carverridgeseniorliving.com/event-calendar/balloonball-w-amanda-25/
LOCATION:Piano Lounge
CATEGORIES:Legacy Court
END:VEVENT
BEGIN:VEVENT
DTSTART;TZID=America/Chicago:20260425T110000
DTEND;TZID=America/Chicago:20260425T113000
DTSTAMP:20260425T162630
CREATED:20260401T133714Z
LAST-MODIFIED:20260401T133714Z
UID:10003442-1777114800-1777116600@carverridgeseniorliving.com
SUMMARY:Bean Bag Toss w/Amanda
DESCRIPTION:
URL:https://carverridgeseniorliving.com/event-calendar/bean-bag-toss-w-amanda-32/
LOCATION:Community Room
CATEGORIES:Senior Living
END:VEVENT
BEGIN:VEVENT
DTSTART;TZID=America/Chicago:20260425T120000
DTEND;TZID=America/Chicago:20260425T130000
DTSTAMP:20260425T162630
CREATED:20260327T095149Z
LAST-MODIFIED:20260424T180608Z
UID:10003331-1777118400-1777122000@carverridgeseniorliving.com
SUMMARY:Oshibori
DESCRIPTION:
URL:https://carverridgeseniorliving.com/event-calendar/oshibori-84/
LOCATION:LC Dining Room
CATEGORIES:Legacy Court
END:VEVENT
BEGIN:VEVENT
DTSTART;TZID=America/Chicago:20260425T133000
DTEND;TZID=America/Chicago:20260425T143000
DTSTAMP:20260425T162630
CREATED:20260327T095149Z
LAST-MODIFIED:20260330T100616Z
UID:10003332-1777123800-1777127400@carverridgeseniorliving.com
SUMMARY:HHAs led Manicures and Hand Massage
DESCRIPTION:
URL:https://carverridgeseniorliving.com/event-calendar/hhas-led-manicures-and-hand-massage-50/
LOCATION:Dining Room
CATEGORIES:Legacy Court
END:VEVENT
BEGIN:VEVENT
DTSTART;TZID=America/Chicago:20260425T133000
DTEND;TZID=America/Chicago:20260425T143000
DTSTAMP:20260425T162630
CREATED:20260401T133714Z
LAST-MODIFIED:20260401T133714Z
UID:10003443-1777123800-1777127400@carverridgeseniorliving.com
SUMMARY:Bingo w/Amanda
DESCRIPTION:
URL:https://carverridgeseniorliving.com/event-calendar/bingo-w-amanda-20/
LOCATION:Bistro
CATEGORIES:Senior Living
END:VEVENT
BEGIN:VEVENT
DTSTART;TZID=America/Chicago:20260425T150000
DTEND;TZID=America/Chicago:20260425T153000
DTSTAMP:20260425T162630
CREATED:20260401T133714Z
LAST-MODIFIED:20260401T133714Z
UID:10003444-1777129200-1777131000@carverridgeseniorliving.com
SUMMARY:BYOB Social Hour
DESCRIPTION:
URL:https://carverridgeseniorliving.com/event-calendar/byob-social-hour-50/
LOCATION:Pub
CATEGORIES:Senior Living
END:VEVENT
BEGIN:VEVENT
DTSTART;TZID=America/Chicago:20260425T150000
DTEND;TZID=America/Chicago:20260425T160000
DTSTAMP:20260425T162630
CREATED:20260327T095149Z
LAST-MODIFIED:20260425T180607Z
UID:10003333-1777129200-1777132800@carverridgeseniorliving.com
SUMMARY:Let's Get Crafty!
DESCRIPTION:
URL:https://carverridgeseniorliving.com/event-calendar/lets-get-crafty-20/
LOCATION:LC Dining Room
CATEGORIES:Legacy Court
END:VEVENT
BEGIN:VEVENT
DTSTART;TZID=America/Chicago:20260425T151000
DTEND;TZID=America/Chicago:20260425T161000
DTSTAMP:20260425T162630
CREATED:20260401T133715Z
LAST-MODIFIED:20260401T133715Z
UID:10003445-1777129800-1777133400@carverridgeseniorliving.com
SUMMARY:Twins vs. Tampa Bay
DESCRIPTION:
URL:https://carverridgeseniorliving.com/event-calendar/twins-vs-tampa-bay-5/
CATEGORIES:Senior Living
END:VEVENT
BEGIN:VEVENT
DTSTART;TZID=America/Chicago:20260425T183000
DTEND;TZID=America/Chicago:20260425T193000
DTSTAMP:20260425T162630
CREATED:20260327T095149Z
LAST-MODIFIED:20260331T100630Z
UID:10003334-1777141800-1777145400@carverridgeseniorliving.com
SUMMARY:HHA Led Game show viewing hour!
DESCRIPTION:
URL:https://carverridgeseniorliving.com/event-calendar/hha-led-game-show-viewing-hour-84/
LOCATION:Piano Lounge
CATEGORIES:Legacy Court
END:VEVENT
END:VCALENDAR