BEGIN:VCALENDAR
VERSION:2.0
PRODID:-//Carver Ridge Senior Living - ECPv6.11.2.1//NONSGML v1.0//EN
CALSCALE:GREGORIAN
METHOD:PUBLISH
X-WR-CALNAME:Carver Ridge Senior Living
X-ORIGINAL-URL:https://carverridgeseniorliving.com
X-WR-CALDESC:Events for Carver Ridge Senior Living
REFRESH-INTERVAL;VALUE=DURATION:PT1H
X-Robots-Tag:noindex
X-PUBLISHED-TTL:PT1H
BEGIN:VTIMEZONE
TZID:America/Chicago
BEGIN:DAYLIGHT
TZOFFSETFROM:-0600
TZOFFSETTO:-0500
TZNAME:CDT
DTSTART:20260308T080000
END:DAYLIGHT
BEGIN:STANDARD
TZOFFSETFROM:-0500
TZOFFSETTO:-0600
TZNAME:CST
DTSTART:20261101T070000
END:STANDARD
END:VTIMEZONE
BEGIN:VEVENT
DTSTART;TZID=America/Chicago:20260518T110000
DTEND;TZID=America/Chicago:20260518T120000
DTSTAMP:20260422T213355
CREATED:20260418T175119Z
LAST-MODIFIED:20260422T180616Z
UID:10003554-1779102000-1779105600@carverridgeseniorliving.com
SUMMARY:Stretch it Out Fitness!
DESCRIPTION:
URL:https://carverridgeseniorliving.com/event-calendar/stretch-it-out-fitness-13/
LOCATION:LC Dining Room
CATEGORIES:Legacy Court
END:VEVENT
BEGIN:VEVENT
DTSTART;TZID=America/Chicago:20260518T113000
DTEND;TZID=America/Chicago:20260518T123000
DTSTAMP:20260422T213355
CREATED:20260418T175119Z
LAST-MODIFIED:20260422T180616Z
UID:10003555-1779103800-1779107400@carverridgeseniorliving.com
SUMMARY:Stretch It Out Fitness
DESCRIPTION:
URL:https://carverridgeseniorliving.com/event-calendar/stretch-it-out-fitness-14/
LOCATION:LC Piano Lounge
CATEGORIES:Legacy Court
END:VEVENT
BEGIN:VEVENT
DTSTART;TZID=America/Chicago:20260518T120000
DTEND;TZID=America/Chicago:20260518T130000
DTSTAMP:20260422T213355
CREATED:20260418T175119Z
LAST-MODIFIED:20260422T180616Z
UID:10003556-1779105600-1779109200@carverridgeseniorliving.com
SUMMARY:Oshibori
DESCRIPTION:
URL:https://carverridgeseniorliving.com/event-calendar/oshibori-107/
LOCATION:LC Dining Room
CATEGORIES:Legacy Court
END:VEVENT
BEGIN:VEVENT
DTSTART;TZID=America/Chicago:20260518T140000
DTEND;TZID=America/Chicago:20260518T150000
DTSTAMP:20260422T213355
CREATED:20260419T175145Z
LAST-MODIFIED:20260422T180616Z
UID:10003557-1779112800-1779116400@carverridgeseniorliving.com
SUMMARY:Monday Movie Matinee
DESCRIPTION:
URL:https://carverridgeseniorliving.com/event-calendar/monday-movie-matinee-52/
LOCATION:Piano Lounge
CATEGORIES:Legacy Court
END:VEVENT
BEGIN:VEVENT
DTSTART;TZID=America/Chicago:20260518T153000
DTEND;TZID=America/Chicago:20260518T163000
DTSTAMP:20260422T213355
CREATED:20260419T175146Z
LAST-MODIFIED:20260422T180616Z
UID:10003558-1779118200-1779121800@carverridgeseniorliving.com
SUMMARY:Color and Connect social
DESCRIPTION:
URL:https://carverridgeseniorliving.com/event-calendar/color-and-connect-social-8/
LOCATION:LC Dining Room
CATEGORIES:Legacy Court
END:VEVENT
END:VCALENDAR