BEGIN:VCALENDAR
VERSION:2.0
PRODID:-//Carver Ridge Senior Living - ECPv6.11.2.1//NONSGML v1.0//EN
CALSCALE:GREGORIAN
METHOD:PUBLISH
X-ORIGINAL-URL:https://carverridgeseniorliving.com
X-WR-CALDESC:Events for Carver Ridge Senior Living
REFRESH-INTERVAL;VALUE=DURATION:PT1H
X-Robots-Tag:noindex
X-PUBLISHED-TTL:PT1H
BEGIN:VTIMEZONE
TZID:America/Chicago
BEGIN:DAYLIGHT
TZOFFSETFROM:-0600
TZOFFSETTO:-0500
TZNAME:CDT
DTSTART:20250309T080000
END:DAYLIGHT
BEGIN:STANDARD
TZOFFSETFROM:-0500
TZOFFSETTO:-0600
TZNAME:CST
DTSTART:20251102T070000
END:STANDARD
END:VTIMEZONE
BEGIN:VEVENT
DTSTART;TZID=America/Chicago:20250820T133000
DTEND;TZID=America/Chicago:20250820T143000
DTSTAMP:20260419T101452
CREATED:20250722T110613Z
LAST-MODIFIED:20250820T132108Z
UID:10000979-1755696600-1755700200@carverridgeseniorliving.com
SUMMARY:Name of the Game
DESCRIPTION:
URL:https://carverridgeseniorliving.com/event-calendar/name-of-the-game-4/
LOCATION:Dining Room
CATEGORIES:Legacy Court
END:VEVENT
BEGIN:VEVENT
DTSTART;TZID=America/Chicago:20250820T134500
DTEND;TZID=America/Chicago:20250820T144500
DTSTAMP:20260419T101452
CREATED:20250722T110613Z
LAST-MODIFIED:20250806T123618Z
UID:10000980-1755697500-1755701100@carverridgeseniorliving.com
SUMMARY:Catholic Communion Delivery
DESCRIPTION:
URL:https://carverridgeseniorliving.com/event-calendar/catholic-communion-delivery-15/
LOCATION:Piano Lounge
CATEGORIES:Legacy Court
END:VEVENT
BEGIN:VEVENT
DTSTART;TZID=America/Chicago:20250820T150000
DTEND;TZID=America/Chicago:20250820T160000
DTSTAMP:20260419T101452
CREATED:20250722T110613Z
LAST-MODIFIED:20250820T132108Z
UID:10000981-1755702000-1755705600@carverridgeseniorliving.com
SUMMARY:Color Me Happy
DESCRIPTION:
URL:https://carverridgeseniorliving.com/event-calendar/sunshine-and-smiles-snack-social-28/
LOCATION:LC Dining Room
CATEGORIES:Legacy Court
END:VEVENT
BEGIN:VEVENT
DTSTART;TZID=America/Chicago:20250821T100000
DTEND;TZID=America/Chicago:20250821T110000
DTSTAMP:20260419T101452
CREATED:20250723T112313Z
LAST-MODIFIED:20250821T132103Z
UID:10000988-1755770400-1755774000@carverridgeseniorliving.com
SUMMARY:Dance it out Fitness
DESCRIPTION:
URL:https://carverridgeseniorliving.com/event-calendar/the-good-book-11/
LOCATION:Piano Lounge
CATEGORIES:Legacy Court
END:VEVENT
BEGIN:VEVENT
DTSTART;TZID=America/Chicago:20250821T110000
DTEND;TZID=America/Chicago:20250821T120000
DTSTAMP:20260419T101452
CREATED:20250723T112324Z
LAST-MODIFIED:20250821T132103Z
UID:10000989-1755774000-1755777600@carverridgeseniorliving.com
SUMMARY:Visit with Emily and kiddos
DESCRIPTION:
URL:https://carverridgeseniorliving.com/event-calendar/where-in-the-world-6/
LOCATION:LC Dining Room
CATEGORIES:Legacy Court
END:VEVENT
BEGIN:VEVENT
DTSTART;TZID=America/Chicago:20250821T133000
DTEND;TZID=America/Chicago:20250821T143000
DTSTAMP:20260419T101452
CREATED:20250723T112324Z
LAST-MODIFIED:20250821T132104Z
UID:10000990-1755783000-1755786600@carverridgeseniorliving.com
SUMMARY:Musical Moments: Tony Bennett Live at the North Sea Jazz Festival
DESCRIPTION:
URL:https://carverridgeseniorliving.com/event-calendar/musical-moments-17/
LOCATION:LC Dining Room
CATEGORIES:Legacy Court
END:VEVENT
BEGIN:VEVENT
DTSTART;TZID=America/Chicago:20250821T140000
DTEND;TZID=America/Chicago:20250821T150000
DTSTAMP:20260419T101452
CREATED:20250807T125111Z
LAST-MODIFIED:20250821T132104Z
UID:10001161-1755784800-1755788400@carverridgeseniorliving.com
SUMMARY:Guy time w/Luke
DESCRIPTION:
URL:https://carverridgeseniorliving.com/event-calendar/guy-time-w-luke-2/
LOCATION:Dining Room
CATEGORIES:Legacy Court
END:VEVENT
BEGIN:VEVENT
DTSTART;TZID=America/Chicago:20250821T150000
DTEND;TZID=America/Chicago:20250821T160000
DTSTAMP:20260419T101452
CREATED:20250723T112324Z
LAST-MODIFIED:20250821T132104Z
UID:10000991-1755788400-1755792000@carverridgeseniorliving.com
SUMMARY:Music w/Jenna in Legacy Court
DESCRIPTION:
URL:https://carverridgeseniorliving.com/event-calendar/music-w-jenna-in-legacy-court-10/
LOCATION:LC Dining Room
CATEGORIES:Legacy Court
END:VEVENT
BEGIN:VEVENT
DTSTART;TZID=America/Chicago:20250822T110000
DTEND;TZID=America/Chicago:20250822T120000
DTSTAMP:20260419T101452
CREATED:20250724T113624Z
LAST-MODIFIED:20250822T132104Z
UID:10001015-1755860400-1755864000@carverridgeseniorliving.com
SUMMARY:Visit w/Jenny and Kiddos
DESCRIPTION:
URL:https://carverridgeseniorliving.com/event-calendar/visit-w-jenny-and-kiddos-5/
LOCATION:LC Dining Room
CATEGORIES:Legacy Court
END:VEVENT
BEGIN:VEVENT
DTSTART;TZID=America/Chicago:20250822T133000
DTEND;TZID=America/Chicago:20250822T143000
DTSTAMP:20260419T101452
CREATED:20250724T113624Z
LAST-MODIFIED:20250822T132104Z
UID:10001016-1755869400-1755873000@carverridgeseniorliving.com
SUMMARY:Make a Mess with Jess
DESCRIPTION:
URL:https://carverridgeseniorliving.com/event-calendar/make-a-mess-with-jess-15/
LOCATION:LC Dining Room
CATEGORIES:Legacy Court
END:VEVENT
BEGIN:VEVENT
DTSTART;TZID=America/Chicago:20250822T150000
DTEND;TZID=America/Chicago:20250822T160000
DTSTAMP:20260419T101452
CREATED:20250807T125111Z
LAST-MODIFIED:20250822T132104Z
UID:10001162-1755874800-1755878400@carverridgeseniorliving.com
SUMMARY:Mocktail Cocktail Social
DESCRIPTION:
URL:https://carverridgeseniorliving.com/event-calendar/mocktail-cocktail-social/
CATEGORIES:Legacy Court
END:VEVENT
BEGIN:VEVENT
DTSTART;TZID=America/Chicago:20250822T153000
DTEND;TZID=America/Chicago:20250822T163000
DTSTAMP:20260419T101452
CREATED:20250724T113625Z
LAST-MODIFIED:20250822T132104Z
UID:10001017-1755876600-1755880200@carverridgeseniorliving.com
SUMMARY:Color Me Happy
DESCRIPTION:
URL:https://carverridgeseniorliving.com/event-calendar/kindness-korner-13/
LOCATION:LC Dining Room
CATEGORIES:Legacy Court
END:VEVENT
BEGIN:VEVENT
DTSTART;TZID=America/Chicago:20250823T094500
DTEND;TZID=America/Chicago:20250823T100000
DTSTAMP:20260419T101452
CREATED:20250725T115200Z
LAST-MODIFIED:20250823T132139Z
UID:10001032-1755942300-1755943200@carverridgeseniorliving.com
SUMMARY:News and Views
DESCRIPTION:
URL:https://carverridgeseniorliving.com/event-calendar/news-and-views-30/
CATEGORIES:Legacy Court
END:VEVENT
BEGIN:VEVENT
DTSTART;TZID=America/Chicago:20250823T103000
DTEND;TZID=America/Chicago:20250823T113000
DTSTAMP:20260419T101452
CREATED:20250725T115200Z
LAST-MODIFIED:20250823T132139Z
UID:10001033-1755945000-1755948600@carverridgeseniorliving.com
SUMMARY:Balloonball w/Yvonna
DESCRIPTION:
URL:https://carverridgeseniorliving.com/event-calendar/balloonball-w-yvonna-8/
LOCATION:Piano Lounge
CATEGORIES:Legacy Court
END:VEVENT
BEGIN:VEVENT
DTSTART;TZID=America/Chicago:20250823T133000
DTEND;TZID=America/Chicago:20250823T143000
DTSTAMP:20260419T101452
CREATED:20250725T115200Z
LAST-MODIFIED:20250823T132139Z
UID:10001034-1755955800-1755959400@carverridgeseniorliving.com
SUMMARY:HHAs led Manicures and Hand Massage
DESCRIPTION:
URL:https://carverridgeseniorliving.com/event-calendar/hhas-led-manicures-and-hand-massage-15/
LOCATION:Dining Room
CATEGORIES:Legacy Court
END:VEVENT
BEGIN:VEVENT
DTSTART;TZID=America/Chicago:20250823T150000
DTEND;TZID=America/Chicago:20250823T160000
DTSTAMP:20260419T101452
CREATED:20250725T115200Z
LAST-MODIFIED:20250823T132139Z
UID:10001035-1755961200-1755964800@carverridgeseniorliving.com
SUMMARY:Saturday social time
DESCRIPTION:
URL:https://carverridgeseniorliving.com/event-calendar/saturday-social-time-9/
LOCATION:LC Dining Room
CATEGORIES:Legacy Court
END:VEVENT
BEGIN:VEVENT
DTSTART;TZID=America/Chicago:20250824T094500
DTEND;TZID=America/Chicago:20250824T100000
DTSTAMP:20260419T101452
CREATED:20250726T120606Z
LAST-MODIFIED:20250824T132107Z
UID:10001044-1756028700-1756029600@carverridgeseniorliving.com
SUMMARY:News and Views
DESCRIPTION:
URL:https://carverridgeseniorliving.com/event-calendar/news-and-views-31/
CATEGORIES:Legacy Court
END:VEVENT
BEGIN:VEVENT
DTSTART;TZID=America/Chicago:20250824T100000
DTEND;TZID=America/Chicago:20250824T110000
DTSTAMP:20260419T101452
CREATED:20250726T120606Z
LAST-MODIFIED:20250824T132107Z
UID:10001045-1756029600-1756033200@carverridgeseniorliving.com
SUMMARY:Fun & Fit w/Yvonna
DESCRIPTION:
URL:https://carverridgeseniorliving.com/event-calendar/fun-fit-w-yvonna-16/
LOCATION:Pian
CATEGORIES:Legacy Court
END:VEVENT
BEGIN:VEVENT
DTSTART;TZID=America/Chicago:20250824T133000
DTEND;TZID=America/Chicago:20250824T143000
DTSTAMP:20260419T101452
CREATED:20250726T120606Z
LAST-MODIFIED:20250824T132107Z
UID:10001046-1756042200-1756045800@carverridgeseniorliving.com
SUMMARY:Crafting w/Yvonna
DESCRIPTION:
URL:https://carverridgeseniorliving.com/event-calendar/crafting-w-yvonna-8/
LOCATION:LC Dining Room
CATEGORIES:Legacy Court
END:VEVENT
BEGIN:VEVENT
DTSTART;TZID=America/Chicago:20250824T150000
DTEND;TZID=America/Chicago:20250824T160000
DTSTAMP:20260419T101452
CREATED:20250726T120606Z
LAST-MODIFIED:20250824T132107Z
UID:10001047-1756047600-1756051200@carverridgeseniorliving.com
SUMMARY:Sunshine and Smiles Snack Social
DESCRIPTION:
URL:https://carverridgeseniorliving.com/event-calendar/sunshine-and-smiles-snack-social-29/
LOCATION:LC Dining Room
CATEGORIES:Legacy Court
END:VEVENT
BEGIN:VEVENT
DTSTART;TZID=America/Chicago:20250825T100000
DTEND;TZID=America/Chicago:20250825T110000
DTSTAMP:20260419T101452
CREATED:20250727T120621Z
LAST-MODIFIED:20250806T123619Z
UID:10001053-1756116000-1756119600@carverridgeseniorliving.com
SUMMARY:Faith Corner
DESCRIPTION:
URL:https://carverridgeseniorliving.com/event-calendar/faith-corner-13/
LOCATION:LC Dining Room
CATEGORIES:Legacy Court
END:VEVENT
BEGIN:VEVENT
DTSTART;TZID=America/Chicago:20250825T103000
DTEND;TZID=America/Chicago:20250825T113000
DTSTAMP:20260419T101452
CREATED:20250727T120621Z
LAST-MODIFIED:20250825T133627Z
UID:10001054-1756117800-1756121400@carverridgeseniorliving.com
SUMMARY:Bean Bag Toss
DESCRIPTION:
URL:https://carverridgeseniorliving.com/event-calendar/bean-bag-toss-15/
LOCATION:Piano Lounge
CATEGORIES:Legacy Court
END:VEVENT
BEGIN:VEVENT
DTSTART;TZID=America/Chicago:20250825T113000
DTEND;TZID=America/Chicago:20250825T123000
DTSTAMP:20260419T101452
CREATED:20250807T125111Z
LAST-MODIFIED:20250825T133627Z
UID:10001163-1756121400-1756125000@carverridgeseniorliving.com
SUMMARY:Follow the Yellow Brick Road Scavenger Hunt
DESCRIPTION:
URL:https://carverridgeseniorliving.com/event-calendar/follow-the-yellow-brick-road-scavenger-hunt/
CATEGORIES:Legacy Court
END:VEVENT
BEGIN:VEVENT
DTSTART;TZID=America/Chicago:20250825T140000
DTEND;TZID=America/Chicago:20250825T150000
DTSTAMP:20260419T101452
CREATED:20250727T120621Z
LAST-MODIFIED:20250825T133627Z
UID:10001055-1756130400-1756134000@carverridgeseniorliving.com
SUMMARY:Monday Movie Matinee: The Wizard of Oz
DESCRIPTION:
URL:https://carverridgeseniorliving.com/event-calendar/monday-movie-matinee-14/
LOCATION:Piano Lounge
CATEGORIES:Legacy Court
END:VEVENT
BEGIN:VEVENT
DTSTART;TZID=America/Chicago:20250826T110000
DTEND;TZID=America/Chicago:20250826T120000
DTSTAMP:20260419T101452
CREATED:20250728T122128Z
LAST-MODIFIED:20250826T133609Z
UID:10001061-1756206000-1756209600@carverridgeseniorliving.com
SUMMARY:Worship with Chaplain Carol
DESCRIPTION:
URL:https://carverridgeseniorliving.com/event-calendar/worship-with-chaplain-carol-15/
LOCATION:Piano Lounge
CATEGORIES:Legacy Court
END:VEVENT
BEGIN:VEVENT
DTSTART;TZID=America/Chicago:20250826T113000
DTEND;TZID=America/Chicago:20250826T123000
DTSTAMP:20260419T101452
CREATED:20250728T122128Z
LAST-MODIFIED:20250826T133609Z
UID:10001062-1756207800-1756211400@carverridgeseniorliving.com
SUMMARY:Courage: A Short Story-Lessons from a Cowardly Lion
DESCRIPTION:
URL:https://carverridgeseniorliving.com/event-calendar/sunshine-and-smiles-6/
CATEGORIES:Legacy Court
END:VEVENT
BEGIN:VEVENT
DTSTART;TZID=America/Chicago:20250826T133000
DTEND;TZID=America/Chicago:20250826T143000
DTSTAMP:20260419T101452
CREATED:20250728T122128Z
LAST-MODIFIED:20250826T133609Z
UID:10001063-1756215000-1756218600@carverridgeseniorliving.com
SUMMARY:BINGO!
DESCRIPTION:
URL:https://carverridgeseniorliving.com/event-calendar/bingo-39/
LOCATION:LC Dining Room
CATEGORIES:Legacy Court
END:VEVENT
BEGIN:VEVENT
DTSTART;TZID=America/Chicago:20250826T150000
DTEND;TZID=America/Chicago:20250826T160000
DTSTAMP:20260419T101452
CREATED:20250728T122129Z
LAST-MODIFIED:20250826T133609Z
UID:10001064-1756220400-1756224000@carverridgeseniorliving.com
SUMMARY:Kindness Corner
DESCRIPTION:
URL:https://carverridgeseniorliving.com/event-calendar/kindness-corner-7/
LOCATION:LC Dining Room
CATEGORIES:Legacy Court
END:VEVENT
BEGIN:VEVENT
DTSTART;TZID=America/Chicago:20250827T100000
DTEND;TZID=America/Chicago:20250827T110000
DTSTAMP:20260419T101452
CREATED:20250729T122114Z
LAST-MODIFIED:20250827T133609Z
UID:10001070-1756288800-1756292400@carverridgeseniorliving.com
SUMMARY:Music with Bryant
DESCRIPTION:
URL:https://carverridgeseniorliving.com/event-calendar/music-with-bryant-17/
LOCATION:Piano Lounge
CATEGORIES:Legacy Court
END:VEVENT
BEGIN:VEVENT
DTSTART;TZID=America/Chicago:20250827T110000
DTEND;TZID=America/Chicago:20250827T120000
DTSTAMP:20260419T101452
CREATED:20250729T122114Z
LAST-MODIFIED:20250827T133609Z
UID:10001071-1756292400-1756296000@carverridgeseniorliving.com
SUMMARY:Sunshine and Smiles
DESCRIPTION:
URL:https://carverridgeseniorliving.com/event-calendar/whole-brain-health-exercise-2/
LOCATION:LC Dining Room
CATEGORIES:Legacy Court
END:VEVENT
END:VCALENDAR