BEGIN:VCALENDAR
VERSION:2.0
PRODID:-//Carver Ridge Senior Living - ECPv6.11.2.1//NONSGML v1.0//EN
CALSCALE:GREGORIAN
METHOD:PUBLISH
X-ORIGINAL-URL:https://carverridgeseniorliving.com
X-WR-CALDESC:Events for Carver Ridge Senior Living
REFRESH-INTERVAL;VALUE=DURATION:PT1H
X-Robots-Tag:noindex
X-PUBLISHED-TTL:PT1H
BEGIN:VTIMEZONE
TZID:America/Chicago
BEGIN:DAYLIGHT
TZOFFSETFROM:-0600
TZOFFSETTO:-0500
TZNAME:CDT
DTSTART:20260308T080000
END:DAYLIGHT
BEGIN:STANDARD
TZOFFSETFROM:-0500
TZOFFSETTO:-0600
TZNAME:CST
DTSTART:20261101T070000
END:STANDARD
END:VTIMEZONE
BEGIN:VEVENT
DTSTART;TZID=America/Chicago:20260216T153000
DTEND;TZID=America/Chicago:20260216T163000
DTSTAMP:20260422T145641
CREATED:20260201T045106Z
LAST-MODIFIED:20260216T055108Z
UID:10002763-1771255800-1771259400@carverridgeseniorliving.com
SUMMARY:Color Me Happy
DESCRIPTION:
URL:https://carverridgeseniorliving.com/event-calendar/color-me-happy-28/
LOCATION:LC Dining Room
CATEGORIES:Legacy Court
END:VEVENT
BEGIN:VEVENT
DTSTART;TZID=America/Chicago:20260216T140000
DTEND;TZID=America/Chicago:20260216T150000
DTSTAMP:20260422T145641
CREATED:20260118T040612Z
LAST-MODIFIED:20260216T055108Z
UID:10002603-1771250400-1771254000@carverridgeseniorliving.com
SUMMARY:Monday Movie Matinee
DESCRIPTION:
URL:https://carverridgeseniorliving.com/event-calendar/monday-movie-matinee-39/
LOCATION:Piano Lounge
CATEGORIES:Legacy Court
END:VEVENT
BEGIN:VEVENT
DTSTART;TZID=America/Chicago:20260216T120000
DTEND;TZID=America/Chicago:20260216T130000
DTSTAMP:20260422T145641
CREATED:20260201T045106Z
LAST-MODIFIED:20260216T055108Z
UID:10002762-1771243200-1771246800@carverridgeseniorliving.com
SUMMARY:Oshibori
DESCRIPTION:
URL:https://carverridgeseniorliving.com/event-calendar/oshibori-16/
LOCATION:LC Dining Room
CATEGORIES:Legacy Court
END:VEVENT
BEGIN:VEVENT
DTSTART;TZID=America/Chicago:20260216T110000
DTEND;TZID=America/Chicago:20260216T120000
DTSTAMP:20260422T145641
CREATED:20260118T040611Z
LAST-MODIFIED:20260216T055108Z
UID:10002602-1771239600-1771243200@carverridgeseniorliving.com
SUMMARY:Bingo
DESCRIPTION:
URL:https://carverridgeseniorliving.com/event-calendar/gratitude-attitude-devotions-31/
LOCATION:LC Dining Room
CATEGORIES:Legacy Court
END:VEVENT
BEGIN:VEVENT
DTSTART;TZID=America/Chicago:20260216T103000
DTEND;TZID=America/Chicago:20260216T113000
DTSTAMP:20260422T145641
CREATED:20260118T040611Z
LAST-MODIFIED:20260131T045120Z
UID:10002601-1771237800-1771241400@carverridgeseniorliving.com
SUMMARY:Gratitude Attitude Devotions
DESCRIPTION:
URL:https://carverridgeseniorliving.com/event-calendar/gratitude-attitude-devotions-30/
CATEGORIES:Legacy Court
END:VEVENT
BEGIN:VEVENT
DTSTART;TZID=America/Chicago:20260215T183000
DTEND;TZID=America/Chicago:20260215T193000
DTSTAMP:20260422T145641
CREATED:20260201T045106Z
LAST-MODIFIED:20260215T053608Z
UID:10002761-1771180200-1771183800@carverridgeseniorliving.com
SUMMARY:HHA Led Game show viewing hour!
DESCRIPTION:
URL:https://carverridgeseniorliving.com/event-calendar/hha-led-game-show-viewing-hour-15/
LOCATION:Piano Lounge
CATEGORIES:Legacy Court
END:VEVENT
BEGIN:VEVENT
DTSTART;TZID=America/Chicago:20260215T160000
DTEND;TZID=America/Chicago:20260215T170000
DTSTAMP:20260422T145641
CREATED:20260210T050617Z
LAST-MODIFIED:20260215T053608Z
UID:10002885-1771171200-1771174800@carverridgeseniorliving.com
SUMMARY:Be my Valentine word search
DESCRIPTION:
URL:https://carverridgeseniorliving.com/event-calendar/be-my-valentine-word-search/
LOCATION:LC Dining Room
CATEGORIES:Legacy Court
END:VEVENT
BEGIN:VEVENT
DTSTART;TZID=America/Chicago:20260215T150000
DTEND;TZID=America/Chicago:20260215T160000
DTSTAMP:20260422T145641
CREATED:20260117T040633Z
LAST-MODIFIED:20260215T053608Z
UID:10002598-1771167600-1771171200@carverridgeseniorliving.com
SUMMARY:Bingo!
DESCRIPTION:
URL:https://carverridgeseniorliving.com/event-calendar/sunshine-and-smiles-social-time-8/
LOCATION:LC Dining Room
CATEGORIES:Legacy Court
END:VEVENT
BEGIN:VEVENT
DTSTART;TZID=America/Chicago:20260215T120000
DTEND;TZID=America/Chicago:20260215T130000
DTSTAMP:20260422T145641
CREATED:20260201T045106Z
LAST-MODIFIED:20260215T053607Z
UID:10002760-1771156800-1771160400@carverridgeseniorliving.com
SUMMARY:Oshibori
DESCRIPTION:
URL:https://carverridgeseniorliving.com/event-calendar/oshibori-15/
LOCATION:LC Dining Room
CATEGORIES:Legacy Court
END:VEVENT
BEGIN:VEVENT
DTSTART;TZID=America/Chicago:20260215T100000
DTEND;TZID=America/Chicago:20260215T110000
DTSTAMP:20260422T145641
CREATED:20260117T040633Z
LAST-MODIFIED:20260215T053607Z
UID:10002597-1771149600-1771153200@carverridgeseniorliving.com
SUMMARY:Let's Paint!
DESCRIPTION:
URL:https://carverridgeseniorliving.com/event-calendar/bean-bag-toss-w-amanda-26/
CATEGORIES:Legacy Court
END:VEVENT
BEGIN:VEVENT
DTSTART;TZID=America/Chicago:20260214T183000
DTEND;TZID=America/Chicago:20260214T193000
DTSTAMP:20260422T145641
CREATED:20260201T045105Z
LAST-MODIFIED:20260214T053613Z
UID:10002759-1771093800-1771097400@carverridgeseniorliving.com
SUMMARY:HHA Led Game show viewing hour!
DESCRIPTION:
URL:https://carverridgeseniorliving.com/event-calendar/hha-led-game-show-viewing-hour-14/
LOCATION:Piano Lounge
CATEGORIES:Legacy Court
END:VEVENT
BEGIN:VEVENT
DTSTART;TZID=America/Chicago:20260214T150000
DTEND;TZID=America/Chicago:20260214T160000
DTSTAMP:20260422T145641
CREATED:20260116T040618Z
LAST-MODIFIED:20260214T053612Z
UID:10002593-1771081200-1771084800@carverridgeseniorliving.com
SUMMARY:Harmony from the Heart
DESCRIPTION:
URL:https://carverridgeseniorliving.com/event-calendar/saturday-social-time-34/
LOCATION:LC Dining Room
CATEGORIES:Legacy Court
END:VEVENT
BEGIN:VEVENT
DTSTART;TZID=America/Chicago:20260214T133000
DTEND;TZID=America/Chicago:20260214T143000
DTSTAMP:20260422T145641
CREATED:20260116T040618Z
LAST-MODIFIED:20260214T053612Z
UID:10002592-1771075800-1771079400@carverridgeseniorliving.com
SUMMARY:HHAs led Manicures and Hand Massage
DESCRIPTION:
URL:https://carverridgeseniorliving.com/event-calendar/hhas-led-manicures-and-hand-massage-40/
LOCATION:Dining Room
CATEGORIES:Legacy Court
END:VEVENT
BEGIN:VEVENT
DTSTART;TZID=America/Chicago:20260214T120000
DTEND;TZID=America/Chicago:20260214T130000
DTSTAMP:20260422T145641
CREATED:20260201T045105Z
LAST-MODIFIED:20260214T053612Z
UID:10002758-1771070400-1771074000@carverridgeseniorliving.com
SUMMARY:Oshibori
DESCRIPTION:
URL:https://carverridgeseniorliving.com/event-calendar/oshibori-14/
LOCATION:LC Dining Room
CATEGORIES:Legacy Court
END:VEVENT
BEGIN:VEVENT
DTSTART;TZID=America/Chicago:20260214T100000
DTEND;TZID=America/Chicago:20260214T110000
DTSTAMP:20260422T145641
CREATED:20260116T040617Z
LAST-MODIFIED:20260214T053611Z
UID:10002591-1771063200-1771066800@carverridgeseniorliving.com
SUMMARY:Heart Treat Social
DESCRIPTION:
URL:https://carverridgeseniorliving.com/event-calendar/balloonball-w-amanda-20/
LOCATION:Piano Lounge
CATEGORIES:Legacy Court
END:VEVENT
BEGIN:VEVENT
DTSTART;TZID=America/Chicago:20260213T183000
DTEND;TZID=America/Chicago:20260213T193000
DTSTAMP:20260422T145641
CREATED:20260201T045105Z
LAST-MODIFIED:20260213T052108Z
UID:10002757-1771007400-1771011000@carverridgeseniorliving.com
SUMMARY:HHA Led Game show viewing hour!
DESCRIPTION:
URL:https://carverridgeseniorliving.com/event-calendar/hha-led-game-show-viewing-hour-13/
LOCATION:Piano Lounge
CATEGORIES:Legacy Court
END:VEVENT
BEGIN:VEVENT
DTSTART;TZID=America/Chicago:20260213T150000
DTEND;TZID=America/Chicago:20260213T160000
DTSTAMP:20260422T145641
CREATED:20260115T035107Z
LAST-MODIFIED:20260209T045132Z
UID:10002585-1770994800-1770998400@carverridgeseniorliving.com
SUMMARY:Mocktail Social
DESCRIPTION:
URL:https://carverridgeseniorliving.com/event-calendar/mocktail-social-19/
LOCATION:LC Dining Room
CATEGORIES:Legacy Court
END:VEVENT
BEGIN:VEVENT
DTSTART;TZID=America/Chicago:20260213T143000
DTEND;TZID=America/Chicago:20260213T150000
DTSTAMP:20260422T145641
CREATED:20260115T032108Z
LAST-MODIFIED:20260213T052108Z
UID:10002583-1770993000-1770994800@carverridgeseniorliving.com
SUMMARY:Valentine's Party! w/Music by Scotty
DESCRIPTION:
URL:https://carverridgeseniorliving.com/event-calendar/happy-hour-35/
LOCATION:Dining Room
CATEGORIES:Legacy Court,Senior Living
END:VEVENT
BEGIN:VEVENT
DTSTART;TZID=America/Chicago:20260213T133000
DTEND;TZID=America/Chicago:20260213T143000
DTSTAMP:20260422T145641
CREATED:20260115T035107Z
LAST-MODIFIED:20260213T052108Z
UID:10002584-1770989400-1770993000@carverridgeseniorliving.com
SUMMARY:Make a Mess with Jess
DESCRIPTION:
URL:https://carverridgeseniorliving.com/event-calendar/make-a-mess-with-jess-40/
LOCATION:LC Dining Room
CATEGORIES:Legacy Court
END:VEVENT
BEGIN:VEVENT
DTSTART;TZID=America/Chicago:20260213T120000
DTEND;TZID=America/Chicago:20260213T130000
DTSTAMP:20260422T145641
CREATED:20260201T045105Z
LAST-MODIFIED:20260213T052107Z
UID:10002756-1770984000-1770987600@carverridgeseniorliving.com
SUMMARY:Oshibori
DESCRIPTION:
URL:https://carverridgeseniorliving.com/event-calendar/oshibori-13/
LOCATION:LC Dining Room
CATEGORIES:Legacy Court
END:VEVENT
BEGIN:VEVENT
DTSTART;TZID=America/Chicago:20260213T103000
DTEND;TZID=America/Chicago:20260213T113000
DTSTAMP:20260422T145641
CREATED:20260201T045105Z
LAST-MODIFIED:20260213T052107Z
UID:10002755-1770978600-1770982200@carverridgeseniorliving.com
SUMMARY:HHA Lead Color me Happy
DESCRIPTION:
URL:https://carverridgeseniorliving.com/event-calendar/hha-lead-color-me-happy-2/
LOCATION:LC Dining Room
CATEGORIES:Legacy Court
END:VEVENT
BEGIN:VEVENT
DTSTART;TZID=America/Chicago:20260212T183000
DTEND;TZID=America/Chicago:20260212T193000
DTSTAMP:20260422T145641
CREATED:20260201T045105Z
LAST-MODIFIED:20260212T050610Z
UID:10002754-1770921000-1770924600@carverridgeseniorliving.com
SUMMARY:HHA Led Game show viewing hour!
DESCRIPTION:
URL:https://carverridgeseniorliving.com/event-calendar/hha-led-game-show-viewing-hour-12/
LOCATION:Piano Lounge
CATEGORIES:Legacy Court
END:VEVENT
BEGIN:VEVENT
DTSTART;TZID=America/Chicago:20260212T150000
DTEND;TZID=America/Chicago:20260212T160000
DTSTAMP:20260422T145641
CREATED:20260114T035113Z
LAST-MODIFIED:20260212T050610Z
UID:10002579-1770908400-1770912000@carverridgeseniorliving.com
SUMMARY:Drum Circle w/Jenna
DESCRIPTION:
URL:https://carverridgeseniorliving.com/event-calendar/color-me-happy-23/
LOCATION:LC Dining Room
CATEGORIES:Legacy Court
END:VEVENT
BEGIN:VEVENT
DTSTART;TZID=America/Chicago:20260212T133000
DTEND;TZID=America/Chicago:20260212T143000
DTSTAMP:20260422T145641
CREATED:20260114T035113Z
LAST-MODIFIED:20260212T050609Z
UID:10002578-1770903000-1770906600@carverridgeseniorliving.com
SUMMARY:Musical Moments
DESCRIPTION:
URL:https://carverridgeseniorliving.com/event-calendar/musical-moments-23/
LOCATION:LC Dining Room
CATEGORIES:Legacy Court
END:VEVENT
BEGIN:VEVENT
DTSTART;TZID=America/Chicago:20260212T120000
DTEND;TZID=America/Chicago:20260212T130000
DTSTAMP:20260422T145641
CREATED:20260201T045105Z
LAST-MODIFIED:20260212T050609Z
UID:10002753-1770897600-1770901200@carverridgeseniorliving.com
SUMMARY:Oshibori
DESCRIPTION:
URL:https://carverridgeseniorliving.com/event-calendar/oshibori-12/
LOCATION:LC Dining Room
CATEGORIES:Legacy Court
END:VEVENT
BEGIN:VEVENT
DTSTART;TZID=America/Chicago:20260212T110000
DTEND;TZID=America/Chicago:20260212T120000
DTSTAMP:20260422T145641
CREATED:20260114T035113Z
LAST-MODIFIED:20260212T050608Z
UID:10002577-1770894000-1770897600@carverridgeseniorliving.com
SUMMARY:Watercolor Wonder
DESCRIPTION:
URL:https://carverridgeseniorliving.com/event-calendar/watercolor-wonder/
LOCATION:LC Dining Room
CATEGORIES:Legacy Court
END:VEVENT
BEGIN:VEVENT
DTSTART;TZID=America/Chicago:20260211T183000
DTEND;TZID=America/Chicago:20260211T193000
DTSTAMP:20260422T145641
CREATED:20260201T045105Z
LAST-MODIFIED:20260211T050612Z
UID:10002752-1770834600-1770838200@carverridgeseniorliving.com
SUMMARY:HHA Led Game show viewing hour!
DESCRIPTION:
URL:https://carverridgeseniorliving.com/event-calendar/hha-led-game-show-viewing-hour-11/
LOCATION:Piano Lounge
CATEGORIES:Legacy Court
END:VEVENT
BEGIN:VEVENT
DTSTART;TZID=America/Chicago:20260211T150000
DTEND;TZID=America/Chicago:20260211T160000
DTSTAMP:20260422T145641
CREATED:20260113T035131Z
LAST-MODIFIED:20260209T045119Z
UID:10002572-1770822000-1770825600@carverridgeseniorliving.com
SUMMARY:Kindness Corner
DESCRIPTION:
URL:https://carverridgeseniorliving.com/event-calendar/kindness-corner-29/
LOCATION:LC Dining Room
CATEGORIES:Legacy Court
END:VEVENT
BEGIN:VEVENT
DTSTART;TZID=America/Chicago:20260211T134500
DTEND;TZID=America/Chicago:20260211T144500
DTSTAMP:20260422T145641
CREATED:20260201T045105Z
LAST-MODIFIED:20260211T050612Z
UID:10002751-1770817500-1770821100@carverridgeseniorliving.com
SUMMARY:Catholic Communion Delivery
DESCRIPTION:
URL:https://carverridgeseniorliving.com/event-calendar/catholic-communion-delivery-19/
LOCATION:Piano Lounge
CATEGORIES:Legacy Court
END:VEVENT
BEGIN:VEVENT
DTSTART;TZID=America/Chicago:20260211T133000
DTEND;TZID=America/Chicago:20260211T143000
DTSTAMP:20260422T145641
CREATED:20260113T035131Z
LAST-MODIFIED:20260209T045118Z
UID:10002571-1770816600-1770820200@carverridgeseniorliving.com
SUMMARY:Memory Cafe
DESCRIPTION:
URL:https://carverridgeseniorliving.com/event-calendar/competition-corner-13/
LOCATION:LC Piano Lounge
CATEGORIES:Legacy Court
END:VEVENT
END:VCALENDAR