BEGIN:VCALENDAR
VERSION:2.0
PRODID:-//Carver Ridge Senior Living - ECPv6.11.2.1//NONSGML v1.0//EN
CALSCALE:GREGORIAN
METHOD:PUBLISH
X-WR-CALNAME:Carver Ridge Senior Living
X-ORIGINAL-URL:https://carverridgeseniorliving.com
X-WR-CALDESC:Events for Carver Ridge Senior Living
REFRESH-INTERVAL;VALUE=DURATION:PT1H
X-Robots-Tag:noindex
X-PUBLISHED-TTL:PT1H
BEGIN:VTIMEZONE
TZID:America/Chicago
BEGIN:DAYLIGHT
TZOFFSETFROM:-0600
TZOFFSETTO:-0500
TZNAME:CDT
DTSTART:20250309T080000
END:DAYLIGHT
BEGIN:STANDARD
TZOFFSETFROM:-0500
TZOFFSETTO:-0600
TZNAME:CST
DTSTART:20251102T070000
END:STANDARD
END:VTIMEZONE
BEGIN:VEVENT
DTSTART;TZID=America/Chicago:20250829T153000
DTEND;TZID=America/Chicago:20250829T163000
DTSTAMP:20260419T161231
CREATED:20250731T122149Z
LAST-MODIFIED:20250806T123619Z
UID:10001101-1756481400-1756485000@carverridgeseniorliving.com
SUMMARY:Kindness Korner
DESCRIPTION:
URL:https://carverridgeseniorliving.com/event-calendar/kindness-korner-14/
LOCATION:LC Dining Room
CATEGORIES:Legacy Court
END:VEVENT
BEGIN:VEVENT
DTSTART;TZID=America/Chicago:20250830T094500
DTEND;TZID=America/Chicago:20250830T100000
DTSTAMP:20260419T161231
CREATED:20250801T122127Z
LAST-MODIFIED:20250830T133604Z
UID:10001107-1756547100-1756548000@carverridgeseniorliving.com
SUMMARY:News and Views
DESCRIPTION:
URL:https://carverridgeseniorliving.com/event-calendar/news-and-views-32/
CATEGORIES:Legacy Court
END:VEVENT
BEGIN:VEVENT
DTSTART;TZID=America/Chicago:20250830T100000
DTEND;TZID=America/Chicago:20250830T110000
DTSTAMP:20260419T161231
CREATED:20250801T122127Z
LAST-MODIFIED:20250830T133604Z
UID:10001108-1756548000-1756551600@carverridgeseniorliving.com
SUMMARY:Balloonball w/Amanda
DESCRIPTION:
URL:https://carverridgeseniorliving.com/event-calendar/balloonball-w-amanda-8/
LOCATION:Piano Lounge
CATEGORIES:Legacy Court
END:VEVENT
BEGIN:VEVENT
DTSTART;TZID=America/Chicago:20250830T133000
DTEND;TZID=America/Chicago:20250830T143000
DTSTAMP:20260419T161231
CREATED:20250801T122127Z
LAST-MODIFIED:20250830T133604Z
UID:10001109-1756560600-1756564200@carverridgeseniorliving.com
SUMMARY:HHAs led Manicures and Hand Massage
DESCRIPTION:
URL:https://carverridgeseniorliving.com/event-calendar/hhas-led-manicures-and-hand-massage-16/
LOCATION:Dining Room
CATEGORIES:Legacy Court
END:VEVENT
BEGIN:VEVENT
DTSTART;TZID=America/Chicago:20250830T150000
DTEND;TZID=America/Chicago:20250830T160000
DTSTAMP:20260419T161231
CREATED:20250801T122127Z
LAST-MODIFIED:20250830T133604Z
UID:10001110-1756566000-1756569600@carverridgeseniorliving.com
SUMMARY:Saturday Strawberry Shortcake Social
DESCRIPTION:
URL:https://carverridgeseniorliving.com/event-calendar/saturday-social-time-10/
LOCATION:LC Dining Room
CATEGORIES:Legacy Court
END:VEVENT
BEGIN:VEVENT
DTSTART;TZID=America/Chicago:20250831T094500
DTEND;TZID=America/Chicago:20250831T100000
DTSTAMP:20260419T161231
CREATED:20250802T122112Z
LAST-MODIFIED:20250831T135105Z
UID:10001120-1756633500-1756634400@carverridgeseniorliving.com
SUMMARY:News and Views
DESCRIPTION:
URL:https://carverridgeseniorliving.com/event-calendar/news-and-views-33/
CATEGORIES:Legacy Court
END:VEVENT
BEGIN:VEVENT
DTSTART;TZID=America/Chicago:20250831T100000
DTEND;TZID=America/Chicago:20250831T110000
DTSTAMP:20260419T161231
CREATED:20250802T122112Z
LAST-MODIFIED:20250831T135106Z
UID:10001121-1756634400-1756638000@carverridgeseniorliving.com
SUMMARY:Fun and Fit w/Amanda
DESCRIPTION:
URL:https://carverridgeseniorliving.com/event-calendar/fun-and-fit-w-amanda-16/
CATEGORIES:Legacy Court
END:VEVENT
BEGIN:VEVENT
DTSTART;TZID=America/Chicago:20250831T150000
DTEND;TZID=America/Chicago:20250831T160000
DTSTAMP:20260419T161231
CREATED:20250802T122112Z
LAST-MODIFIED:20250831T135106Z
UID:10001122-1756652400-1756656000@carverridgeseniorliving.com
SUMMARY:Sunshine and Smiles Snack Social
DESCRIPTION:
URL:https://carverridgeseniorliving.com/event-calendar/sunshine-and-smiles-snack-social-31/
LOCATION:LC Dining Room
CATEGORIES:Legacy Court
END:VEVENT
BEGIN:VEVENT
DTSTART;TZID=America/Chicago:20250901T100000
DTEND;TZID=America/Chicago:20250901T110000
DTSTAMP:20260419T161231
CREATED:20250803T122159Z
LAST-MODIFIED:20250831T135106Z
UID:10001125-1756720800-1756724400@carverridgeseniorliving.com
SUMMARY:Faith Corner
DESCRIPTION:
URL:https://carverridgeseniorliving.com/event-calendar/faith-corner-14/
LOCATION:LC Dining Room
CATEGORIES:Legacy Court
END:VEVENT
BEGIN:VEVENT
DTSTART;TZID=America/Chicago:20250901T111500
DTEND;TZID=America/Chicago:20250901T121500
DTSTAMP:20260419T161231
CREATED:20250803T122159Z
LAST-MODIFIED:20250901T135104Z
UID:10001126-1756725300-1756728900@carverridgeseniorliving.com
SUMMARY:Bean Bag Toss
DESCRIPTION:
URL:https://carverridgeseniorliving.com/event-calendar/bean-bag-toss-16/
LOCATION:Piano Lounge
CATEGORIES:Legacy Court
END:VEVENT
BEGIN:VEVENT
DTSTART;TZID=America/Chicago:20250901T143000
DTEND;TZID=America/Chicago:20250901T153000
DTSTAMP:20260419T161231
CREATED:20250803T122159Z
LAST-MODIFIED:20250901T135104Z
UID:10001127-1756737000-1756740600@carverridgeseniorliving.com
SUMMARY:Monday Movie Matinee: Cheaper by the Dozen
DESCRIPTION:
URL:https://carverridgeseniorliving.com/event-calendar/monday-movie-matinee-15/
LOCATION:Piano Lounge
CATEGORIES:Legacy Court
END:VEVENT
BEGIN:VEVENT
DTSTART;TZID=America/Chicago:20250902T110000
DTEND;TZID=America/Chicago:20250902T120000
DTSTAMP:20260419T161231
CREATED:20250804T122110Z
LAST-MODIFIED:20250831T135106Z
UID:10001132-1756810800-1756814400@carverridgeseniorliving.com
SUMMARY:Worship with Chaplain Carol
DESCRIPTION:
URL:https://carverridgeseniorliving.com/event-calendar/worship-with-chaplain-carol-16/
LOCATION:Piano Lounge
CATEGORIES:Legacy Court
END:VEVENT
BEGIN:VEVENT
DTSTART;TZID=America/Chicago:20250902T110000
DTEND;TZID=America/Chicago:20250902T120000
DTSTAMP:20260419T161231
CREATED:20250901T135102Z
LAST-MODIFIED:20250902T135107Z
UID:10001421-1756810800-1756814400@carverridgeseniorliving.com
SUMMARY:Secret Lives of Hummingbirds
DESCRIPTION:
URL:https://carverridgeseniorliving.com/event-calendar/secret-lives-of-hummingbirds/
CATEGORIES:Legacy Court
END:VEVENT
BEGIN:VEVENT
DTSTART;TZID=America/Chicago:20250902T113000
DTEND;TZID=America/Chicago:20250902T123000
DTSTAMP:20260419T161231
CREATED:20250804T122110Z
LAST-MODIFIED:20250902T135107Z
UID:10001133-1756812600-1756816200@carverridgeseniorliving.com
SUMMARY:Chair Yoga
DESCRIPTION:
URL:https://carverridgeseniorliving.com/event-calendar/sunshine-and-smiles-7/
CATEGORIES:Legacy Court
END:VEVENT
BEGIN:VEVENT
DTSTART;TZID=America/Chicago:20250902T133000
DTEND;TZID=America/Chicago:20250902T143000
DTSTAMP:20260419T161231
CREATED:20250804T122110Z
LAST-MODIFIED:20250902T135107Z
UID:10001134-1756819800-1756823400@carverridgeseniorliving.com
SUMMARY:BINGO!
DESCRIPTION:
URL:https://carverridgeseniorliving.com/event-calendar/bingo-41/
LOCATION:LC Dining Room
CATEGORIES:Legacy Court
END:VEVENT
BEGIN:VEVENT
DTSTART;TZID=America/Chicago:20250902T150000
DTEND;TZID=America/Chicago:20250902T160000
DTSTAMP:20260419T161231
CREATED:20250804T122111Z
LAST-MODIFIED:20250902T135107Z
UID:10001135-1756825200-1756828800@carverridgeseniorliving.com
SUMMARY:Hummmingbird Hanger Craft
DESCRIPTION:
URL:https://carverridgeseniorliving.com/event-calendar/kindness-corner-8/
LOCATION:LC Dining Room
CATEGORIES:Legacy Court
END:VEVENT
BEGIN:VEVENT
DTSTART;TZID=America/Chicago:20250903T100000
DTEND;TZID=America/Chicago:20250903T110000
DTSTAMP:20260419T161231
CREATED:20250805T123607Z
LAST-MODIFIED:20250903T135146Z
UID:10001139-1756893600-1756897200@carverridgeseniorliving.com
SUMMARY:Music with Bryant
DESCRIPTION:
URL:https://carverridgeseniorliving.com/event-calendar/music-with-bryant-18/
LOCATION:Piano Lounge
CATEGORIES:Legacy Court
END:VEVENT
BEGIN:VEVENT
DTSTART;TZID=America/Chicago:20250903T110000
DTEND;TZID=America/Chicago:20250903T120000
DTSTAMP:20260419T161231
CREATED:20250805T123607Z
LAST-MODIFIED:20250903T135147Z
UID:10001140-1756897200-1756900800@carverridgeseniorliving.com
SUMMARY:Sunshine and Smiles
DESCRIPTION:
URL:https://carverridgeseniorliving.com/event-calendar/fun-fit-exercises-11/
LOCATION:Piano Lounge
CATEGORIES:Legacy Court
END:VEVENT
BEGIN:VEVENT
DTSTART;TZID=America/Chicago:20250903T133000
DTEND;TZID=America/Chicago:20250903T143000
DTSTAMP:20260419T161231
CREATED:20250805T123607Z
LAST-MODIFIED:20250903T135147Z
UID:10001141-1756906200-1756909800@carverridgeseniorliving.com
SUMMARY:Let's Give!
DESCRIPTION:
URL:https://carverridgeseniorliving.com/event-calendar/name-of-the-game-6/
LOCATION:Dining Room
CATEGORIES:Legacy Court
END:VEVENT
BEGIN:VEVENT
DTSTART;TZID=America/Chicago:20250903T134500
DTEND;TZID=America/Chicago:20250903T144500
DTSTAMP:20260419T161231
CREATED:20250805T123607Z
LAST-MODIFIED:20250806T123620Z
UID:10001142-1756907100-1756910700@carverridgeseniorliving.com
SUMMARY:Catholic Communion Delivery
DESCRIPTION:
URL:https://carverridgeseniorliving.com/event-calendar/catholic-communion-delivery-17/
LOCATION:Piano Lounge
CATEGORIES:Legacy Court
END:VEVENT
BEGIN:VEVENT
DTSTART;TZID=America/Chicago:20250903T150000
DTEND;TZID=America/Chicago:20250903T160000
DTSTAMP:20260419T161231
CREATED:20250805T123607Z
LAST-MODIFIED:20250903T135147Z
UID:10001143-1756911600-1756915200@carverridgeseniorliving.com
SUMMARY:Drum Circle w/Jenna
DESCRIPTION:
URL:https://carverridgeseniorliving.com/event-calendar/sunshine-and-smiles-snack-social-32/
LOCATION:LC Piano Lounge
CATEGORIES:Legacy Court
END:VEVENT
BEGIN:VEVENT
DTSTART;TZID=America/Chicago:20250904T100000
DTEND;TZID=America/Chicago:20250904T110000
DTSTAMP:20260419T161231
CREATED:20250806T123620Z
LAST-MODIFIED:20250807T125113Z
UID:10001146-1756980000-1756983600@carverridgeseniorliving.com
SUMMARY:The Good Book
DESCRIPTION:
URL:https://carverridgeseniorliving.com/event-calendar/the-good-book-13/
LOCATION:Piano Lounge
CATEGORIES:Legacy Court
END:VEVENT
BEGIN:VEVENT
DTSTART;TZID=America/Chicago:20250904T100000
DTEND;TZID=America/Chicago:20250904T110000
DTSTAMP:20260419T161231
CREATED:20250901T135102Z
LAST-MODIFIED:20250904T135104Z
UID:10001422-1756980000-1756983600@carverridgeseniorliving.com
SUMMARY:Dance it Out Fitness!
DESCRIPTION:
URL:https://carverridgeseniorliving.com/event-calendar/dance-it-out-fitness-2/
CATEGORIES:Legacy Court
END:VEVENT
BEGIN:VEVENT
DTSTART;TZID=America/Chicago:20250904T110000
DTEND;TZID=America/Chicago:20250904T120000
DTSTAMP:20260419T161231
CREATED:20250806T123620Z
LAST-MODIFIED:20250904T135104Z
UID:10001147-1756983600-1756987200@carverridgeseniorliving.com
SUMMARY:Crafting the News
DESCRIPTION:
URL:https://carverridgeseniorliving.com/event-calendar/where-in-the-world-7/
LOCATION:LC Dining Room
CATEGORIES:Legacy Court
END:VEVENT
BEGIN:VEVENT
DTSTART;TZID=America/Chicago:20250904T133000
DTEND;TZID=America/Chicago:20250904T143000
DTSTAMP:20260419T161231
CREATED:20250806T123620Z
LAST-MODIFIED:20250904T135104Z
UID:10001148-1756992600-1756996200@carverridgeseniorliving.com
SUMMARY:Musical Moments: Frank Sinatra
DESCRIPTION:
URL:https://carverridgeseniorliving.com/event-calendar/musical-moments-19/
LOCATION:LC Dining Room
CATEGORIES:Legacy Court
END:VEVENT
BEGIN:VEVENT
DTSTART;TZID=America/Chicago:20250904T140000
DTEND;TZID=America/Chicago:20250904T150000
DTSTAMP:20260419T161231
CREATED:20250807T125113Z
LAST-MODIFIED:20250903T135147Z
UID:10001165-1756994400-1756998000@carverridgeseniorliving.com
SUMMARY:Guy time w/Luke
DESCRIPTION:
URL:https://carverridgeseniorliving.com/event-calendar/guy-time-w-luke-4/
LOCATION:Dining Room
CATEGORIES:Legacy Court
END:VEVENT
BEGIN:VEVENT
DTSTART;TZID=America/Chicago:20250904T153000
DTEND;TZID=America/Chicago:20250904T163000
DTSTAMP:20260419T161231
CREATED:20250806T123620Z
LAST-MODIFIED:20250904T135104Z
UID:10001149-1756999800-1757003400@carverridgeseniorliving.com
SUMMARY:Let's Give Thanks! (Newspaper Carriers!)
DESCRIPTION:
URL:https://carverridgeseniorliving.com/event-calendar/music-w-jenna-in-legacy-court-12/
LOCATION:LC Dining Room
CATEGORIES:Legacy Court
END:VEVENT
BEGIN:VEVENT
DTSTART;TZID=America/Chicago:20250905T103000
DTEND;TZID=America/Chicago:20250905T113000
DTSTAMP:20260419T161231
CREATED:20250807T125113Z
LAST-MODIFIED:20250905T135128Z
UID:10001166-1757068200-1757071800@carverridgeseniorliving.com
SUMMARY:Music w/Melissa
DESCRIPTION:
URL:https://carverridgeseniorliving.com/event-calendar/music-w-melissa-4/
LOCATION:Piano Lounge
CATEGORIES:Legacy Court
END:VEVENT
BEGIN:VEVENT
DTSTART;TZID=America/Chicago:20250905T110000
DTEND;TZID=America/Chicago:20250905T120000
DTSTAMP:20260419T161231
CREATED:20250807T125113Z
LAST-MODIFIED:20250903T135147Z
UID:10001167-1757070000-1757073600@carverridgeseniorliving.com
SUMMARY:Visit w/Jenny and Kiddos
DESCRIPTION:
URL:https://carverridgeseniorliving.com/event-calendar/visit-w-jenny-and-kiddos-6/
LOCATION:LC Dining Room
CATEGORIES:Legacy Court
END:VEVENT
BEGIN:VEVENT
DTSTART;TZID=America/Chicago:20250905T133000
DTEND;TZID=America/Chicago:20250905T143000
DTSTAMP:20260419T161231
CREATED:20250807T125113Z
LAST-MODIFIED:20250905T135128Z
UID:10001168-1757079000-1757082600@carverridgeseniorliving.com
SUMMARY:Make a Mess with Jess
DESCRIPTION:
URL:https://carverridgeseniorliving.com/event-calendar/make-a-mess-with-jess-17/
LOCATION:LC Dining Room
CATEGORIES:Legacy Court
END:VEVENT
END:VCALENDAR