BEGIN:VCALENDAR
VERSION:2.0
PRODID:-//Carver Ridge Senior Living - ECPv6.11.2.1//NONSGML v1.0//EN
CALSCALE:GREGORIAN
METHOD:PUBLISH
X-ORIGINAL-URL:https://carverridgeseniorliving.com
X-WR-CALDESC:Events for Carver Ridge Senior Living
REFRESH-INTERVAL;VALUE=DURATION:PT1H
X-Robots-Tag:noindex
X-PUBLISHED-TTL:PT1H
BEGIN:VTIMEZONE
TZID:America/Chicago
BEGIN:DAYLIGHT
TZOFFSETFROM:-0600
TZOFFSETTO:-0500
TZNAME:CDT
DTSTART:20260308T080000
END:DAYLIGHT
BEGIN:STANDARD
TZOFFSETFROM:-0500
TZOFFSETTO:-0600
TZNAME:CST
DTSTART:20261101T070000
END:STANDARD
END:VTIMEZONE
BEGIN:VEVENT
DTSTART;TZID=America/Chicago:20260208T183000
DTEND;TZID=America/Chicago:20260208T193000
DTSTAMP:20260422T225024
CREATED:20260201T045104Z
LAST-MODIFIED:20260208T045118Z
UID:10002744-1770575400-1770579000@carverridgeseniorliving.com
SUMMARY:HHA Led Game show viewing hour!
DESCRIPTION:
URL:https://carverridgeseniorliving.com/event-calendar/hha-led-game-show-viewing-hour-8/
LOCATION:Piano Lounge
CATEGORIES:Legacy Court
END:VEVENT
BEGIN:VEVENT
DTSTART;TZID=America/Chicago:20260208T170000
DTEND;TZID=America/Chicago:20260208T180000
DTSTAMP:20260422T225024
CREATED:20260201T042104Z
LAST-MODIFIED:20260208T045118Z
UID:10002712-1770570000-1770573600@carverridgeseniorliving.com
SUMMARY:Superbowl! on NBC
DESCRIPTION:
URL:https://carverridgeseniorliving.com/event-calendar/superbowl-on-nbc/
CATEGORIES:Legacy Court,Senior Living
END:VEVENT
BEGIN:VEVENT
DTSTART;TZID=America/Chicago:20260208T150000
DTEND;TZID=America/Chicago:20260208T160000
DTSTAMP:20260422T225024
CREATED:20260110T032107Z
LAST-MODIFIED:20260208T045118Z
UID:10002551-1770562800-1770566400@carverridgeseniorliving.com
SUMMARY:Bingo!
DESCRIPTION:
URL:https://carverridgeseniorliving.com/event-calendar/lets-get-crafty-11/
LOCATION:LC Dining Room
CATEGORIES:Legacy Court
END:VEVENT
BEGIN:VEVENT
DTSTART;TZID=America/Chicago:20260208T120000
DTEND;TZID=America/Chicago:20260208T130000
DTSTAMP:20260422T225024
CREATED:20260201T045104Z
LAST-MODIFIED:20260208T045118Z
UID:10002743-1770552000-1770555600@carverridgeseniorliving.com
SUMMARY:Oshibori
DESCRIPTION:
URL:https://carverridgeseniorliving.com/event-calendar/oshibori-8/
LOCATION:LC Dining Room
CATEGORIES:Legacy Court
END:VEVENT
BEGIN:VEVENT
DTSTART;TZID=America/Chicago:20260208T100000
DTEND;TZID=America/Chicago:20260208T110000
DTSTAMP:20260422T225024
CREATED:20260110T032107Z
LAST-MODIFIED:20260208T045118Z
UID:10002550-1770544800-1770548400@carverridgeseniorliving.com
SUMMARY:Bean Bag Toss w/Yvonna
DESCRIPTION:
URL:https://carverridgeseniorliving.com/event-calendar/bean-bag-toss-w-yvonna-27/
LOCATION:LC Piano Lounge
CATEGORIES:Legacy Court
END:VEVENT
BEGIN:VEVENT
DTSTART;TZID=America/Chicago:20260208T093000
DTEND;TZID=America/Chicago:20260208T103000
DTSTAMP:20260422T225024
CREATED:20260110T032107Z
LAST-MODIFIED:20260208T045118Z
UID:10002549-1770543000-1770546600@carverridgeseniorliving.com
SUMMARY:News and Views
DESCRIPTION:
URL:https://carverridgeseniorliving.com/event-calendar/news-and-views-79/
LOCATION:LC Dining Room
CATEGORIES:Legacy Court
END:VEVENT
BEGIN:VEVENT
DTSTART;TZID=America/Chicago:20260207T183000
DTEND;TZID=America/Chicago:20260207T193000
DTSTAMP:20260422T225024
CREATED:20260201T045104Z
LAST-MODIFIED:20260207T045107Z
UID:10002742-1770489000-1770492600@carverridgeseniorliving.com
SUMMARY:HHA Led Game show viewing hour!
DESCRIPTION:
URL:https://carverridgeseniorliving.com/event-calendar/hha-led-game-show-viewing-hour-7/
LOCATION:Piano Lounge
CATEGORIES:Legacy Court
END:VEVENT
BEGIN:VEVENT
DTSTART;TZID=America/Chicago:20260207T150000
DTEND;TZID=America/Chicago:20260207T160000
DTSTAMP:20260422T225024
CREATED:20260109T030750Z
LAST-MODIFIED:20260207T045107Z
UID:10002545-1770476400-1770480000@carverridgeseniorliving.com
SUMMARY:Let's Get Crafty!
DESCRIPTION:
URL:https://carverridgeseniorliving.com/event-calendar/saturday-social-time-33/
LOCATION:LC Dining Room
CATEGORIES:Legacy Court
END:VEVENT
BEGIN:VEVENT
DTSTART;TZID=America/Chicago:20260207T133000
DTEND;TZID=America/Chicago:20260207T143000
DTSTAMP:20260422T225024
CREATED:20260109T030750Z
LAST-MODIFIED:20260207T045107Z
UID:10002544-1770471000-1770474600@carverridgeseniorliving.com
SUMMARY:HHAs led Manicures and Hand Massage
DESCRIPTION:
URL:https://carverridgeseniorliving.com/event-calendar/hhas-led-manicures-and-hand-massage-39/
LOCATION:Dining Room
CATEGORIES:Legacy Court
END:VEVENT
BEGIN:VEVENT
DTSTART;TZID=America/Chicago:20260207T120000
DTEND;TZID=America/Chicago:20260207T130000
DTSTAMP:20260422T225024
CREATED:20260201T045104Z
LAST-MODIFIED:20260207T045107Z
UID:10002741-1770465600-1770469200@carverridgeseniorliving.com
SUMMARY:Oshibori
DESCRIPTION:
URL:https://carverridgeseniorliving.com/event-calendar/oshibori-7/
LOCATION:LC Dining Room
CATEGORIES:Legacy Court
END:VEVENT
BEGIN:VEVENT
DTSTART;TZID=America/Chicago:20260207T110000
DTEND;TZID=America/Chicago:20260207T120000
DTSTAMP:20260422T225024
CREATED:20260109T030750Z
LAST-MODIFIED:20260207T045107Z
UID:10002543-1770462000-1770465600@carverridgeseniorliving.com
SUMMARY:The Bond Between visits! - Jana and Nala
DESCRIPTION:
URL:https://carverridgeseniorliving.com/event-calendar/the-bond-between-visits-jana-and-nala-4/
LOCATION:LC Dining Room
CATEGORIES:Legacy Court
END:VEVENT
BEGIN:VEVENT
DTSTART;TZID=America/Chicago:20260207T100000
DTEND;TZID=America/Chicago:20260207T110000
DTSTAMP:20260422T225024
CREATED:20260109T030750Z
LAST-MODIFIED:20260207T045106Z
UID:10002542-1770458400-1770462000@carverridgeseniorliving.com
SUMMARY:Balloonball w/Yvonna
DESCRIPTION:
URL:https://carverridgeseniorliving.com/event-calendar/balloonball-w-yvonna-20/
LOCATION:Piano Lounge
CATEGORIES:Legacy Court
END:VEVENT
BEGIN:VEVENT
DTSTART;TZID=America/Chicago:20260206T183000
DTEND;TZID=America/Chicago:20260206T193000
DTSTAMP:20260422T225024
CREATED:20260201T045103Z
LAST-MODIFIED:20260206T045104Z
UID:10002740-1770402600-1770406200@carverridgeseniorliving.com
SUMMARY:HHA Led Game show viewing hour!
DESCRIPTION:
URL:https://carverridgeseniorliving.com/event-calendar/hha-led-game-show-viewing-hour-6/
LOCATION:Piano Lounge
CATEGORIES:Legacy Court
END:VEVENT
BEGIN:VEVENT
DTSTART;TZID=America/Chicago:20260206T150000
DTEND;TZID=America/Chicago:20260206T160000
DTSTAMP:20260422T225024
CREATED:20260108T030606Z
LAST-MODIFIED:20260206T045104Z
UID:10002536-1770390000-1770393600@carverridgeseniorliving.com
SUMMARY:Mocktail Social
DESCRIPTION:
URL:https://carverridgeseniorliving.com/event-calendar/mocktail-social-18/
LOCATION:LC Dining Room
CATEGORIES:Legacy Court
END:VEVENT
BEGIN:VEVENT
DTSTART;TZID=America/Chicago:20260206T133000
DTEND;TZID=America/Chicago:20260206T143000
DTSTAMP:20260422T225024
CREATED:20260108T030606Z
LAST-MODIFIED:20260206T045104Z
UID:10002535-1770384600-1770388200@carverridgeseniorliving.com
SUMMARY:Make a Mess with Jess
DESCRIPTION:
URL:https://carverridgeseniorliving.com/event-calendar/make-a-mess-with-jess-39/
LOCATION:LC Dining Room
CATEGORIES:Legacy Court
END:VEVENT
BEGIN:VEVENT
DTSTART;TZID=America/Chicago:20260206T120000
DTEND;TZID=America/Chicago:20260206T130000
DTSTAMP:20260422T225024
CREATED:20260201T045103Z
LAST-MODIFIED:20260206T045104Z
UID:10002739-1770379200-1770382800@carverridgeseniorliving.com
SUMMARY:Oshibori
DESCRIPTION:
URL:https://carverridgeseniorliving.com/event-calendar/oshibori-6/
LOCATION:LC Dining Room
CATEGORIES:Legacy Court
END:VEVENT
BEGIN:VEVENT
DTSTART;TZID=America/Chicago:20260206T103000
DTEND;TZID=America/Chicago:20260206T113000
DTSTAMP:20260422T225024
CREATED:20260201T045103Z
LAST-MODIFIED:20260206T045104Z
UID:10002738-1770373800-1770377400@carverridgeseniorliving.com
SUMMARY:HHA Lead Color me Happy
DESCRIPTION:
URL:https://carverridgeseniorliving.com/event-calendar/hha-lead-color-me-happy/
LOCATION:LC Dining Room
CATEGORIES:Legacy Court
END:VEVENT
BEGIN:VEVENT
DTSTART;TZID=America/Chicago:20260205T183000
DTEND;TZID=America/Chicago:20260205T193000
DTSTAMP:20260422T225024
CREATED:20260201T045103Z
LAST-MODIFIED:20260205T045106Z
UID:10002737-1770316200-1770319800@carverridgeseniorliving.com
SUMMARY:HHA Led Game show viewing hour!
DESCRIPTION:
URL:https://carverridgeseniorliving.com/event-calendar/hha-led-game-show-viewing-hour-5/
LOCATION:Piano Lounge
CATEGORIES:Legacy Court
END:VEVENT
BEGIN:VEVENT
DTSTART;TZID=America/Chicago:20260205T150000
DTEND;TZID=America/Chicago:20260205T160000
DTSTAMP:20260422T225024
CREATED:20260107T030608Z
LAST-MODIFIED:20260205T045105Z
UID:10002527-1770303600-1770307200@carverridgeseniorliving.com
SUMMARY:Walk it Out
DESCRIPTION:
URL:https://carverridgeseniorliving.com/event-calendar/color-me-happy-22/
LOCATION:LC Dining Room
CATEGORIES:Legacy Court
END:VEVENT
BEGIN:VEVENT
DTSTART;TZID=America/Chicago:20260205T133000
DTEND;TZID=America/Chicago:20260205T143000
DTSTAMP:20260422T225024
CREATED:20260107T030608Z
LAST-MODIFIED:20260205T045105Z
UID:10002526-1770298200-1770301800@carverridgeseniorliving.com
SUMMARY:Musical Moments
DESCRIPTION:
URL:https://carverridgeseniorliving.com/event-calendar/musical-moments-frank-sinatra-19/
LOCATION:LC Dining Room
CATEGORIES:Legacy Court
END:VEVENT
BEGIN:VEVENT
DTSTART;TZID=America/Chicago:20260205T120000
DTEND;TZID=America/Chicago:20260205T130000
DTSTAMP:20260422T225024
CREATED:20260201T045103Z
LAST-MODIFIED:20260205T045105Z
UID:10002736-1770292800-1770296400@carverridgeseniorliving.com
SUMMARY:Oshibori
DESCRIPTION:
URL:https://carverridgeseniorliving.com/event-calendar/oshibori-5/
LOCATION:LC Dining Room
CATEGORIES:Legacy Court
END:VEVENT
BEGIN:VEVENT
DTSTART;TZID=America/Chicago:20260205T110000
DTEND;TZID=America/Chicago:20260205T120000
DTSTAMP:20260422T225024
CREATED:20260107T030608Z
LAST-MODIFIED:20260205T045105Z
UID:10002525-1770289200-1770292800@carverridgeseniorliving.com
SUMMARY:Watercolor Wonder
DESCRIPTION:
URL:https://carverridgeseniorliving.com/event-calendar/gratitude-attitude-devotions-27/
LOCATION:LC Dining Room
CATEGORIES:Legacy Court
END:VEVENT
BEGIN:VEVENT
DTSTART;TZID=America/Chicago:20260205T100000
DTEND;TZID=America/Chicago:20260205T110000
DTSTAMP:20260422T225024
CREATED:20260201T042103Z
LAST-MODIFIED:20260205T045105Z
UID:10002709-1770285600-1770289200@carverridgeseniorliving.com
SUMMARY:Carver PALS (4th Grade)
DESCRIPTION:
URL:https://carverridgeseniorliving.com/event-calendar/carver-pals-4th-grade/
LOCATION:Bistro
CATEGORIES:Legacy Court,Senior Living
END:VEVENT
BEGIN:VEVENT
DTSTART;TZID=America/Chicago:20260204T183000
DTEND;TZID=America/Chicago:20260204T193000
DTSTAMP:20260422T225024
CREATED:20260201T045103Z
LAST-MODIFIED:20260204T045107Z
UID:10002735-1770229800-1770233400@carverridgeseniorliving.com
SUMMARY:HHA Led Game show viewing hour!
DESCRIPTION:
URL:https://carverridgeseniorliving.com/event-calendar/hha-led-game-show-viewing-hour-4/
LOCATION:Piano Lounge
CATEGORIES:Legacy Court
END:VEVENT
BEGIN:VEVENT
DTSTART;TZID=America/Chicago:20260204T150000
DTEND;TZID=America/Chicago:20260204T160000
DTSTAMP:20260422T225024
CREATED:20260106T030607Z
LAST-MODIFIED:20260204T045107Z
UID:10002521-1770217200-1770220800@carverridgeseniorliving.com
SUMMARY:"Love is in the Air" Trivia
DESCRIPTION:
URL:https://carverridgeseniorliving.com/event-calendar/kindness-corner-28/
LOCATION:LC Dining Room
CATEGORIES:Legacy Court
END:VEVENT
BEGIN:VEVENT
DTSTART;TZID=America/Chicago:20260204T134500
DTEND;TZID=America/Chicago:20260204T144500
DTSTAMP:20260422T225024
CREATED:20260201T045103Z
LAST-MODIFIED:20260204T045107Z
UID:10002734-1770212700-1770216300@carverridgeseniorliving.com
SUMMARY:Catholic Communion Delivery
DESCRIPTION:
URL:https://carverridgeseniorliving.com/event-calendar/catholic-communion-delivery-18/
LOCATION:Piano Lounge
CATEGORIES:Legacy Court
END:VEVENT
BEGIN:VEVENT
DTSTART;TZID=America/Chicago:20260204T133000
DTEND;TZID=America/Chicago:20260204T143000
DTSTAMP:20260422T225024
CREATED:20260106T030607Z
LAST-MODIFIED:20260204T045107Z
UID:10002520-1770211800-1770215400@carverridgeseniorliving.com
SUMMARY:Memory Cafe
DESCRIPTION:
URL:https://carverridgeseniorliving.com/event-calendar/competition-corner-12/
LOCATION:LC Piano Lounge
CATEGORIES:Legacy Court
END:VEVENT
BEGIN:VEVENT
DTSTART;TZID=America/Chicago:20260204T130000
DTEND;TZID=America/Chicago:20260204T140000
DTSTAMP:20260422T225024
CREATED:20260106T030607Z
LAST-MODIFIED:20260131T045118Z
UID:10002519-1770210000-1770213600@carverridgeseniorliving.com
SUMMARY:Memory Cafe
DESCRIPTION:
URL:https://carverridgeseniorliving.com/event-calendar/memory-cafe-6/
LOCATION:LC Dining Room
CATEGORIES:Legacy Court
END:VEVENT
BEGIN:VEVENT
DTSTART;TZID=America/Chicago:20260204T120000
DTEND;TZID=America/Chicago:20260204T130000
DTSTAMP:20260422T225024
CREATED:20260201T045103Z
LAST-MODIFIED:20260204T045107Z
UID:10002733-1770206400-1770210000@carverridgeseniorliving.com
SUMMARY:Oshibori
DESCRIPTION:
URL:https://carverridgeseniorliving.com/event-calendar/oshibori-4/
LOCATION:LC Dining Room
CATEGORIES:Legacy Court
END:VEVENT
BEGIN:VEVENT
DTSTART;TZID=America/Chicago:20260204T110000
DTEND;TZID=America/Chicago:20260204T120000
DTSTAMP:20260422T225024
CREATED:20260106T030607Z
LAST-MODIFIED:20260204T045106Z
UID:10002518-1770202800-1770206400@carverridgeseniorliving.com
SUMMARY:Senior Fitness
DESCRIPTION:
URL:https://carverridgeseniorliving.com/event-calendar/senior-fitness-11/
CATEGORIES:Legacy Court
END:VEVENT
END:VCALENDAR