BEGIN:VCALENDAR
VERSION:2.0
PRODID:-//Carver Ridge Senior Living - ECPv6.11.2.1//NONSGML v1.0//EN
CALSCALE:GREGORIAN
METHOD:PUBLISH
X-ORIGINAL-URL:https://carverridgeseniorliving.com
X-WR-CALDESC:Events for Carver Ridge Senior Living
REFRESH-INTERVAL;VALUE=DURATION:PT1H
X-Robots-Tag:noindex
X-PUBLISHED-TTL:PT1H
BEGIN:VTIMEZONE
TZID:America/Chicago
BEGIN:DAYLIGHT
TZOFFSETFROM:-0600
TZOFFSETTO:-0500
TZNAME:CDT
DTSTART:20250309T080000
END:DAYLIGHT
BEGIN:STANDARD
TZOFFSETFROM:-0500
TZOFFSETTO:-0600
TZNAME:CST
DTSTART:20251102T070000
END:STANDARD
END:VTIMEZONE
BEGIN:VEVENT
DTSTART;TZID=America/Chicago:20250909T150000
DTEND;TZID=America/Chicago:20250909T160000
DTSTAMP:20260420T000548
CREATED:20250811T125129Z
LAST-MODIFIED:20250909T140606Z
UID:10001201-1757430000-1757433600@carverridgeseniorliving.com
SUMMARY:Beartastic Craft
DESCRIPTION:
URL:https://carverridgeseniorliving.com/event-calendar/kindness-corner-9/
LOCATION:LC Dining Room
CATEGORIES:Legacy Court
END:VEVENT
BEGIN:VEVENT
DTSTART;VALUE=DATE:20250910
DTEND;VALUE=DATE:20250911
DTSTAMP:20260420T000548
CREATED:20250908T133606Z
LAST-MODIFIED:20250909T140606Z
UID:10001487-1757462400-1757548799@carverridgeseniorliving.com
SUMMARY:Dress Up: Your Favorite Holiday!
DESCRIPTION:
URL:https://carverridgeseniorliving.com/event-calendar/dress-up-your-favorite-holiday/
CATEGORIES:Legacy Court,Senior Living
END:VEVENT
BEGIN:VEVENT
DTSTART;TZID=America/Chicago:20250910T100000
DTEND;TZID=America/Chicago:20250910T110000
DTSTAMP:20260420T000548
CREATED:20250812T125108Z
LAST-MODIFIED:20250910T140603Z
UID:10001206-1757498400-1757502000@carverridgeseniorliving.com
SUMMARY:Music with Bryant
DESCRIPTION:
URL:https://carverridgeseniorliving.com/event-calendar/music-with-bryant-19/
LOCATION:Piano Lounge
CATEGORIES:Legacy Court
END:VEVENT
BEGIN:VEVENT
DTSTART;TZID=America/Chicago:20250910T110000
DTEND;TZID=America/Chicago:20250910T120000
DTSTAMP:20260420T000548
CREATED:20250812T125108Z
LAST-MODIFIED:20250910T140603Z
UID:10001207-1757502000-1757505600@carverridgeseniorliving.com
SUMMARY:Sunshine and Smiles
DESCRIPTION:
URL:https://carverridgeseniorliving.com/event-calendar/whole-brain-health-exercise-3/
LOCATION:Piano Lounge
CATEGORIES:Legacy Court
END:VEVENT
BEGIN:VEVENT
DTSTART;TZID=America/Chicago:20250910T133000
DTEND;TZID=America/Chicago:20250910T143000
DTSTAMP:20260420T000548
CREATED:20250812T125108Z
LAST-MODIFIED:20250910T140603Z
UID:10001208-1757511000-1757514600@carverridgeseniorliving.com
SUMMARY:Name of the Game
DESCRIPTION:
URL:https://carverridgeseniorliving.com/event-calendar/name-of-the-game-7/
LOCATION:LC Dining Room
CATEGORIES:Legacy Court
END:VEVENT
BEGIN:VEVENT
DTSTART;TZID=America/Chicago:20250910T150000
DTEND;TZID=America/Chicago:20250910T160000
DTSTAMP:20260420T000548
CREATED:20250812T125108Z
LAST-MODIFIED:20250910T140603Z
UID:10001209-1757516400-1757520000@carverridgeseniorliving.com
SUMMARY:September Birthday Party w/Lisa Murphy
DESCRIPTION:
URL:https://carverridgeseniorliving.com/event-calendar/sunshine-and-smiles-snack-social-34/
LOCATION:LC Piano Lounge
CATEGORIES:Legacy Court
END:VEVENT
BEGIN:VEVENT
DTSTART;VALUE=DATE:20250911
DTEND;VALUE=DATE:20250912
DTSTAMP:20260420T000548
CREATED:20250908T133607Z
LAST-MODIFIED:20250910T140603Z
UID:10001488-1757548800-1757635199@carverridgeseniorliving.com
SUMMARY:Dress Up: Around the World!
DESCRIPTION:
URL:https://carverridgeseniorliving.com/event-calendar/dress-up-around-the-world/
CATEGORIES:Legacy Court,Senior Living
END:VEVENT
BEGIN:VEVENT
DTSTART;TZID=America/Chicago:20250911T084800
DTEND;TZID=America/Chicago:20250911T085300
DTSTAMP:20260420T000548
CREATED:20250813T123635Z
LAST-MODIFIED:20250911T135106Z
UID:10001210-1757580480-1757580780@carverridgeseniorliving.com
SUMMARY:Moment of Silence for September 11th
DESCRIPTION:
URL:https://carverridgeseniorliving.com/event-calendar/moment-of-silence-for-september-11th/
CATEGORIES:Legacy Court,Senior Living
END:VEVENT
BEGIN:VEVENT
DTSTART;TZID=America/Chicago:20250911T101500
DTEND;TZID=America/Chicago:20250911T111500
DTSTAMP:20260420T000548
CREATED:20250813T125110Z
LAST-MODIFIED:20250911T140607Z
UID:10001213-1757585700-1757589300@carverridgeseniorliving.com
SUMMARY:Morning Drive through Arboretum
DESCRIPTION:
URL:https://carverridgeseniorliving.com/event-calendar/what-in-the-world-9/
LOCATION:LC Dining Room
CATEGORIES:Legacy Court
END:VEVENT
BEGIN:VEVENT
DTSTART;TZID=America/Chicago:20250911T133000
DTEND;TZID=America/Chicago:20250911T143000
DTSTAMP:20260420T000548
CREATED:20250813T125110Z
LAST-MODIFIED:20250911T140607Z
UID:10001214-1757597400-1757601000@carverridgeseniorliving.com
SUMMARY:Musical Moments: Spirit of America Concert
DESCRIPTION:
URL:https://carverridgeseniorliving.com/event-calendar/musical-moments-20/
LOCATION:LC Dining Room
CATEGORIES:Legacy Court
END:VEVENT
BEGIN:VEVENT
DTSTART;TZID=America/Chicago:20250911T140000
DTEND;TZID=America/Chicago:20250911T150000
DTSTAMP:20260420T000548
CREATED:20250813T125110Z
LAST-MODIFIED:20250911T140607Z
UID:10001215-1757599200-1757602800@carverridgeseniorliving.com
SUMMARY:Guy time w/Luke
DESCRIPTION:
URL:https://carverridgeseniorliving.com/event-calendar/guy-time-w-luke-5/
LOCATION:Dining Room
CATEGORIES:Legacy Court
END:VEVENT
BEGIN:VEVENT
DTSTART;TZID=America/Chicago:20250911T153000
DTEND;TZID=America/Chicago:20250911T163000
DTSTAMP:20260420T000548
CREATED:20250813T125110Z
LAST-MODIFIED:20250911T140607Z
UID:10001216-1757604600-1757608200@carverridgeseniorliving.com
SUMMARY:Let's Give Thanks! (Newspaper Carriers!)
DESCRIPTION:
URL:https://carverridgeseniorliving.com/event-calendar/music-w-jenna-in-legacy-court-13/
LOCATION:LC Dining Room
CATEGORIES:Legacy Court
END:VEVENT
BEGIN:VEVENT
DTSTART;VALUE=DATE:20250912
DTEND;VALUE=DATE:20250913
DTSTAMP:20260420T000548
CREATED:20250829T130608Z
LAST-MODIFIED:20250831T135104Z
UID:10001375-1757635200-1757721599@carverridgeseniorliving.com
SUMMARY:Purple Power Day!
DESCRIPTION:
URL:https://carverridgeseniorliving.com/event-calendar/purple-power-day/
CATEGORIES:Legacy Court,Senior Living
END:VEVENT
BEGIN:VEVENT
DTSTART;VALUE=DATE:20250912
DTEND;VALUE=DATE:20250913
DTSTAMP:20260420T000548
CREATED:20250908T133607Z
LAST-MODIFIED:20250911T140607Z
UID:10001489-1757635200-1757721599@carverridgeseniorliving.com
SUMMARY:Dress Up: Decades Day!
DESCRIPTION:
URL:https://carverridgeseniorliving.com/event-calendar/dress-up-decades-day/
CATEGORIES:Legacy Court,Senior Living
END:VEVENT
BEGIN:VEVENT
DTSTART;TZID=America/Chicago:20250912T110000
DTEND;TZID=America/Chicago:20250912T120000
DTSTAMP:20260420T000548
CREATED:20250904T135103Z
LAST-MODIFIED:20250912T140606Z
UID:10001452-1757674800-1757678400@carverridgeseniorliving.com
SUMMARY:Visit w/Jenny and Kiddos
DESCRIPTION:
URL:https://carverridgeseniorliving.com/event-calendar/visit-w-jenny-and-kiddos-8/
LOCATION:LC Dining Room
CATEGORIES:Legacy Court
END:VEVENT
BEGIN:VEVENT
DTSTART;TZID=America/Chicago:20250912T140000
DTEND;TZID=America/Chicago:20250912T150000
DTSTAMP:20260420T000548
CREATED:20250814T125117Z
LAST-MODIFIED:20250912T140606Z
UID:10001222-1757685600-1757689200@carverridgeseniorliving.com
SUMMARY:Puppy Play
DESCRIPTION:
URL:https://carverridgeseniorliving.com/event-calendar/make-a-mess-with-jess-18/
LOCATION:LC Piano Lounge
CATEGORIES:Legacy Court
END:VEVENT
BEGIN:VEVENT
DTSTART;TZID=America/Chicago:20250912T143000
DTEND;TZID=America/Chicago:20250912T153000
DTSTAMP:20260420T000548
CREATED:20250814T125117Z
LAST-MODIFIED:20250912T140606Z
UID:10001223-1757687400-1757691000@carverridgeseniorliving.com
SUMMARY:Make a Mess w/Jess
DESCRIPTION:
URL:https://carverridgeseniorliving.com/event-calendar/kindness-korner-16/
LOCATION:LC Dining Room
CATEGORIES:Legacy Court
END:VEVENT
BEGIN:VEVENT
DTSTART;TZID=America/Chicago:20250913T094500
DTEND;TZID=America/Chicago:20250913T100000
DTSTAMP:20260420T000548
CREATED:20250815T125316Z
LAST-MODIFIED:20250913T142110Z
UID:10001229-1757756700-1757757600@carverridgeseniorliving.com
SUMMARY:News and Views
DESCRIPTION:
URL:https://carverridgeseniorliving.com/event-calendar/news-and-views-36/
CATEGORIES:Legacy Court
END:VEVENT
BEGIN:VEVENT
DTSTART;TZID=America/Chicago:20250913T100000
DTEND;TZID=America/Chicago:20250913T110000
DTSTAMP:20260420T000548
CREATED:20250815T125327Z
LAST-MODIFIED:20250913T142110Z
UID:10001230-1757757600-1757761200@carverridgeseniorliving.com
SUMMARY:Balloonball w/Amanda
DESCRIPTION:
URL:https://carverridgeseniorliving.com/event-calendar/balloonball-w-amanda-9/
LOCATION:Piano Lounge
CATEGORIES:Legacy Court
END:VEVENT
BEGIN:VEVENT
DTSTART;TZID=America/Chicago:20250913T133000
DTEND;TZID=America/Chicago:20250913T143000
DTSTAMP:20260420T000548
CREATED:20250815T125327Z
LAST-MODIFIED:20250913T142110Z
UID:10001231-1757770200-1757773800@carverridgeseniorliving.com
SUMMARY:HHAs led Manicures and Hand Massage
DESCRIPTION:
URL:https://carverridgeseniorliving.com/event-calendar/hhas-led-manicures-and-hand-massage-18/
LOCATION:Dining Room
CATEGORIES:Legacy Court
END:VEVENT
BEGIN:VEVENT
DTSTART;TZID=America/Chicago:20250913T150000
DTEND;TZID=America/Chicago:20250913T160000
DTSTAMP:20260420T000548
CREATED:20250815T125327Z
LAST-MODIFIED:20250913T142110Z
UID:10001232-1757775600-1757779200@carverridgeseniorliving.com
SUMMARY:Strawberry Shortcake Social
DESCRIPTION:
URL:https://carverridgeseniorliving.com/event-calendar/saturday-social-time-12/
LOCATION:LC Dining Room
CATEGORIES:Legacy Court
END:VEVENT
BEGIN:VEVENT
DTSTART;TZID=America/Chicago:20250914T094500
DTEND;TZID=America/Chicago:20250914T100000
DTSTAMP:20260420T000548
CREATED:20250816T132107Z
LAST-MODIFIED:20250914T143602Z
UID:10001239-1757843100-1757844000@carverridgeseniorliving.com
SUMMARY:News and Views
DESCRIPTION:
URL:https://carverridgeseniorliving.com/event-calendar/news-and-views-37/
CATEGORIES:Legacy Court
END:VEVENT
BEGIN:VEVENT
DTSTART;TZID=America/Chicago:20250914T100000
DTEND;TZID=America/Chicago:20250914T110000
DTSTAMP:20260420T000548
CREATED:20250816T132107Z
LAST-MODIFIED:20250914T143602Z
UID:10001240-1757844000-1757847600@carverridgeseniorliving.com
SUMMARY:Fun and Fit w/Amanda
DESCRIPTION:
URL:https://carverridgeseniorliving.com/event-calendar/fun-and-fit-w-amanda-18/
CATEGORIES:Legacy Court
END:VEVENT
BEGIN:VEVENT
DTSTART;TZID=America/Chicago:20250914T150000
DTEND;TZID=America/Chicago:20250914T160000
DTSTAMP:20260420T000548
CREATED:20250816T132107Z
LAST-MODIFIED:20250914T143602Z
UID:10001241-1757862000-1757865600@carverridgeseniorliving.com
SUMMARY:Sunshine and Smiles Snack Social
DESCRIPTION:
URL:https://carverridgeseniorliving.com/event-calendar/sunshine-and-smiles-snack-social-35/
LOCATION:LC Dining Room
CATEGORIES:Legacy Court
END:VEVENT
BEGIN:VEVENT
DTSTART;TZID=America/Chicago:20250915T100000
DTEND;TZID=America/Chicago:20250915T110000
DTSTAMP:20260420T000548
CREATED:20250817T132210Z
LAST-MODIFIED:20250831T135105Z
UID:10001244-1757930400-1757934000@carverridgeseniorliving.com
SUMMARY:Faith Corner
DESCRIPTION:
URL:https://carverridgeseniorliving.com/event-calendar/faith-corner-16/
LOCATION:LC Dining Room
CATEGORIES:Legacy Court
END:VEVENT
BEGIN:VEVENT
DTSTART;TZID=America/Chicago:20250915T103000
DTEND;TZID=America/Chicago:20250915T113000
DTSTAMP:20260420T000548
CREATED:20250817T132210Z
LAST-MODIFIED:20250915T143604Z
UID:10001245-1757932200-1757935800@carverridgeseniorliving.com
SUMMARY:Doubleball
DESCRIPTION:
URL:https://carverridgeseniorliving.com/event-calendar/bean-bag-toss-18/
LOCATION:Piano Lounge
CATEGORIES:Legacy Court
END:VEVENT
BEGIN:VEVENT
DTSTART;TZID=America/Chicago:20250915T113000
DTEND;TZID=America/Chicago:20250915T123000
DTSTAMP:20260420T000548
CREATED:20250904T135103Z
LAST-MODIFIED:20250915T143604Z
UID:10001453-1757935800-1757939400@carverridgeseniorliving.com
SUMMARY:Dance and Stretch
DESCRIPTION:
URL:https://carverridgeseniorliving.com/event-calendar/dance-and-stretch/
LOCATION:LC Piano Lounge
CATEGORIES:Legacy Court
END:VEVENT
BEGIN:VEVENT
DTSTART;TZID=America/Chicago:20250915T140000
DTEND;TZID=America/Chicago:20250915T150000
DTSTAMP:20260420T000548
CREATED:20250817T132210Z
LAST-MODIFIED:20250915T143604Z
UID:10001246-1757944800-1757948400@carverridgeseniorliving.com
SUMMARY:Monday Movie Matinee: Wonder
DESCRIPTION:
URL:https://carverridgeseniorliving.com/event-calendar/monday-movie-matinee-17/
LOCATION:Piano Lounge
CATEGORIES:Legacy Court
END:VEVENT
BEGIN:VEVENT
DTSTART;TZID=America/Chicago:20250916T110000
DTEND;TZID=America/Chicago:20250916T120000
DTSTAMP:20260420T000548
CREATED:20250818T132149Z
LAST-MODIFIED:20250831T135105Z
UID:10001252-1758020400-1758024000@carverridgeseniorliving.com
SUMMARY:Worship with Chaplain Carol
DESCRIPTION:
URL:https://carverridgeseniorliving.com/event-calendar/worship-with-chaplain-carol-18/
LOCATION:Piano Lounge
CATEGORIES:Legacy Court
END:VEVENT
BEGIN:VEVENT
DTSTART;TZID=America/Chicago:20250916T110000
DTEND;TZID=America/Chicago:20250916T120000
DTSTAMP:20260420T000548
CREATED:20250903T130613Z
LAST-MODIFIED:20250916T143607Z
UID:10001438-1758020400-1758024000@carverridgeseniorliving.com
SUMMARY:Worship w/Chaplain Carol in Legacy Court
DESCRIPTION:
URL:https://carverridgeseniorliving.com/event-calendar/worship-w-chaplain-carol-in-legacy-court-2/
LOCATION:Piano Lounge
CATEGORIES:Legacy Court,Senior Living
END:VEVENT
END:VCALENDAR