BEGIN:VCALENDAR
VERSION:2.0
PRODID:-//Carver Ridge Senior Living - ECPv6.11.2.1//NONSGML v1.0//EN
CALSCALE:GREGORIAN
METHOD:PUBLISH
X-WR-CALNAME:Carver Ridge Senior Living
X-ORIGINAL-URL:https://carverridgeseniorliving.com
X-WR-CALDESC:Events for Carver Ridge Senior Living
REFRESH-INTERVAL;VALUE=DURATION:PT1H
X-Robots-Tag:noindex
X-PUBLISHED-TTL:PT1H
BEGIN:VTIMEZONE
TZID:America/Chicago
BEGIN:DAYLIGHT
TZOFFSETFROM:-0600
TZOFFSETTO:-0500
TZNAME:CDT
DTSTART:20260308T080000
END:DAYLIGHT
BEGIN:STANDARD
TZOFFSETFROM:-0500
TZOFFSETTO:-0600
TZNAME:CST
DTSTART:20261101T070000
END:STANDARD
END:VTIMEZONE
BEGIN:VEVENT
DTSTART;TZID=America/Chicago:20260204T100000
DTEND;TZID=America/Chicago:20260204T110000
DTSTAMP:20260423T035530
CREATED:20260106T030607Z
LAST-MODIFIED:20260204T045106Z
UID:10002517-1770199200-1770202800@carverridgeseniorliving.com
SUMMARY:Music with Bryant
DESCRIPTION:
URL:https://carverridgeseniorliving.com/event-calendar/music-with-bryant-40/
LOCATION:Piano Lounge
CATEGORIES:Legacy Court
END:VEVENT
BEGIN:VEVENT
DTSTART;TZID=America/Chicago:20260203T183000
DTEND;TZID=America/Chicago:20260203T193000
DTSTAMP:20260423T035530
CREATED:20260201T045103Z
LAST-MODIFIED:20260203T045110Z
UID:10002732-1770143400-1770147000@carverridgeseniorliving.com
SUMMARY:HHA Led Game show viewing hour!
DESCRIPTION:
URL:https://carverridgeseniorliving.com/event-calendar/hha-led-game-show-viewing-hour-3/
LOCATION:Piano Lounge
CATEGORIES:Legacy Court
END:VEVENT
BEGIN:VEVENT
DTSTART;TZID=America/Chicago:20260203T133000
DTEND;TZID=America/Chicago:20260203T143000
DTSTAMP:20260423T035530
CREATED:20260105T030615Z
LAST-MODIFIED:20260131T045117Z
UID:10002512-1770125400-1770129000@carverridgeseniorliving.com
SUMMARY:BINGO!
DESCRIPTION:
URL:https://carverridgeseniorliving.com/event-calendar/bingo-94/
LOCATION:LC Dining Room
CATEGORIES:Legacy Court
END:VEVENT
BEGIN:VEVENT
DTSTART;TZID=America/Chicago:20260203T133000
DTEND;TZID=America/Chicago:20260203T143000
DTSTAMP:20260423T035530
CREATED:20260105T030615Z
LAST-MODIFIED:20260203T045110Z
UID:10002513-1770125400-1770129000@carverridgeseniorliving.com
SUMMARY:Nacho Average Tuesday
DESCRIPTION:
URL:https://carverridgeseniorliving.com/event-calendar/nacho-average-tuesday-18/
LOCATION:LC Dining Room
CATEGORIES:Legacy Court
END:VEVENT
BEGIN:VEVENT
DTSTART;TZID=America/Chicago:20260203T120000
DTEND;TZID=America/Chicago:20260203T130000
DTSTAMP:20260423T035530
CREATED:20260201T045103Z
LAST-MODIFIED:20260203T045110Z
UID:10002730-1770120000-1770123600@carverridgeseniorliving.com
SUMMARY:Oshibori
DESCRIPTION:
URL:https://carverridgeseniorliving.com/event-calendar/oshibori-3/
LOCATION:LC Dining Room
CATEGORIES:Legacy Court
END:VEVENT
BEGIN:VEVENT
DTSTART;TZID=America/Chicago:20260203T113000
DTEND;TZID=America/Chicago:20260203T123000
DTSTAMP:20260423T035530
CREATED:20260105T030615Z
LAST-MODIFIED:20260131T045119Z
UID:10002511-1770118200-1770121800@carverridgeseniorliving.com
SUMMARY:Chair Yoga
DESCRIPTION:
URL:https://carverridgeseniorliving.com/event-calendar/chair-yoga-59/
CATEGORIES:Legacy Court
END:VEVENT
BEGIN:VEVENT
DTSTART;TZID=America/Chicago:20260203T110000
DTEND;TZID=America/Chicago:20260203T120000
DTSTAMP:20260423T035530
CREATED:20260105T030615Z
LAST-MODIFIED:20260203T045110Z
UID:10002510-1770116400-1770120000@carverridgeseniorliving.com
SUMMARY:Worship w/Chaplain Carol
DESCRIPTION:
URL:https://carverridgeseniorliving.com/event-calendar/worship-w-chaplain-carol-14/
LOCATION:LC Piano Lounge
CATEGORIES:Legacy Court
END:VEVENT
BEGIN:VEVENT
DTSTART;TZID=America/Chicago:20260203T100000
DTEND;TZID=America/Chicago:20260203T110000
DTSTAMP:20260423T035530
CREATED:20260201T045103Z
LAST-MODIFIED:20260203T045110Z
UID:10002731-1770112800-1770116400@carverridgeseniorliving.com
SUMMARY:BeanBag Toss
DESCRIPTION:
URL:https://carverridgeseniorliving.com/event-calendar/beanbag-toss/
LOCATION:LC Piano Lounge
CATEGORIES:Legacy Court
END:VEVENT
BEGIN:VEVENT
DTSTART;TZID=America/Chicago:20260202T183000
DTEND;TZID=America/Chicago:20260202T193000
DTSTAMP:20260423T035530
CREATED:20260201T045102Z
LAST-MODIFIED:20260202T045106Z
UID:10002729-1770057000-1770060600@carverridgeseniorliving.com
SUMMARY:HHA Led Game show viewing hour!
DESCRIPTION:
URL:https://carverridgeseniorliving.com/event-calendar/hha-led-game-show-viewing-hour-2/
LOCATION:Piano Lounge
CATEGORIES:Legacy Court
END:VEVENT
BEGIN:VEVENT
DTSTART;TZID=America/Chicago:20260202T153000
DTEND;TZID=America/Chicago:20260202T163000
DTSTAMP:20260423T035530
CREATED:20260201T045102Z
LAST-MODIFIED:20260202T045106Z
UID:10002728-1770046200-1770049800@carverridgeseniorliving.com
SUMMARY:Color Me Happy
DESCRIPTION:
URL:https://carverridgeseniorliving.com/event-calendar/color-me-happy-26/
LOCATION:LC Dining Room
CATEGORIES:Legacy Court
END:VEVENT
BEGIN:VEVENT
DTSTART;TZID=America/Chicago:20260202T140000
DTEND;TZID=America/Chicago:20260202T150000
DTSTAMP:20260423T035530
CREATED:20260104T030628Z
LAST-MODIFIED:20260202T045106Z
UID:10002505-1770040800-1770044400@carverridgeseniorliving.com
SUMMARY:Monday Movie Matinee
DESCRIPTION:
URL:https://carverridgeseniorliving.com/event-calendar/monday-movie-matinee-37/
LOCATION:Piano Lounge
CATEGORIES:Legacy Court
END:VEVENT
BEGIN:VEVENT
DTSTART;TZID=America/Chicago:20260202T120000
DTEND;TZID=America/Chicago:20260202T130000
DTSTAMP:20260423T035530
CREATED:20260201T045102Z
LAST-MODIFIED:20260202T045106Z
UID:10002727-1770033600-1770037200@carverridgeseniorliving.com
SUMMARY:Oshibori
DESCRIPTION:
URL:https://carverridgeseniorliving.com/event-calendar/oshibori-2/
LOCATION:LC Dining Room
CATEGORIES:Legacy Court
END:VEVENT
BEGIN:VEVENT
DTSTART;TZID=America/Chicago:20260202T110000
DTEND;TZID=America/Chicago:20260202T120000
DTSTAMP:20260423T035530
CREATED:20260104T030628Z
LAST-MODIFIED:20260202T045106Z
UID:10002504-1770030000-1770033600@carverridgeseniorliving.com
SUMMARY:Bingo
DESCRIPTION:
URL:https://carverridgeseniorliving.com/event-calendar/gratitude-attitude-devotions-26/
LOCATION:LC Dining Room
CATEGORIES:Legacy Court
END:VEVENT
BEGIN:VEVENT
DTSTART;TZID=America/Chicago:20260202T103000
DTEND;TZID=America/Chicago:20260202T113000
DTSTAMP:20260423T035530
CREATED:20260104T030628Z
LAST-MODIFIED:20260131T045118Z
UID:10002503-1770028200-1770031800@carverridgeseniorliving.com
SUMMARY:Gratitude Attitude Devotions
DESCRIPTION:
URL:https://carverridgeseniorliving.com/event-calendar/gratitude-attitude-devotions-25/
CATEGORIES:Legacy Court
END:VEVENT
BEGIN:VEVENT
DTSTART;TZID=America/Chicago:20260201T183000
DTEND;TZID=America/Chicago:20260201T193000
DTSTAMP:20260423T035530
CREATED:20260201T045102Z
LAST-MODIFIED:20260201T045104Z
UID:10002726-1769970600-1769974200@carverridgeseniorliving.com
SUMMARY:HHA Led Game show viewing hour!
DESCRIPTION:
URL:https://carverridgeseniorliving.com/event-calendar/hha-led-game-show-viewing-hour/
LOCATION:Piano Lounge
CATEGORIES:Legacy Court
END:VEVENT
BEGIN:VEVENT
DTSTART;TZID=America/Chicago:20260201T150000
DTEND;TZID=America/Chicago:20260201T160000
DTSTAMP:20260423T035530
CREATED:20260103T030614Z
LAST-MODIFIED:20260201T045104Z
UID:10002500-1769958000-1769961600@carverridgeseniorliving.com
SUMMARY:Bingo!
DESCRIPTION:
URL:https://carverridgeseniorliving.com/event-calendar/sunshine-and-smiles-social-time-7/
LOCATION:LC Dining Room
CATEGORIES:Legacy Court
END:VEVENT
BEGIN:VEVENT
DTSTART;TZID=America/Chicago:20260201T120000
DTEND;TZID=America/Chicago:20260201T130000
DTSTAMP:20260423T035530
CREATED:20260201T045102Z
LAST-MODIFIED:20260201T045104Z
UID:10002725-1769947200-1769950800@carverridgeseniorliving.com
SUMMARY:Oshibori
DESCRIPTION:
URL:https://carverridgeseniorliving.com/event-calendar/oshibori/
LOCATION:LC Dining Room
CATEGORIES:Legacy Court
END:VEVENT
BEGIN:VEVENT
DTSTART;TZID=America/Chicago:20260201T100000
DTEND;TZID=America/Chicago:20260201T110000
DTSTAMP:20260423T035530
CREATED:20260103T030614Z
LAST-MODIFIED:20260201T045103Z
UID:10002499-1769940000-1769943600@carverridgeseniorliving.com
SUMMARY:Let's Paint!
DESCRIPTION:
URL:https://carverridgeseniorliving.com/event-calendar/bean-bag-toss-w-amanda-25/
LOCATION:LC Dining Room
CATEGORIES:Legacy Court
END:VEVENT
BEGIN:VEVENT
DTSTART;TZID=America/Chicago:20260201T093000
DTEND;TZID=America/Chicago:20260201T094500
DTSTAMP:20260423T035530
CREATED:20260103T030614Z
LAST-MODIFIED:20260107T030607Z
UID:10002498-1769938200-1769939100@carverridgeseniorliving.com
SUMMARY:News and Views
DESCRIPTION:
URL:https://carverridgeseniorliving.com/event-calendar/news-and-views-77/
CATEGORIES:Legacy Court
END:VEVENT
BEGIN:VEVENT
DTSTART;TZID=America/Chicago:20260131T150000
DTEND;TZID=America/Chicago:20260131T160000
DTSTAMP:20260423T035530
CREATED:20260102T030608Z
LAST-MODIFIED:20260131T045118Z
UID:10002494-1769871600-1769875200@carverridgeseniorliving.com
SUMMARY:Football Movie and Snacks
DESCRIPTION:
URL:https://carverridgeseniorliving.com/event-calendar/saturday-social-time-32/
LOCATION:LC Dining Room
CATEGORIES:Legacy Court
END:VEVENT
BEGIN:VEVENT
DTSTART;TZID=America/Chicago:20260131T133000
DTEND;TZID=America/Chicago:20260131T143000
DTSTAMP:20260423T035530
CREATED:20260102T030608Z
LAST-MODIFIED:20260131T045118Z
UID:10002493-1769866200-1769869800@carverridgeseniorliving.com
SUMMARY:HHAs led Manicures and Hand Massage
DESCRIPTION:
URL:https://carverridgeseniorliving.com/event-calendar/hhas-led-manicures-and-hand-massage-38/
LOCATION:Dining Room
CATEGORIES:Legacy Court
END:VEVENT
BEGIN:VEVENT
DTSTART;TZID=America/Chicago:20260131T100000
DTEND;TZID=America/Chicago:20260131T110000
DTSTAMP:20260423T035530
CREATED:20260102T030608Z
LAST-MODIFIED:20260131T045118Z
UID:10002492-1769853600-1769857200@carverridgeseniorliving.com
SUMMARY:What in the World
DESCRIPTION:
URL:https://carverridgeseniorliving.com/event-calendar/balloonball-w-amanda-19/
LOCATION:Piano Lounge
CATEGORIES:Legacy Court
END:VEVENT
BEGIN:VEVENT
DTSTART;TZID=America/Chicago:20260131T093000
DTEND;TZID=America/Chicago:20260131T094500
DTSTAMP:20260423T035530
CREATED:20260102T030608Z
LAST-MODIFIED:20260107T030607Z
UID:10002491-1769851800-1769852700@carverridgeseniorliving.com
SUMMARY:News and Views
DESCRIPTION:
URL:https://carverridgeseniorliving.com/event-calendar/news-and-views-76/
CATEGORIES:Legacy Court
END:VEVENT
BEGIN:VEVENT
DTSTART;TZID=America/Chicago:20260130T150000
DTEND;TZID=America/Chicago:20260130T160000
DTSTAMP:20260423T035530
CREATED:20260101T025106Z
LAST-MODIFIED:20260130T045107Z
UID:10002486-1769785200-1769788800@carverridgeseniorliving.com
SUMMARY:A Moose Mixer Social
DESCRIPTION:
URL:https://carverridgeseniorliving.com/event-calendar/mocktail-social-17/
LOCATION:LC Dining Room
CATEGORIES:Legacy Court
END:VEVENT
BEGIN:VEVENT
DTSTART;TZID=America/Chicago:20260130T133000
DTEND;TZID=America/Chicago:20260130T143000
DTSTAMP:20260423T035530
CREATED:20260101T025106Z
LAST-MODIFIED:20260130T045107Z
UID:10002485-1769779800-1769783400@carverridgeseniorliving.com
SUMMARY:Make a Mess with Jess
DESCRIPTION:
URL:https://carverridgeseniorliving.com/event-calendar/make-a-mess-with-jess-38/
LOCATION:LC Dining Room
CATEGORIES:Legacy Court
END:VEVENT
BEGIN:VEVENT
DTSTART;TZID=America/Chicago:20260129T150000
DTEND;TZID=America/Chicago:20260129T160000
DTSTAMP:20260423T035530
CREATED:20251231T025111Z
LAST-MODIFIED:20260129T045104Z
UID:10002463-1769698800-1769702400@carverridgeseniorliving.com
SUMMARY:Trivia
DESCRIPTION:
URL:https://carverridgeseniorliving.com/event-calendar/color-me-happy-21/
LOCATION:LC Piano Lounge
CATEGORIES:Legacy Court
END:VEVENT
BEGIN:VEVENT
DTSTART;TZID=America/Chicago:20260129T133000
DTEND;TZID=America/Chicago:20260129T143000
DTSTAMP:20260423T035530
CREATED:20251231T025110Z
LAST-MODIFIED:20260129T045104Z
UID:10002462-1769693400-1769697000@carverridgeseniorliving.com
SUMMARY:Musical Moments
DESCRIPTION:
URL:https://carverridgeseniorliving.com/event-calendar/musical-moments-frank-sinatra-18/
LOCATION:LC Dining Room
CATEGORIES:Legacy Court
END:VEVENT
BEGIN:VEVENT
DTSTART;TZID=America/Chicago:20260129T110000
DTEND;TZID=America/Chicago:20260129T120000
DTSTAMP:20260423T035530
CREATED:20251231T025110Z
LAST-MODIFIED:20260129T045104Z
UID:10002461-1769684400-1769688000@carverridgeseniorliving.com
SUMMARY:Watercolor Wonder
DESCRIPTION:
URL:https://carverridgeseniorliving.com/event-calendar/cranium-cafe-9/
LOCATION:LC Dining Room
CATEGORIES:Legacy Court
END:VEVENT
BEGIN:VEVENT
DTSTART;TZID=America/Chicago:20260129T100000
DTEND;TZID=America/Chicago:20260129T110000
DTSTAMP:20260423T035530
CREATED:20260101T023617Z
LAST-MODIFIED:20260129T045104Z
UID:10002478-1769680800-1769684400@carverridgeseniorliving.com
SUMMARY:Drum Circle with Carver PALS! (5th Grade)
DESCRIPTION:
URL:https://carverridgeseniorliving.com/event-calendar/carver-pals-visit-5th-grade/
LOCATION:Bistro
CATEGORIES:Legacy Court,Senior Living
END:VEVENT
BEGIN:VEVENT
DTSTART;TZID=America/Chicago:20260128T150000
DTEND;TZID=America/Chicago:20260128T160000
DTSTAMP:20260423T035530
CREATED:20251230T025108Z
LAST-MODIFIED:20260128T045109Z
UID:10002446-1769612400-1769616000@carverridgeseniorliving.com
SUMMARY:Color Me Happy!
DESCRIPTION:
URL:https://carverridgeseniorliving.com/event-calendar/kindness-corner-27/
LOCATION:LC Dining Room
CATEGORIES:Legacy Court
END:VEVENT
END:VCALENDAR