BEGIN:VCALENDAR
VERSION:2.0
PRODID:-//Carver Ridge Senior Living - ECPv6.11.2.1//NONSGML v1.0//EN
CALSCALE:GREGORIAN
METHOD:PUBLISH
X-WR-CALNAME:Carver Ridge Senior Living
X-ORIGINAL-URL:https://carverridgeseniorliving.com
X-WR-CALDESC:Events for Carver Ridge Senior Living
REFRESH-INTERVAL;VALUE=DURATION:PT1H
X-Robots-Tag:noindex
X-PUBLISHED-TTL:PT1H
BEGIN:VTIMEZONE
TZID:America/Chicago
BEGIN:DAYLIGHT
TZOFFSETFROM:-0600
TZOFFSETTO:-0500
TZNAME:CDT
DTSTART:20250309T080000
END:DAYLIGHT
BEGIN:STANDARD
TZOFFSETFROM:-0500
TZOFFSETTO:-0600
TZNAME:CST
DTSTART:20251102T070000
END:STANDARD
END:VTIMEZONE
BEGIN:VEVENT
DTSTART;TZID=America/Chicago:20250913T150000
DTEND;TZID=America/Chicago:20250913T160000
DTSTAMP:20260420T030715
CREATED:20250815T125327Z
LAST-MODIFIED:20250913T142110Z
UID:10001232-1757775600-1757779200@carverridgeseniorliving.com
SUMMARY:Strawberry Shortcake Social
DESCRIPTION:
URL:https://carverridgeseniorliving.com/event-calendar/saturday-social-time-12/
LOCATION:LC Dining Room
CATEGORIES:Legacy Court
END:VEVENT
BEGIN:VEVENT
DTSTART;TZID=America/Chicago:20250914T094500
DTEND;TZID=America/Chicago:20250914T100000
DTSTAMP:20260420T030715
CREATED:20250816T132107Z
LAST-MODIFIED:20250914T143602Z
UID:10001239-1757843100-1757844000@carverridgeseniorliving.com
SUMMARY:News and Views
DESCRIPTION:
URL:https://carverridgeseniorliving.com/event-calendar/news-and-views-37/
CATEGORIES:Legacy Court
END:VEVENT
BEGIN:VEVENT
DTSTART;TZID=America/Chicago:20250914T100000
DTEND;TZID=America/Chicago:20250914T110000
DTSTAMP:20260420T030715
CREATED:20250816T132107Z
LAST-MODIFIED:20250914T143602Z
UID:10001240-1757844000-1757847600@carverridgeseniorliving.com
SUMMARY:Fun and Fit w/Amanda
DESCRIPTION:
URL:https://carverridgeseniorliving.com/event-calendar/fun-and-fit-w-amanda-18/
CATEGORIES:Legacy Court
END:VEVENT
BEGIN:VEVENT
DTSTART;TZID=America/Chicago:20250914T150000
DTEND;TZID=America/Chicago:20250914T160000
DTSTAMP:20260420T030715
CREATED:20250816T132107Z
LAST-MODIFIED:20250914T143602Z
UID:10001241-1757862000-1757865600@carverridgeseniorliving.com
SUMMARY:Sunshine and Smiles Snack Social
DESCRIPTION:
URL:https://carverridgeseniorliving.com/event-calendar/sunshine-and-smiles-snack-social-35/
LOCATION:LC Dining Room
CATEGORIES:Legacy Court
END:VEVENT
BEGIN:VEVENT
DTSTART;TZID=America/Chicago:20250915T100000
DTEND;TZID=America/Chicago:20250915T110000
DTSTAMP:20260420T030715
CREATED:20250817T132210Z
LAST-MODIFIED:20250831T135105Z
UID:10001244-1757930400-1757934000@carverridgeseniorliving.com
SUMMARY:Faith Corner
DESCRIPTION:
URL:https://carverridgeseniorliving.com/event-calendar/faith-corner-16/
LOCATION:LC Dining Room
CATEGORIES:Legacy Court
END:VEVENT
BEGIN:VEVENT
DTSTART;TZID=America/Chicago:20250915T103000
DTEND;TZID=America/Chicago:20250915T113000
DTSTAMP:20260420T030715
CREATED:20250817T132210Z
LAST-MODIFIED:20250915T143604Z
UID:10001245-1757932200-1757935800@carverridgeseniorliving.com
SUMMARY:Doubleball
DESCRIPTION:
URL:https://carverridgeseniorliving.com/event-calendar/bean-bag-toss-18/
LOCATION:Piano Lounge
CATEGORIES:Legacy Court
END:VEVENT
BEGIN:VEVENT
DTSTART;TZID=America/Chicago:20250915T113000
DTEND;TZID=America/Chicago:20250915T123000
DTSTAMP:20260420T030715
CREATED:20250904T135103Z
LAST-MODIFIED:20250915T143604Z
UID:10001453-1757935800-1757939400@carverridgeseniorliving.com
SUMMARY:Dance and Stretch
DESCRIPTION:
URL:https://carverridgeseniorliving.com/event-calendar/dance-and-stretch/
LOCATION:LC Piano Lounge
CATEGORIES:Legacy Court
END:VEVENT
BEGIN:VEVENT
DTSTART;TZID=America/Chicago:20250915T140000
DTEND;TZID=America/Chicago:20250915T150000
DTSTAMP:20260420T030715
CREATED:20250817T132210Z
LAST-MODIFIED:20250915T143604Z
UID:10001246-1757944800-1757948400@carverridgeseniorliving.com
SUMMARY:Monday Movie Matinee: Wonder
DESCRIPTION:
URL:https://carverridgeseniorliving.com/event-calendar/monday-movie-matinee-17/
LOCATION:Piano Lounge
CATEGORIES:Legacy Court
END:VEVENT
BEGIN:VEVENT
DTSTART;TZID=America/Chicago:20250916T110000
DTEND;TZID=America/Chicago:20250916T120000
DTSTAMP:20260420T030715
CREATED:20250818T132149Z
LAST-MODIFIED:20250831T135105Z
UID:10001252-1758020400-1758024000@carverridgeseniorliving.com
SUMMARY:Worship with Chaplain Carol
DESCRIPTION:
URL:https://carverridgeseniorliving.com/event-calendar/worship-with-chaplain-carol-18/
LOCATION:Piano Lounge
CATEGORIES:Legacy Court
END:VEVENT
BEGIN:VEVENT
DTSTART;TZID=America/Chicago:20250916T110000
DTEND;TZID=America/Chicago:20250916T120000
DTSTAMP:20260420T030715
CREATED:20250903T130613Z
LAST-MODIFIED:20250916T143607Z
UID:10001438-1758020400-1758024000@carverridgeseniorliving.com
SUMMARY:Worship w/Chaplain Carol in Legacy Court
DESCRIPTION:
URL:https://carverridgeseniorliving.com/event-calendar/worship-w-chaplain-carol-in-legacy-court-2/
LOCATION:Piano Lounge
CATEGORIES:Legacy Court,Senior Living
END:VEVENT
BEGIN:VEVENT
DTSTART;TZID=America/Chicago:20250916T113000
DTEND;TZID=America/Chicago:20250916T123000
DTSTAMP:20260420T030715
CREATED:20250818T132149Z
LAST-MODIFIED:20250916T143607Z
UID:10001253-1758022200-1758025800@carverridgeseniorliving.com
SUMMARY:Chair Yoga
DESCRIPTION:
URL:https://carverridgeseniorliving.com/event-calendar/sunshine-and-smiles-9/
CATEGORIES:Legacy Court
END:VEVENT
BEGIN:VEVENT
DTSTART;TZID=America/Chicago:20250916T133000
DTEND;TZID=America/Chicago:20250916T143000
DTSTAMP:20260420T030715
CREATED:20250818T132149Z
LAST-MODIFIED:20250916T143607Z
UID:10001254-1758029400-1758033000@carverridgeseniorliving.com
SUMMARY:BINGO!
DESCRIPTION:
URL:https://carverridgeseniorliving.com/event-calendar/bingo-45/
LOCATION:LC Dining Room
CATEGORIES:Legacy Court
END:VEVENT
BEGIN:VEVENT
DTSTART;TZID=America/Chicago:20250916T150000
DTEND;TZID=America/Chicago:20250916T160000
DTSTAMP:20260420T030715
CREATED:20250818T132149Z
LAST-MODIFIED:20250916T143607Z
UID:10001255-1758034800-1758038400@carverridgeseniorliving.com
SUMMARY:Nacho Average Tuesday
DESCRIPTION:
URL:https://carverridgeseniorliving.com/event-calendar/kindness-corner-10/
LOCATION:LC Dining Room
CATEGORIES:Legacy Court
END:VEVENT
BEGIN:VEVENT
DTSTART;TZID=America/Chicago:20250917T100000
DTEND;TZID=America/Chicago:20250917T110000
DTSTAMP:20260420T030715
CREATED:20250819T132133Z
LAST-MODIFIED:20250917T143610Z
UID:10001261-1758103200-1758106800@carverridgeseniorliving.com
SUMMARY:Music with Bryant
DESCRIPTION:
URL:https://carverridgeseniorliving.com/event-calendar/music-with-bryant-20/
LOCATION:Piano Lounge
CATEGORIES:Legacy Court
END:VEVENT
BEGIN:VEVENT
DTSTART;TZID=America/Chicago:20250917T110000
DTEND;TZID=America/Chicago:20250917T120000
DTSTAMP:20260420T030715
CREATED:20250819T132133Z
LAST-MODIFIED:20250917T143610Z
UID:10001262-1758106800-1758110400@carverridgeseniorliving.com
SUMMARY:Sunshine and Smiles
DESCRIPTION:
URL:https://carverridgeseniorliving.com/event-calendar/fun-fit-exercises-14/
LOCATION:Piano Lounge
CATEGORIES:Legacy Court
END:VEVENT
BEGIN:VEVENT
DTSTART;TZID=America/Chicago:20250917T133000
DTEND;TZID=America/Chicago:20250917T143000
DTSTAMP:20260420T030715
CREATED:20250819T132133Z
LAST-MODIFIED:20250917T143610Z
UID:10001263-1758115800-1758119400@carverridgeseniorliving.com
SUMMARY:Name of the Game
DESCRIPTION:
URL:https://carverridgeseniorliving.com/event-calendar/name-of-the-game-8/
LOCATION:Dining Room
CATEGORIES:Legacy Court
END:VEVENT
BEGIN:VEVENT
DTSTART;TZID=America/Chicago:20250917T150000
DTEND;TZID=America/Chicago:20250917T160000
DTSTAMP:20260420T030715
CREATED:20250819T132134Z
LAST-MODIFIED:20250917T143610Z
UID:10001264-1758121200-1758124800@carverridgeseniorliving.com
SUMMARY:Kindness Corner
DESCRIPTION:
URL:https://carverridgeseniorliving.com/event-calendar/sunshine-and-smiles-snack-social-36/
LOCATION:LC Dining Room
CATEGORIES:Legacy Court
END:VEVENT
BEGIN:VEVENT
DTSTART;TZID=America/Chicago:20250918T103000
DTEND;TZID=America/Chicago:20250918T113000
DTSTAMP:20260420T030715
CREATED:20250904T135104Z
LAST-MODIFIED:20250918T143606Z
UID:10001454-1758191400-1758195000@carverridgeseniorliving.com
SUMMARY:Dance it out Fitness
DESCRIPTION:
URL:https://carverridgeseniorliving.com/event-calendar/dance-it-out-fitness-3/
LOCATION:LC Piano Lounge
CATEGORIES:Legacy Court
END:VEVENT
BEGIN:VEVENT
DTSTART;TZID=America/Chicago:20250918T110000
DTEND;TZID=America/Chicago:20250918T120000
DTSTAMP:20260420T030715
CREATED:20250820T132110Z
LAST-MODIFIED:20250918T143606Z
UID:10001266-1758193200-1758196800@carverridgeseniorliving.com
SUMMARY:One Hit Wonders of the '70s
DESCRIPTION:
URL:https://carverridgeseniorliving.com/event-calendar/where-in-the-world-8/
LOCATION:LC Dining Room
CATEGORIES:Legacy Court
END:VEVENT
BEGIN:VEVENT
DTSTART;TZID=America/Chicago:20250918T133000
DTEND;TZID=America/Chicago:20250918T143000
DTSTAMP:20260420T030715
CREATED:20250820T132110Z
LAST-MODIFIED:20250918T143606Z
UID:10001267-1758202200-1758205800@carverridgeseniorliving.com
SUMMARY:Musical Moments: Dean Martin
DESCRIPTION:
URL:https://carverridgeseniorliving.com/event-calendar/musical-moments-21/
LOCATION:LC Piano Lounge
CATEGORIES:Legacy Court
END:VEVENT
BEGIN:VEVENT
DTSTART;TZID=America/Chicago:20250918T140000
DTEND;TZID=America/Chicago:20250918T150000
DTSTAMP:20260420T030715
CREATED:20250820T132110Z
LAST-MODIFIED:20250903T135148Z
UID:10001268-1758204000-1758207600@carverridgeseniorliving.com
SUMMARY:Guy time w/Luke
DESCRIPTION:
URL:https://carverridgeseniorliving.com/event-calendar/guy-time-w-luke-6/
LOCATION:Dining Room
CATEGORIES:Legacy Court
END:VEVENT
BEGIN:VEVENT
DTSTART;TZID=America/Chicago:20250918T153000
DTEND;TZID=America/Chicago:20250918T163000
DTSTAMP:20260420T030715
CREATED:20250820T132110Z
LAST-MODIFIED:20250918T143606Z
UID:10001269-1758209400-1758213000@carverridgeseniorliving.com
SUMMARY:S'more Music & Bonfire w/Jenna
DESCRIPTION:
URL:https://carverridgeseniorliving.com/event-calendar/music-w-jenna-in-legacy-court-14/
LOCATION:LC Patio
CATEGORIES:Legacy Court
END:VEVENT
BEGIN:VEVENT
DTSTART;TZID=America/Chicago:20250919T110000
DTEND;TZID=America/Chicago:20250919T120000
DTSTAMP:20260420T030715
CREATED:20250821T132106Z
LAST-MODIFIED:20250903T135149Z
UID:10001273-1758279600-1758283200@carverridgeseniorliving.com
SUMMARY:Visit w/Jenny and Kiddos
DESCRIPTION:
URL:https://carverridgeseniorliving.com/event-calendar/visit-w-jenny-and-kiddos-7/
LOCATION:LC Dining Room
CATEGORIES:Legacy Court
END:VEVENT
BEGIN:VEVENT
DTSTART;TZID=America/Chicago:20250919T133000
DTEND;TZID=America/Chicago:20250919T143000
DTSTAMP:20260420T030715
CREATED:20250821T132106Z
LAST-MODIFIED:20250919T143608Z
UID:10001274-1758288600-1758292200@carverridgeseniorliving.com
SUMMARY:Make a Mess with Jess
DESCRIPTION:
URL:https://carverridgeseniorliving.com/event-calendar/make-a-mess-with-jess-19/
LOCATION:LC Dining Room
CATEGORIES:Legacy Court
END:VEVENT
BEGIN:VEVENT
DTSTART;TZID=America/Chicago:20250919T150000
DTEND;TZID=America/Chicago:20250919T160000
DTSTAMP:20260420T030715
CREATED:20250821T132107Z
LAST-MODIFIED:20250919T143608Z
UID:10001275-1758294000-1758297600@carverridgeseniorliving.com
SUMMARY:Performance by Loren Wolfe
DESCRIPTION:
URL:https://carverridgeseniorliving.com/event-calendar/kindness-korner-17/
LOCATION:LC Dining Room
CATEGORIES:Legacy Court
END:VEVENT
BEGIN:VEVENT
DTSTART;TZID=America/Chicago:20250920T094500
DTEND;TZID=America/Chicago:20250920T100000
DTSTAMP:20260420T030715
CREATED:20250822T132106Z
LAST-MODIFIED:20250920T143605Z
UID:10001281-1758361500-1758362400@carverridgeseniorliving.com
SUMMARY:News and Views
DESCRIPTION:
URL:https://carverridgeseniorliving.com/event-calendar/news-and-views-38/
CATEGORIES:Legacy Court
END:VEVENT
BEGIN:VEVENT
DTSTART;TZID=America/Chicago:20250920T103000
DTEND;TZID=America/Chicago:20250920T113000
DTSTAMP:20260420T030715
CREATED:20250822T132106Z
LAST-MODIFIED:20250920T143605Z
UID:10001282-1758364200-1758367800@carverridgeseniorliving.com
SUMMARY:Balloonball w/Yvonna
DESCRIPTION:
URL:https://carverridgeseniorliving.com/event-calendar/balloonball-w-yvonna-10/
LOCATION:Piano Lounge
CATEGORIES:Legacy Court
END:VEVENT
BEGIN:VEVENT
DTSTART;TZID=America/Chicago:20250920T133000
DTEND;TZID=America/Chicago:20250920T143000
DTSTAMP:20260420T030715
CREATED:20250822T132106Z
LAST-MODIFIED:20250920T143605Z
UID:10001283-1758375000-1758378600@carverridgeseniorliving.com
SUMMARY:HHAs led Manicures and Hand Massage
DESCRIPTION:
URL:https://carverridgeseniorliving.com/event-calendar/hhas-led-manicures-and-hand-massage-19/
LOCATION:Dining Room
CATEGORIES:Legacy Court
END:VEVENT
BEGIN:VEVENT
DTSTART;TZID=America/Chicago:20250920T150000
DTEND;TZID=America/Chicago:20250920T160000
DTSTAMP:20260420T030715
CREATED:20250822T132107Z
LAST-MODIFIED:20250920T143605Z
UID:10001284-1758380400-1758384000@carverridgeseniorliving.com
SUMMARY:Saturday social time
DESCRIPTION:
URL:https://carverridgeseniorliving.com/event-calendar/saturday-social-time-13/
LOCATION:LC Dining Room
CATEGORIES:Legacy Court
END:VEVENT
BEGIN:VEVENT
DTSTART;TZID=America/Chicago:20250921T094500
DTEND;TZID=America/Chicago:20250921T100000
DTSTAMP:20260420T030715
CREATED:20250823T132143Z
LAST-MODIFIED:20250921T143611Z
UID:10001291-1758447900-1758448800@carverridgeseniorliving.com
SUMMARY:News and Views
DESCRIPTION:
URL:https://carverridgeseniorliving.com/event-calendar/news-and-views-39/
CATEGORIES:Legacy Court
END:VEVENT
END:VCALENDAR