BEGIN:VCALENDAR
VERSION:2.0
PRODID:-//Carver Ridge Senior Living - ECPv6.11.2.1//NONSGML v1.0//EN
CALSCALE:GREGORIAN
METHOD:PUBLISH
X-WR-CALNAME:Carver Ridge Senior Living
X-ORIGINAL-URL:https://carverridgeseniorliving.com
X-WR-CALDESC:Events for Carver Ridge Senior Living
REFRESH-INTERVAL;VALUE=DURATION:PT1H
X-Robots-Tag:noindex
X-PUBLISHED-TTL:PT1H
BEGIN:VTIMEZONE
TZID:America/Chicago
BEGIN:DAYLIGHT
TZOFFSETFROM:-0600
TZOFFSETTO:-0500
TZNAME:CDT
DTSTART:20260308T080000
END:DAYLIGHT
BEGIN:STANDARD
TZOFFSETFROM:-0500
TZOFFSETTO:-0600
TZNAME:CST
DTSTART:20261101T070000
END:STANDARD
END:VTIMEZONE
BEGIN:VEVENT
DTSTART;TZID=America/Chicago:20260131T133000
DTEND;TZID=America/Chicago:20260131T143000
DTSTAMP:20260423T065400
CREATED:20260102T030608Z
LAST-MODIFIED:20260131T045118Z
UID:10002493-1769866200-1769869800@carverridgeseniorliving.com
SUMMARY:HHAs led Manicures and Hand Massage
DESCRIPTION:
URL:https://carverridgeseniorliving.com/event-calendar/hhas-led-manicures-and-hand-massage-38/
LOCATION:Dining Room
CATEGORIES:Legacy Court
END:VEVENT
BEGIN:VEVENT
DTSTART;TZID=America/Chicago:20260131T100000
DTEND;TZID=America/Chicago:20260131T110000
DTSTAMP:20260423T065400
CREATED:20260102T030608Z
LAST-MODIFIED:20260131T045118Z
UID:10002492-1769853600-1769857200@carverridgeseniorliving.com
SUMMARY:What in the World
DESCRIPTION:
URL:https://carverridgeseniorliving.com/event-calendar/balloonball-w-amanda-19/
LOCATION:Piano Lounge
CATEGORIES:Legacy Court
END:VEVENT
BEGIN:VEVENT
DTSTART;TZID=America/Chicago:20260131T093000
DTEND;TZID=America/Chicago:20260131T094500
DTSTAMP:20260423T065400
CREATED:20260102T030608Z
LAST-MODIFIED:20260107T030607Z
UID:10002491-1769851800-1769852700@carverridgeseniorliving.com
SUMMARY:News and Views
DESCRIPTION:
URL:https://carverridgeseniorliving.com/event-calendar/news-and-views-76/
CATEGORIES:Legacy Court
END:VEVENT
BEGIN:VEVENT
DTSTART;TZID=America/Chicago:20260130T150000
DTEND;TZID=America/Chicago:20260130T160000
DTSTAMP:20260423T065400
CREATED:20260101T025106Z
LAST-MODIFIED:20260130T045107Z
UID:10002486-1769785200-1769788800@carverridgeseniorliving.com
SUMMARY:A Moose Mixer Social
DESCRIPTION:
URL:https://carverridgeseniorliving.com/event-calendar/mocktail-social-17/
LOCATION:LC Dining Room
CATEGORIES:Legacy Court
END:VEVENT
BEGIN:VEVENT
DTSTART;TZID=America/Chicago:20260130T133000
DTEND;TZID=America/Chicago:20260130T143000
DTSTAMP:20260423T065400
CREATED:20260101T025106Z
LAST-MODIFIED:20260130T045107Z
UID:10002485-1769779800-1769783400@carverridgeseniorliving.com
SUMMARY:Make a Mess with Jess
DESCRIPTION:
URL:https://carverridgeseniorliving.com/event-calendar/make-a-mess-with-jess-38/
LOCATION:LC Dining Room
CATEGORIES:Legacy Court
END:VEVENT
BEGIN:VEVENT
DTSTART;TZID=America/Chicago:20260129T150000
DTEND;TZID=America/Chicago:20260129T160000
DTSTAMP:20260423T065400
CREATED:20251231T025111Z
LAST-MODIFIED:20260129T045104Z
UID:10002463-1769698800-1769702400@carverridgeseniorliving.com
SUMMARY:Trivia
DESCRIPTION:
URL:https://carverridgeseniorliving.com/event-calendar/color-me-happy-21/
LOCATION:LC Piano Lounge
CATEGORIES:Legacy Court
END:VEVENT
BEGIN:VEVENT
DTSTART;TZID=America/Chicago:20260129T133000
DTEND;TZID=America/Chicago:20260129T143000
DTSTAMP:20260423T065400
CREATED:20251231T025110Z
LAST-MODIFIED:20260129T045104Z
UID:10002462-1769693400-1769697000@carverridgeseniorliving.com
SUMMARY:Musical Moments
DESCRIPTION:
URL:https://carverridgeseniorliving.com/event-calendar/musical-moments-frank-sinatra-18/
LOCATION:LC Dining Room
CATEGORIES:Legacy Court
END:VEVENT
BEGIN:VEVENT
DTSTART;TZID=America/Chicago:20260129T110000
DTEND;TZID=America/Chicago:20260129T120000
DTSTAMP:20260423T065400
CREATED:20251231T025110Z
LAST-MODIFIED:20260129T045104Z
UID:10002461-1769684400-1769688000@carverridgeseniorliving.com
SUMMARY:Watercolor Wonder
DESCRIPTION:
URL:https://carverridgeseniorliving.com/event-calendar/cranium-cafe-9/
LOCATION:LC Dining Room
CATEGORIES:Legacy Court
END:VEVENT
BEGIN:VEVENT
DTSTART;TZID=America/Chicago:20260129T100000
DTEND;TZID=America/Chicago:20260129T110000
DTSTAMP:20260423T065400
CREATED:20260101T023617Z
LAST-MODIFIED:20260129T045104Z
UID:10002478-1769680800-1769684400@carverridgeseniorliving.com
SUMMARY:Drum Circle with Carver PALS! (5th Grade)
DESCRIPTION:
URL:https://carverridgeseniorliving.com/event-calendar/carver-pals-visit-5th-grade/
LOCATION:Bistro
CATEGORIES:Legacy Court,Senior Living
END:VEVENT
BEGIN:VEVENT
DTSTART;TZID=America/Chicago:20260128T150000
DTEND;TZID=America/Chicago:20260128T160000
DTSTAMP:20260423T065400
CREATED:20251230T025108Z
LAST-MODIFIED:20260128T045109Z
UID:10002446-1769612400-1769616000@carverridgeseniorliving.com
SUMMARY:Color Me Happy!
DESCRIPTION:
URL:https://carverridgeseniorliving.com/event-calendar/kindness-corner-27/
LOCATION:LC Dining Room
CATEGORIES:Legacy Court
END:VEVENT
BEGIN:VEVENT
DTSTART;TZID=America/Chicago:20260128T133000
DTEND;TZID=America/Chicago:20260128T143000
DTSTAMP:20260423T065400
CREATED:20251230T025108Z
LAST-MODIFIED:20260128T045109Z
UID:10002445-1769607000-1769610600@carverridgeseniorliving.com
SUMMARY:Reminiscent reading
DESCRIPTION:
URL:https://carverridgeseniorliving.com/event-calendar/competition-corner-11/
LOCATION:LC Piano Lounge
CATEGORIES:Legacy Court
END:VEVENT
BEGIN:VEVENT
DTSTART;TZID=America/Chicago:20260128T110000
DTEND;TZID=America/Chicago:20260128T120000
DTSTAMP:20260423T065400
CREATED:20251230T025108Z
LAST-MODIFIED:20260128T045109Z
UID:10002444-1769598000-1769601600@carverridgeseniorliving.com
SUMMARY:Moody movies
DESCRIPTION:
URL:https://carverridgeseniorliving.com/event-calendar/senior-fitness-10/
LOCATION:Piano Lounge
CATEGORIES:Legacy Court
END:VEVENT
BEGIN:VEVENT
DTSTART;TZID=America/Chicago:20260128T100000
DTEND;TZID=America/Chicago:20260128T110000
DTSTAMP:20260423T065400
CREATED:20251230T025108Z
LAST-MODIFIED:20260128T045109Z
UID:10002443-1769594400-1769598000@carverridgeseniorliving.com
SUMMARY:Music with Bryant
DESCRIPTION:
URL:https://carverridgeseniorliving.com/event-calendar/music-with-bryant-39/
LOCATION:Piano Lounge
CATEGORIES:Legacy Court
END:VEVENT
BEGIN:VEVENT
DTSTART;TZID=America/Chicago:20260127T150000
DTEND;TZID=America/Chicago:20260127T160000
DTSTAMP:20260423T065400
CREATED:20251229T025115Z
LAST-MODIFIED:20260127T043622Z
UID:10002438-1769526000-1769529600@carverridgeseniorliving.com
SUMMARY:Cranium Café
DESCRIPTION:
URL:https://carverridgeseniorliving.com/event-calendar/nacho-average-tuesday-17/
LOCATION:LC Dining Room
CATEGORIES:Legacy Court
END:VEVENT
BEGIN:VEVENT
DTSTART;TZID=America/Chicago:20260127T133000
DTEND;TZID=America/Chicago:20260127T143000
DTSTAMP:20260423T065400
CREATED:20251229T025115Z
LAST-MODIFIED:20260127T043622Z
UID:10002437-1769520600-1769524200@carverridgeseniorliving.com
SUMMARY:BINGO!
DESCRIPTION:
URL:https://carverridgeseniorliving.com/event-calendar/bingo-90/
LOCATION:LC Dining Room
CATEGORIES:Legacy Court
END:VEVENT
BEGIN:VEVENT
DTSTART;TZID=America/Chicago:20260127T113000
DTEND;TZID=America/Chicago:20260127T123000
DTSTAMP:20260423T065400
CREATED:20251229T025115Z
LAST-MODIFIED:20260127T043622Z
UID:10002436-1769513400-1769517000@carverridgeseniorliving.com
SUMMARY:Artist Spotlight - Mozart
DESCRIPTION:
URL:https://carverridgeseniorliving.com/event-calendar/chair-yoga-57/
LOCATION:LC Piano Lounge
CATEGORIES:Legacy Court
END:VEVENT
BEGIN:VEVENT
DTSTART;TZID=America/Chicago:20260127T110000
DTEND;TZID=America/Chicago:20260127T120000
DTSTAMP:20260423T065400
CREATED:20251229T025115Z
LAST-MODIFIED:20260127T043622Z
UID:10002435-1769511600-1769515200@carverridgeseniorliving.com
SUMMARY:Worship w/Chaplain Carol
DESCRIPTION:
URL:https://carverridgeseniorliving.com/event-calendar/worship-w-chaplain-carol-13/
LOCATION:LC Piano Lounge
CATEGORIES:Legacy Court
END:VEVENT
BEGIN:VEVENT
DTSTART;TZID=America/Chicago:20260126T140000
DTEND;TZID=America/Chicago:20260126T150000
DTSTAMP:20260423T065400
CREATED:20251228T025108Z
LAST-MODIFIED:20260126T042107Z
UID:10002430-1769436000-1769439600@carverridgeseniorliving.com
SUMMARY:Monday Movie Matinee
DESCRIPTION:
URL:https://carverridgeseniorliving.com/event-calendar/monday-movie-matinee-36/
LOCATION:Piano Lounge
CATEGORIES:Legacy Court
END:VEVENT
BEGIN:VEVENT
DTSTART;TZID=America/Chicago:20260126T110000
DTEND;TZID=America/Chicago:20260126T120000
DTSTAMP:20260423T065400
CREATED:20251228T025108Z
LAST-MODIFIED:20260126T042107Z
UID:10002429-1769425200-1769428800@carverridgeseniorliving.com
SUMMARY:Australia Jokes and Slang Quiz
DESCRIPTION:
URL:https://carverridgeseniorliving.com/event-calendar/gratitude-attitude-devotions-24/
LOCATION:LC Dining Room
CATEGORIES:Legacy Court
END:VEVENT
BEGIN:VEVENT
DTSTART;TZID=America/Chicago:20260126T103000
DTEND;TZID=America/Chicago:20260126T113000
DTSTAMP:20260423T065400
CREATED:20251228T025108Z
LAST-MODIFIED:20260126T042107Z
UID:10002428-1769423400-1769427000@carverridgeseniorliving.com
SUMMARY:Australia Dot Painting
DESCRIPTION:
URL:https://carverridgeseniorliving.com/event-calendar/gratitude-attitude-devotions-23/
CATEGORIES:Legacy Court
END:VEVENT
BEGIN:VEVENT
DTSTART;TZID=America/Chicago:20260125T150000
DTEND;TZID=America/Chicago:20260125T160000
DTSTAMP:20260423T065400
CREATED:20251227T025107Z
LAST-MODIFIED:20260125T040612Z
UID:10002423-1769353200-1769356800@carverridgeseniorliving.com
SUMMARY:BINGO
DESCRIPTION:
URL:https://carverridgeseniorliving.com/event-calendar/lets-get-crafty-10/
LOCATION:LC Dining Room
CATEGORIES:Legacy Court
END:VEVENT
BEGIN:VEVENT
DTSTART;TZID=America/Chicago:20260125T100000
DTEND;TZID=America/Chicago:20260125T110000
DTSTAMP:20260423T065400
CREATED:20251227T025107Z
LAST-MODIFIED:20260125T040612Z
UID:10002422-1769335200-1769338800@carverridgeseniorliving.com
SUMMARY:Bean Bag Toss w/Yvonna
DESCRIPTION:
URL:https://carverridgeseniorliving.com/event-calendar/bean-bag-toss-w-yvonna-25/
LOCATION:LC Piano Lounge
CATEGORIES:Legacy Court
END:VEVENT
BEGIN:VEVENT
DTSTART;TZID=America/Chicago:20260125T093000
DTEND;TZID=America/Chicago:20260125T103000
DTSTAMP:20260423T065400
CREATED:20260108T030604Z
LAST-MODIFIED:20260125T040612Z
UID:10002534-1769333400-1769337000@carverridgeseniorliving.com
SUMMARY:News and Views
DESCRIPTION:
URL:https://carverridgeseniorliving.com/event-calendar/news-and-views-78/
LOCATION:LC Dining Room
CATEGORIES:Legacy Court
END:VEVENT
BEGIN:VEVENT
DTSTART;TZID=America/Chicago:20260125T093000
DTEND;TZID=America/Chicago:20260125T094500
DTSTAMP:20260423T065400
CREATED:20251227T025107Z
LAST-MODIFIED:20260107T030606Z
UID:10002421-1769333400-1769334300@carverridgeseniorliving.com
SUMMARY:News and Views
DESCRIPTION:
URL:https://carverridgeseniorliving.com/event-calendar/news-and-views-75/
CATEGORIES:Legacy Court
END:VEVENT
BEGIN:VEVENT
DTSTART;TZID=America/Chicago:20260124T150000
DTEND;TZID=America/Chicago:20260124T160000
DTSTAMP:20260423T065400
CREATED:20251226T023608Z
LAST-MODIFIED:20260124T040612Z
UID:10002414-1769266800-1769270400@carverridgeseniorliving.com
SUMMARY:Saturday social time
DESCRIPTION:
URL:https://carverridgeseniorliving.com/event-calendar/saturday-social-time-31/
LOCATION:LC Dining Room
CATEGORIES:Legacy Court
END:VEVENT
BEGIN:VEVENT
DTSTART;TZID=America/Chicago:20260124T133000
DTEND;TZID=America/Chicago:20260124T143000
DTSTAMP:20260423T065400
CREATED:20251226T023608Z
LAST-MODIFIED:20260124T040612Z
UID:10002413-1769261400-1769265000@carverridgeseniorliving.com
SUMMARY:HHAs led Manicures and Hand Massage
DESCRIPTION:
URL:https://carverridgeseniorliving.com/event-calendar/hhas-led-manicures-and-hand-massage-37/
LOCATION:Dining Room
CATEGORIES:Legacy Court
END:VEVENT
BEGIN:VEVENT
DTSTART;TZID=America/Chicago:20260124T100000
DTEND;TZID=America/Chicago:20260124T110000
DTSTAMP:20260423T065400
CREATED:20251226T023608Z
LAST-MODIFIED:20260124T040612Z
UID:10002412-1769248800-1769252400@carverridgeseniorliving.com
SUMMARY:Balloonball w/Yvonna
DESCRIPTION:
URL:https://carverridgeseniorliving.com/event-calendar/balloonball-w-yvonna-19/
LOCATION:Piano Lounge
CATEGORIES:Legacy Court
END:VEVENT
BEGIN:VEVENT
DTSTART;TZID=America/Chicago:20260124T093000
DTEND;TZID=America/Chicago:20260124T094500
DTSTAMP:20260423T065400
CREATED:20251226T023608Z
LAST-MODIFIED:20260107T030606Z
UID:10002411-1769247000-1769247900@carverridgeseniorliving.com
SUMMARY:News and Views
DESCRIPTION:
URL:https://carverridgeseniorliving.com/event-calendar/news-and-views-74/
CATEGORIES:Legacy Court
END:VEVENT
BEGIN:VEVENT
DTSTART;TZID=America/Chicago:20260123T150000
DTEND;TZID=America/Chicago:20260123T160000
DTSTAMP:20260423T065400
CREATED:20251225T022113Z
LAST-MODIFIED:20260123T040603Z
UID:10002406-1769180400-1769184000@carverridgeseniorliving.com
SUMMARY:Kindness Corner!
DESCRIPTION:
URL:https://carverridgeseniorliving.com/event-calendar/mocktail-social-16/
LOCATION:LC Dining Room
CATEGORIES:Legacy Court
END:VEVENT
BEGIN:VEVENT
DTSTART;TZID=America/Chicago:20260123T133000
DTEND;TZID=America/Chicago:20260123T143000
DTSTAMP:20260423T065400
CREATED:20251225T022113Z
LAST-MODIFIED:20260123T040603Z
UID:10002405-1769175000-1769178600@carverridgeseniorliving.com
SUMMARY:Make a Mess with Jess
DESCRIPTION:
URL:https://carverridgeseniorliving.com/event-calendar/make-a-mess-with-jess-37/
LOCATION:LC Dining Room
CATEGORIES:Legacy Court
END:VEVENT
END:VCALENDAR