BEGIN:VCALENDAR
VERSION:2.0
PRODID:-//Carver Ridge Senior Living - ECPv6.11.2.1//NONSGML v1.0//EN
CALSCALE:GREGORIAN
METHOD:PUBLISH
X-WR-CALNAME:Carver Ridge Senior Living
X-ORIGINAL-URL:https://carverridgeseniorliving.com
X-WR-CALDESC:Events for Carver Ridge Senior Living
REFRESH-INTERVAL;VALUE=DURATION:PT1H
X-Robots-Tag:noindex
X-PUBLISHED-TTL:PT1H
BEGIN:VTIMEZONE
TZID:America/Chicago
BEGIN:DAYLIGHT
TZOFFSETFROM:-0600
TZOFFSETTO:-0500
TZNAME:CDT
DTSTART:20250309T080000
END:DAYLIGHT
BEGIN:STANDARD
TZOFFSETFROM:-0500
TZOFFSETTO:-0600
TZNAME:CST
DTSTART:20251102T070000
END:STANDARD
END:VTIMEZONE
BEGIN:VEVENT
DTSTART;TZID=America/Chicago:20250921T100000
DTEND;TZID=America/Chicago:20250921T110000
DTSTAMP:20260422T065252
CREATED:20250823T132143Z
LAST-MODIFIED:20250921T143611Z
UID:10001292-1758448800-1758452400@carverridgeseniorliving.com
SUMMARY:Fun & Fit w/Yvonna
DESCRIPTION:
URL:https://carverridgeseniorliving.com/event-calendar/fun-fit-w-yvonna-20/
LOCATION:Pian
CATEGORIES:Legacy Court
END:VEVENT
BEGIN:VEVENT
DTSTART;TZID=America/Chicago:20250921T133000
DTEND;TZID=America/Chicago:20250921T143000
DTSTAMP:20260422T065252
CREATED:20250823T132143Z
LAST-MODIFIED:20250831T135106Z
UID:10001293-1758461400-1758465000@carverridgeseniorliving.com
SUMMARY:Crafting w/Yvonna
DESCRIPTION:
URL:https://carverridgeseniorliving.com/event-calendar/crafting-w-yvonna-10/
LOCATION:LC Dining Room
CATEGORIES:Legacy Court
END:VEVENT
BEGIN:VEVENT
DTSTART;TZID=America/Chicago:20250921T133000
DTEND;TZID=America/Chicago:20250921T143000
DTSTAMP:20260422T065252
CREATED:20250904T135104Z
LAST-MODIFIED:20250921T143611Z
UID:10001455-1758461400-1758465000@carverridgeseniorliving.com
SUMMARY:Let's get Crafty!
DESCRIPTION:
URL:https://carverridgeseniorliving.com/event-calendar/lets-get-crafty/
LOCATION:LC Dining Room
CATEGORIES:Legacy Court
END:VEVENT
BEGIN:VEVENT
DTSTART;TZID=America/Chicago:20250921T150000
DTEND;TZID=America/Chicago:20250921T160000
DTSTAMP:20260422T065252
CREATED:20250823T132143Z
LAST-MODIFIED:20250921T143611Z
UID:10001294-1758466800-1758470400@carverridgeseniorliving.com
SUMMARY:Sunshine and Smiles Snack Social
DESCRIPTION:
URL:https://carverridgeseniorliving.com/event-calendar/sunshine-and-smiles-snack-social-37/
LOCATION:LC Dining Room
CATEGORIES:Legacy Court
END:VEVENT
BEGIN:VEVENT
DTSTART;TZID=America/Chicago:20250922T100000
DTEND;TZID=America/Chicago:20250922T110000
DTSTAMP:20260422T065252
CREATED:20250824T132110Z
LAST-MODIFIED:20250831T135106Z
UID:10001298-1758535200-1758538800@carverridgeseniorliving.com
SUMMARY:Faith Corner
DESCRIPTION:
URL:https://carverridgeseniorliving.com/event-calendar/faith-corner-17/
LOCATION:LC Dining Room
CATEGORIES:Legacy Court
END:VEVENT
BEGIN:VEVENT
DTSTART;TZID=America/Chicago:20250922T103000
DTEND;TZID=America/Chicago:20250922T113000
DTSTAMP:20260422T065252
CREATED:20250824T132110Z
LAST-MODIFIED:20250922T143604Z
UID:10001299-1758537000-1758540600@carverridgeseniorliving.com
SUMMARY:Bean Bag Toss
DESCRIPTION:
URL:https://carverridgeseniorliving.com/event-calendar/bean-bag-toss-19/
LOCATION:Piano Lounge
CATEGORIES:Legacy Court
END:VEVENT
BEGIN:VEVENT
DTSTART;TZID=America/Chicago:20250922T113000
DTEND;TZID=America/Chicago:20250922T123000
DTSTAMP:20260422T065252
CREATED:20250904T135105Z
LAST-MODIFIED:20250922T143604Z
UID:10001456-1758540600-1758544200@carverridgeseniorliving.com
SUMMARY:Stretch it Out
DESCRIPTION:
URL:https://carverridgeseniorliving.com/event-calendar/stretch-it-out/
LOCATION:LC Piano Lounge
CATEGORIES:Legacy Court
END:VEVENT
BEGIN:VEVENT
DTSTART;TZID=America/Chicago:20250922T140000
DTEND;TZID=America/Chicago:20250922T150000
DTSTAMP:20260422T065252
CREATED:20250824T132110Z
LAST-MODIFIED:20250922T143604Z
UID:10001300-1758549600-1758553200@carverridgeseniorliving.com
SUMMARY:Monday Movie Matinee: Liar\, Liar
DESCRIPTION:
URL:https://carverridgeseniorliving.com/event-calendar/monday-movie-matinee-18/
LOCATION:Piano Lounge
CATEGORIES:Legacy Court
END:VEVENT
BEGIN:VEVENT
DTSTART;TZID=America/Chicago:20250923T110000
DTEND;TZID=America/Chicago:20250923T120000
DTSTAMP:20260422T065252
CREATED:20250825T133629Z
LAST-MODIFIED:20250831T135106Z
UID:10001305-1758625200-1758628800@carverridgeseniorliving.com
SUMMARY:Worship with Chaplain Carol
DESCRIPTION:
URL:https://carverridgeseniorliving.com/event-calendar/worship-with-chaplain-carol-19/
LOCATION:Piano Lounge
CATEGORIES:Legacy Court
END:VEVENT
BEGIN:VEVENT
DTSTART;TZID=America/Chicago:20250923T110000
DTEND;TZID=America/Chicago:20250923T120000
DTSTAMP:20260422T065252
CREATED:20250903T130614Z
LAST-MODIFIED:20250923T143624Z
UID:10001439-1758625200-1758628800@carverridgeseniorliving.com
SUMMARY:Worship w/Chaplain Carol in Legacy Court
DESCRIPTION:
URL:https://carverridgeseniorliving.com/event-calendar/worship-w-chaplain-carol-in-legacy-court-3/
LOCATION:Piano Lounge
CATEGORIES:Legacy Court,Senior Living
END:VEVENT
BEGIN:VEVENT
DTSTART;TZID=America/Chicago:20250923T113000
DTEND;TZID=America/Chicago:20250923T123000
DTSTAMP:20260422T065252
CREATED:20250825T133629Z
LAST-MODIFIED:20250923T143624Z
UID:10001306-1758627000-1758630600@carverridgeseniorliving.com
SUMMARY:Senior Fitness Video
DESCRIPTION:
URL:https://carverridgeseniorliving.com/event-calendar/sunshine-and-smiles-10/
LOCATION:LC Piano Lounge
CATEGORIES:Legacy Court
END:VEVENT
BEGIN:VEVENT
DTSTART;TZID=America/Chicago:20250923T133000
DTEND;TZID=America/Chicago:20250923T143000
DTSTAMP:20260422T065252
CREATED:20250825T133629Z
LAST-MODIFIED:20250923T143624Z
UID:10001307-1758634200-1758637800@carverridgeseniorliving.com
SUMMARY:BINGO!
DESCRIPTION:
URL:https://carverridgeseniorliving.com/event-calendar/bingo-47/
LOCATION:LC Dining Room
CATEGORIES:Legacy Court
END:VEVENT
BEGIN:VEVENT
DTSTART;TZID=America/Chicago:20250923T150000
DTEND;TZID=America/Chicago:20250923T160000
DTSTAMP:20260422T065252
CREATED:20250825T133629Z
LAST-MODIFIED:20250923T143624Z
UID:10001308-1758639600-1758643200@carverridgeseniorliving.com
SUMMARY:Fall into Fun
DESCRIPTION:
URL:https://carverridgeseniorliving.com/event-calendar/kindness-corner-11/
LOCATION:LC Dining Room
CATEGORIES:Legacy Court
END:VEVENT
BEGIN:VEVENT
DTSTART;TZID=America/Chicago:20250924T100000
DTEND;TZID=America/Chicago:20250924T110000
DTSTAMP:20260422T065252
CREATED:20250826T133610Z
LAST-MODIFIED:20250924T143624Z
UID:10001319-1758708000-1758711600@carverridgeseniorliving.com
SUMMARY:Music with Bryant
DESCRIPTION:
URL:https://carverridgeseniorliving.com/event-calendar/music-with-bryant-21/
LOCATION:Piano Lounge
CATEGORIES:Legacy Court
END:VEVENT
BEGIN:VEVENT
DTSTART;TZID=America/Chicago:20250924T110000
DTEND;TZID=America/Chicago:20250924T120000
DTSTAMP:20260422T065252
CREATED:20250826T133611Z
LAST-MODIFIED:20250924T143624Z
UID:10001320-1758711600-1758715200@carverridgeseniorliving.com
SUMMARY:Sunshine and Smiles
DESCRIPTION:
URL:https://carverridgeseniorliving.com/event-calendar/whole-brain-health-exercise-4/
LOCATION:Piano Lounge
CATEGORIES:Legacy Court
END:VEVENT
BEGIN:VEVENT
DTSTART;TZID=America/Chicago:20250924T133000
DTEND;TZID=America/Chicago:20250924T143000
DTSTAMP:20260422T065252
CREATED:20250826T133611Z
LAST-MODIFIED:20250924T143624Z
UID:10001321-1758720600-1758724200@carverridgeseniorliving.com
SUMMARY:Name of the Game
DESCRIPTION:
URL:https://carverridgeseniorliving.com/event-calendar/name-of-the-game-9/
LOCATION:LC Dining Room
CATEGORIES:Legacy Court
END:VEVENT
BEGIN:VEVENT
DTSTART;TZID=America/Chicago:20250924T150000
DTEND;TZID=America/Chicago:20250924T160000
DTSTAMP:20260422T065252
CREATED:20250826T133611Z
LAST-MODIFIED:20250924T143624Z
UID:10001322-1758726000-1758729600@carverridgeseniorliving.com
SUMMARY:Kindness Corner
DESCRIPTION:
URL:https://carverridgeseniorliving.com/event-calendar/sunshine-and-smiles-snack-social-38/
LOCATION:LC Dining Room
CATEGORIES:Legacy Court
END:VEVENT
BEGIN:VEVENT
DTSTART;VALUE=DATE:20250925
DTEND;VALUE=DATE:20250926
DTSTAMP:20260422T065252
CREATED:20250829T130611Z
LAST-MODIFIED:20250924T143624Z
UID:10001386-1758758400-1758844799@carverridgeseniorliving.com
SUMMARY:Twins Spirit Day!
DESCRIPTION:
URL:https://carverridgeseniorliving.com/event-calendar/twins-spirit-day/
CATEGORIES:Legacy Court,Senior Living
END:VEVENT
BEGIN:VEVENT
DTSTART;TZID=America/Chicago:20250925T100000
DTEND;TZID=America/Chicago:20250925T110000
DTSTAMP:20260422T065252
CREATED:20250904T135105Z
LAST-MODIFIED:20250925T145123Z
UID:10001457-1758794400-1758798000@carverridgeseniorliving.com
SUMMARY:Whole Brain Health
DESCRIPTION:
URL:https://carverridgeseniorliving.com/event-calendar/whole-brain-health/
LOCATION:LC Piano Lounge
CATEGORIES:Legacy Court
END:VEVENT
BEGIN:VEVENT
DTSTART;TZID=America/Chicago:20250925T110000
DTEND;TZID=America/Chicago:20250925T120000
DTSTAMP:20260422T065252
CREATED:20250827T133611Z
LAST-MODIFIED:20250925T145123Z
UID:10001325-1758798000-1758801600@carverridgeseniorliving.com
SUMMARY:"Open the Magic" Bookmarks
DESCRIPTION:
URL:https://carverridgeseniorliving.com/event-calendar/what-in-the-world-10/
LOCATION:LC Dining Room
CATEGORIES:Legacy Court
END:VEVENT
BEGIN:VEVENT
DTSTART;TZID=America/Chicago:20250925T133000
DTEND;TZID=America/Chicago:20250925T143000
DTSTAMP:20260422T065252
CREATED:20250827T133612Z
LAST-MODIFIED:20250925T145123Z
UID:10001326-1758807000-1758810600@carverridgeseniorliving.com
SUMMARY:Musical Moments: Tina Turner Live in concert!
DESCRIPTION:
URL:https://carverridgeseniorliving.com/event-calendar/musical-moments-22/
LOCATION:LC Dining Room
CATEGORIES:Legacy Court
END:VEVENT
BEGIN:VEVENT
DTSTART;TZID=America/Chicago:20250925T140000
DTEND;TZID=America/Chicago:20250925T150000
DTSTAMP:20260422T065252
CREATED:20250827T133612Z
LAST-MODIFIED:20250925T145123Z
UID:10001327-1758808800-1758812400@carverridgeseniorliving.com
SUMMARY:Guy time w/Luke
DESCRIPTION:
URL:https://carverridgeseniorliving.com/event-calendar/guy-time-w-luke-7/
LOCATION:Dining Room
CATEGORIES:Legacy Court
END:VEVENT
BEGIN:VEVENT
DTSTART;TZID=America/Chicago:20250925T150000
DTEND;TZID=America/Chicago:20250925T160000
DTSTAMP:20260422T065252
CREATED:20250827T133612Z
LAST-MODIFIED:20250925T145123Z
UID:10001328-1758812400-1758816000@carverridgeseniorliving.com
SUMMARY:Color Me Happy
DESCRIPTION:
URL:https://carverridgeseniorliving.com/event-calendar/music-w-jenna-in-legacy-court-15/
LOCATION:LC Dining Room
CATEGORIES:Legacy Court
END:VEVENT
BEGIN:VEVENT
DTSTART;TZID=America/Chicago:20250926T110000
DTEND;TZID=America/Chicago:20250926T120000
DTSTAMP:20260422T065252
CREATED:20250904T135105Z
LAST-MODIFIED:20250926T145105Z
UID:10001458-1758884400-1758888000@carverridgeseniorliving.com
SUMMARY:Visit w/Jenny and Kiddos
DESCRIPTION:
URL:https://carverridgeseniorliving.com/event-calendar/visit-w-jenny-and-kiddos-9/
LOCATION:LC Dining Room
CATEGORIES:Legacy Court
END:VEVENT
BEGIN:VEVENT
DTSTART;TZID=America/Chicago:20250926T133000
DTEND;TZID=America/Chicago:20250926T143000
DTSTAMP:20260422T065252
CREATED:20250828T133717Z
LAST-MODIFIED:20250926T145105Z
UID:10001366-1758893400-1758897000@carverridgeseniorliving.com
SUMMARY:Make a Mess with Jess
DESCRIPTION:
URL:https://carverridgeseniorliving.com/event-calendar/make-a-mess-with-jess-20/
LOCATION:LC Dining Room
CATEGORIES:Legacy Court
END:VEVENT
BEGIN:VEVENT
DTSTART;TZID=America/Chicago:20250926T150000
DTEND;TZID=America/Chicago:20250926T160000
DTSTAMP:20260422T065252
CREATED:20250828T133718Z
LAST-MODIFIED:20250926T145105Z
UID:10001367-1758898800-1758902400@carverridgeseniorliving.com
SUMMARY:Mocktail Social
DESCRIPTION:
URL:https://carverridgeseniorliving.com/event-calendar/kindness-korner-18/
LOCATION:LC Dining Room
CATEGORIES:Legacy Court
END:VEVENT
BEGIN:VEVENT
DTSTART;TZID=America/Chicago:20250926T153000
DTEND;TZID=America/Chicago:20250926T163000
DTSTAMP:20260422T065252
CREATED:20250904T135106Z
LAST-MODIFIED:20250926T145105Z
UID:10001459-1758900600-1758904200@carverridgeseniorliving.com
SUMMARY:Table Topics
DESCRIPTION:
URL:https://carverridgeseniorliving.com/event-calendar/table-topics-2/
LOCATION:LC Dining Room
CATEGORIES:Legacy Court
END:VEVENT
BEGIN:VEVENT
DTSTART;TZID=America/Chicago:20250927T094500
DTEND;TZID=America/Chicago:20250927T100000
DTSTAMP:20260422T065252
CREATED:20250829T133610Z
LAST-MODIFIED:20250927T145106Z
UID:10001395-1758966300-1758967200@carverridgeseniorliving.com
SUMMARY:News and Views
DESCRIPTION:
URL:https://carverridgeseniorliving.com/event-calendar/news-and-views-40/
CATEGORIES:Legacy Court
END:VEVENT
BEGIN:VEVENT
DTSTART;TZID=America/Chicago:20250927T100000
DTEND;TZID=America/Chicago:20250927T110000
DTSTAMP:20260422T065252
CREATED:20250829T133610Z
LAST-MODIFIED:20250927T145106Z
UID:10001396-1758967200-1758970800@carverridgeseniorliving.com
SUMMARY:Balloonball w/Amanda
DESCRIPTION:
URL:https://carverridgeseniorliving.com/event-calendar/balloonball-w-amanda-10/
LOCATION:Piano Lounge
CATEGORIES:Legacy Court
END:VEVENT
BEGIN:VEVENT
DTSTART;TZID=America/Chicago:20250927T133000
DTEND;TZID=America/Chicago:20250927T143000
DTSTAMP:20260422T065252
CREATED:20250829T133610Z
LAST-MODIFIED:20250927T145106Z
UID:10001397-1758979800-1758983400@carverridgeseniorliving.com
SUMMARY:HHAs led Manicures and Hand Massage
DESCRIPTION:
URL:https://carverridgeseniorliving.com/event-calendar/hhas-led-manicures-and-hand-massage-20/
LOCATION:Dining Room
CATEGORIES:Legacy Court
END:VEVENT
END:VCALENDAR