BEGIN:VCALENDAR
VERSION:2.0
PRODID:-//Carver Ridge Senior Living - ECPv6.11.2.1//NONSGML v1.0//EN
CALSCALE:GREGORIAN
METHOD:PUBLISH
X-ORIGINAL-URL:https://carverridgeseniorliving.com
X-WR-CALDESC:Events for Carver Ridge Senior Living
REFRESH-INTERVAL;VALUE=DURATION:PT1H
X-Robots-Tag:noindex
X-PUBLISHED-TTL:PT1H
BEGIN:VTIMEZONE
TZID:America/Chicago
BEGIN:DAYLIGHT
TZOFFSETFROM:-0600
TZOFFSETTO:-0500
TZNAME:CDT
DTSTART:20260308T080000
END:DAYLIGHT
BEGIN:STANDARD
TZOFFSETFROM:-0500
TZOFFSETTO:-0600
TZNAME:CST
DTSTART:20261101T070000
END:STANDARD
END:VTIMEZONE
BEGIN:VEVENT
DTSTART;TZID=America/Chicago:20260122T150000
DTEND;TZID=America/Chicago:20260122T160000
DTSTAMP:20260423T112740
CREATED:20251224T022109Z
LAST-MODIFIED:20260122T040605Z
UID:10002399-1769094000-1769097600@carverridgeseniorliving.com
SUMMARY:Trivia!
DESCRIPTION:
URL:https://carverridgeseniorliving.com/event-calendar/color-me-happy-20/
LOCATION:LC Dining Room
CATEGORIES:Legacy Court
END:VEVENT
BEGIN:VEVENT
DTSTART;TZID=America/Chicago:20260122T133000
DTEND;TZID=America/Chicago:20260122T143000
DTSTAMP:20260423T112740
CREATED:20251224T022109Z
LAST-MODIFIED:20260122T040605Z
UID:10002398-1769088600-1769092200@carverridgeseniorliving.com
SUMMARY:Musical Moments: Frank Sinatra
DESCRIPTION:
URL:https://carverridgeseniorliving.com/event-calendar/musical-moments-frank-sinatra-17/
LOCATION:LC Dining Room
CATEGORIES:Legacy Court
END:VEVENT
BEGIN:VEVENT
DTSTART;TZID=America/Chicago:20260122T110000
DTEND;TZID=America/Chicago:20260122T120000
DTSTAMP:20260423T112740
CREATED:20251224T022109Z
LAST-MODIFIED:20260122T040605Z
UID:10002397-1769079600-1769083200@carverridgeseniorliving.com
SUMMARY:Watercolor Wonder
DESCRIPTION:
URL:https://carverridgeseniorliving.com/event-calendar/gratitude-attitude-devotions-22/
LOCATION:LC Dining Room
CATEGORIES:Legacy Court
END:VEVENT
BEGIN:VEVENT
DTSTART;TZID=America/Chicago:20260121T150000
DTEND;TZID=America/Chicago:20260121T160000
DTSTAMP:20260423T112740
CREATED:20251223T020614Z
LAST-MODIFIED:20260121T040608Z
UID:10002392-1769007600-1769011200@carverridgeseniorliving.com
SUMMARY:Music w/Jenna
DESCRIPTION:
URL:https://carverridgeseniorliving.com/event-calendar/kindness-corner-26/
LOCATION:LC Dining Room
CATEGORIES:Legacy Court
END:VEVENT
BEGIN:VEVENT
DTSTART;TZID=America/Chicago:20260121T133000
DTEND;TZID=America/Chicago:20260121T143000
DTSTAMP:20260423T112740
CREATED:20251223T020614Z
LAST-MODIFIED:20260121T040608Z
UID:10002391-1769002200-1769005800@carverridgeseniorliving.com
SUMMARY:Name of the Game
DESCRIPTION:
URL:https://carverridgeseniorliving.com/event-calendar/competition-corner-10/
LOCATION:LC Piano Lounge
CATEGORIES:Legacy Court
END:VEVENT
BEGIN:VEVENT
DTSTART;TZID=America/Chicago:20260121T110000
DTEND;TZID=America/Chicago:20260121T120000
DTSTAMP:20260423T112740
CREATED:20251223T020614Z
LAST-MODIFIED:20260121T040608Z
UID:10002390-1768993200-1768996800@carverridgeseniorliving.com
SUMMARY:Reminisce!
DESCRIPTION:
URL:https://carverridgeseniorliving.com/event-calendar/senior-fitness-9/
CATEGORIES:Legacy Court
END:VEVENT
BEGIN:VEVENT
DTSTART;TZID=America/Chicago:20260121T100000
DTEND;TZID=America/Chicago:20260121T110000
DTSTAMP:20260423T112740
CREATED:20251223T020614Z
LAST-MODIFIED:20260121T040608Z
UID:10002389-1768989600-1768993200@carverridgeseniorliving.com
SUMMARY:Music with Bryant
DESCRIPTION:
URL:https://carverridgeseniorliving.com/event-calendar/music-with-bryant-38/
LOCATION:Piano Lounge
CATEGORIES:Legacy Court
END:VEVENT
BEGIN:VEVENT
DTSTART;TZID=America/Chicago:20260120T150000
DTEND;TZID=America/Chicago:20260120T160000
DTSTAMP:20260423T112740
CREATED:20251222T015116Z
LAST-MODIFIED:20260107T030606Z
UID:10002377-1768921200-1768924800@carverridgeseniorliving.com
SUMMARY:Nacho Average Tuesday
DESCRIPTION:
URL:https://carverridgeseniorliving.com/event-calendar/nacho-average-tuesday-16/
LOCATION:LC Dining Room
CATEGORIES:Legacy Court
END:VEVENT
BEGIN:VEVENT
DTSTART;TZID=America/Chicago:20260120T133000
DTEND;TZID=America/Chicago:20260120T143000
DTSTAMP:20260423T112740
CREATED:20251222T015116Z
LAST-MODIFIED:20260120T040610Z
UID:10002376-1768915800-1768919400@carverridgeseniorliving.com
SUMMARY:BINGO!
DESCRIPTION:
URL:https://carverridgeseniorliving.com/event-calendar/bingo-87/
LOCATION:LC Dining Room
CATEGORIES:Legacy Court
END:VEVENT
BEGIN:VEVENT
DTSTART;TZID=America/Chicago:20260120T113000
DTEND;TZID=America/Chicago:20260120T123000
DTSTAMP:20260423T112740
CREATED:20251222T015116Z
LAST-MODIFIED:20260120T040610Z
UID:10002375-1768908600-1768912200@carverridgeseniorliving.com
SUMMARY:Artist Spotlight
DESCRIPTION:
URL:https://carverridgeseniorliving.com/event-calendar/chair-yoga-55/
CATEGORIES:Legacy Court
END:VEVENT
BEGIN:VEVENT
DTSTART;TZID=America/Chicago:20260120T110000
DTEND;TZID=America/Chicago:20260120T120000
DTSTAMP:20260423T112740
CREATED:20251222T015116Z
LAST-MODIFIED:20260120T040610Z
UID:10002374-1768906800-1768910400@carverridgeseniorliving.com
SUMMARY:Worship w/Chaplain Carol
DESCRIPTION:
URL:https://carverridgeseniorliving.com/event-calendar/worship-w-chaplain-carol-12/
LOCATION:LC Piano Lounge
CATEGORIES:Legacy Court
END:VEVENT
BEGIN:VEVENT
DTSTART;TZID=America/Chicago:20260120T100000
DTEND;TZID=America/Chicago:20260120T110000
DTSTAMP:20260423T112740
CREATED:20260108T030603Z
LAST-MODIFIED:20260120T040610Z
UID:10002533-1768903200-1768906800@carverridgeseniorliving.com
SUMMARY:Bean Bags w/Amanda
DESCRIPTION:
URL:https://carverridgeseniorliving.com/event-calendar/bean-bags-w-amanda/
LOCATION:LC Dining Room
CATEGORIES:Legacy Court
END:VEVENT
BEGIN:VEVENT
DTSTART;TZID=America/Chicago:20260119T153000
DTEND;TZID=America/Chicago:20260119T163000
DTSTAMP:20260423T112740
CREATED:20260108T030603Z
LAST-MODIFIED:20260119T040607Z
UID:10002532-1768836600-1768840200@carverridgeseniorliving.com
SUMMARY:Dolly Photo Fun!
DESCRIPTION:
URL:https://carverridgeseniorliving.com/event-calendar/dolly-photo-fun/
CATEGORIES:Legacy Court
END:VEVENT
BEGIN:VEVENT
DTSTART;TZID=America/Chicago:20260119T140000
DTEND;TZID=America/Chicago:20260119T150000
DTSTAMP:20260423T112740
CREATED:20251221T015109Z
LAST-MODIFIED:20260119T040607Z
UID:10002369-1768831200-1768834800@carverridgeseniorliving.com
SUMMARY:Monday Movie Matinee
DESCRIPTION:
URL:https://carverridgeseniorliving.com/event-calendar/monday-movie-matinee-35/
LOCATION:Piano Lounge
CATEGORIES:Legacy Court
END:VEVENT
BEGIN:VEVENT
DTSTART;TZID=America/Chicago:20260119T110000
DTEND;TZID=America/Chicago:20260119T120000
DTSTAMP:20260423T112740
CREATED:20251221T015109Z
LAST-MODIFIED:20260119T040607Z
UID:10002368-1768820400-1768824000@carverridgeseniorliving.com
SUMMARY:MLK Trivia and Color Social
DESCRIPTION:
URL:https://carverridgeseniorliving.com/event-calendar/gratitude-attitude-devotions-21/
LOCATION:LC Dining Room
CATEGORIES:Legacy Court
END:VEVENT
BEGIN:VEVENT
DTSTART;TZID=America/Chicago:20260119T103000
DTEND;TZID=America/Chicago:20260119T113000
DTSTAMP:20260423T112740
CREATED:20251221T015109Z
LAST-MODIFIED:20260119T040607Z
UID:10002367-1768818600-1768822200@carverridgeseniorliving.com
SUMMARY:History Makers (Martin Luther)
DESCRIPTION:
URL:https://carverridgeseniorliving.com/event-calendar/gratitude-attitude-devotions-20/
LOCATION:Dining Room
CATEGORIES:Legacy Court
END:VEVENT
BEGIN:VEVENT
DTSTART;TZID=America/Chicago:20260118T150000
DTEND;TZID=America/Chicago:20260118T160000
DTSTAMP:20260423T112740
CREATED:20251220T015117Z
LAST-MODIFIED:20260118T040608Z
UID:10002364-1768748400-1768752000@carverridgeseniorliving.com
SUMMARY:Bingo
DESCRIPTION:
URL:https://carverridgeseniorliving.com/event-calendar/sunshine-and-smiles-social-time-6/
LOCATION:LC Dining Room
CATEGORIES:Legacy Court
END:VEVENT
BEGIN:VEVENT
DTSTART;TZID=America/Chicago:20260118T100000
DTEND;TZID=America/Chicago:20260118T110000
DTSTAMP:20260423T112740
CREATED:20251220T015117Z
LAST-MODIFIED:20260118T040608Z
UID:10002363-1768730400-1768734000@carverridgeseniorliving.com
SUMMARY:Acrylic Painting
DESCRIPTION:
URL:https://carverridgeseniorliving.com/event-calendar/bean-bag-toss-w-amanda-23/
LOCATION:LC Dining Room
CATEGORIES:Legacy Court
END:VEVENT
BEGIN:VEVENT
DTSTART;TZID=America/Chicago:20260118T093000
DTEND;TZID=America/Chicago:20260118T094500
DTSTAMP:20260423T112740
CREATED:20251220T015117Z
LAST-MODIFIED:20260107T030605Z
UID:10002362-1768728600-1768729500@carverridgeseniorliving.com
SUMMARY:News and Views
DESCRIPTION:
URL:https://carverridgeseniorliving.com/event-calendar/news-and-views-73/
CATEGORIES:Legacy Court
END:VEVENT
BEGIN:VEVENT
DTSTART;TZID=America/Chicago:20260117T150000
DTEND;TZID=America/Chicago:20260117T160000
DTSTAMP:20260423T112740
CREATED:20251219T012306Z
LAST-MODIFIED:20260117T040630Z
UID:10002357-1768662000-1768665600@carverridgeseniorliving.com
SUMMARY:Hot Cocoa Social and Hot Chocolate Word Find!
DESCRIPTION:
URL:https://carverridgeseniorliving.com/event-calendar/saturday-social-time-30/
LOCATION:LC Dining Room
CATEGORIES:Legacy Court
END:VEVENT
BEGIN:VEVENT
DTSTART;TZID=America/Chicago:20260117T133000
DTEND;TZID=America/Chicago:20260117T143000
DTSTAMP:20260423T112740
CREATED:20251219T012306Z
LAST-MODIFIED:20260117T040630Z
UID:10002356-1768656600-1768660200@carverridgeseniorliving.com
SUMMARY:HHAs led Manicures and Hand Massage
DESCRIPTION:
URL:https://carverridgeseniorliving.com/event-calendar/hhas-led-manicures-and-hand-massage-36/
LOCATION:Dining Room
CATEGORIES:Legacy Court
END:VEVENT
BEGIN:VEVENT
DTSTART;TZID=America/Chicago:20260117T110000
DTEND;TZID=America/Chicago:20260117T120000
DTSTAMP:20260423T112740
CREATED:20251219T012306Z
LAST-MODIFIED:20260117T040630Z
UID:10002355-1768647600-1768651200@carverridgeseniorliving.com
SUMMARY:The Bond Between Visits! - April and Justin with Rosie and Buster
DESCRIPTION:
URL:https://carverridgeseniorliving.com/event-calendar/the-bond-between-visits-april-and-justin-with-rosie-and-buster-7/
LOCATION:LC Dining Room
CATEGORIES:Legacy Court
END:VEVENT
BEGIN:VEVENT
DTSTART;TZID=America/Chicago:20260117T100000
DTEND;TZID=America/Chicago:20260117T110000
DTSTAMP:20260423T112740
CREATED:20251219T012306Z
LAST-MODIFIED:20260117T040630Z
UID:10002354-1768644000-1768647600@carverridgeseniorliving.com
SUMMARY:Where in the World
DESCRIPTION:
URL:https://carverridgeseniorliving.com/event-calendar/balloonball-w-amanda-18/
LOCATION:Piano Lounge
CATEGORIES:Legacy Court
END:VEVENT
BEGIN:VEVENT
DTSTART;TZID=America/Chicago:20260117T093000
DTEND;TZID=America/Chicago:20260117T094500
DTSTAMP:20260423T112740
CREATED:20251219T012305Z
LAST-MODIFIED:20260107T030605Z
UID:10002353-1768642200-1768643100@carverridgeseniorliving.com
SUMMARY:News and Views
DESCRIPTION:
URL:https://carverridgeseniorliving.com/event-calendar/news-and-views-72/
CATEGORIES:Legacy Court
END:VEVENT
BEGIN:VEVENT
DTSTART;TZID=America/Chicago:20260116T150000
DTEND;TZID=America/Chicago:20260116T160000
DTSTAMP:20260423T112740
CREATED:20251218T012126Z
LAST-MODIFIED:20260116T040615Z
UID:10002347-1768575600-1768579200@carverridgeseniorliving.com
SUMMARY:Mocktail "Snow"cial
DESCRIPTION:
URL:https://carverridgeseniorliving.com/event-calendar/mocktail-social-15/
LOCATION:LC Dining Room
CATEGORIES:Legacy Court
END:VEVENT
BEGIN:VEVENT
DTSTART;TZID=America/Chicago:20260116T133000
DTEND;TZID=America/Chicago:20260116T143000
DTSTAMP:20260423T112740
CREATED:20251218T012126Z
LAST-MODIFIED:20260116T040614Z
UID:10002346-1768570200-1768573800@carverridgeseniorliving.com
SUMMARY:Make a Mess with Jess
DESCRIPTION:
URL:https://carverridgeseniorliving.com/event-calendar/make-a-mess-with-jess-36/
LOCATION:LC Dining Room
CATEGORIES:Legacy Court
END:VEVENT
BEGIN:VEVENT
DTSTART;VALUE=DATE:20260116
DTEND;VALUE=DATE:20260117
DTSTAMP:20260423T112740
CREATED:20251225T015108Z
LAST-MODIFIED:20260115T035103Z
UID:10002400-1768521600-1768607999@carverridgeseniorliving.com
SUMMARY:Hygge Day
DESCRIPTION:
URL:https://carverridgeseniorliving.com/event-calendar/hygge-day/
CATEGORIES:Legacy Court,Senior Living
END:VEVENT
BEGIN:VEVENT
DTSTART;TZID=America/Chicago:20260115T150000
DTEND;TZID=America/Chicago:20260115T160000
DTSTAMP:20260423T112740
CREATED:20251217T012111Z
LAST-MODIFIED:20260115T035103Z
UID:10002342-1768489200-1768492800@carverridgeseniorliving.com
SUMMARY:Snowy Day Poetry and Writing Prompts
DESCRIPTION:
URL:https://carverridgeseniorliving.com/event-calendar/color-me-happy-19/
LOCATION:LC Dining Room
CATEGORIES:Legacy Court
END:VEVENT
BEGIN:VEVENT
DTSTART;TZID=America/Chicago:20260115T133000
DTEND;TZID=America/Chicago:20260115T143000
DTSTAMP:20260423T112740
CREATED:20251217T012111Z
LAST-MODIFIED:20260115T035103Z
UID:10002341-1768483800-1768487400@carverridgeseniorliving.com
SUMMARY:Musical Moments
DESCRIPTION:
URL:https://carverridgeseniorliving.com/event-calendar/musical-moments-frank-sinatra-16/
LOCATION:LC Dining Room
CATEGORIES:Legacy Court
END:VEVENT
BEGIN:VEVENT
DTSTART;TZID=America/Chicago:20260115T110000
DTEND;TZID=America/Chicago:20260115T120000
DTSTAMP:20260423T112740
CREATED:20251217T012111Z
LAST-MODIFIED:20260115T035103Z
UID:10002340-1768474800-1768478400@carverridgeseniorliving.com
SUMMARY:Watercolor Wonder
DESCRIPTION:
URL:https://carverridgeseniorliving.com/event-calendar/cranium-cafe-8/
LOCATION:LC Dining Room
CATEGORIES:Legacy Court
END:VEVENT
END:VCALENDAR