BEGIN:VCALENDAR
VERSION:2.0
PRODID:-//Carver Ridge Senior Living - ECPv6.11.2.1//NONSGML v1.0//EN
CALSCALE:GREGORIAN
METHOD:PUBLISH
X-ORIGINAL-URL:https://carverridgeseniorliving.com
X-WR-CALDESC:Events for Carver Ridge Senior Living
REFRESH-INTERVAL;VALUE=DURATION:PT1H
X-Robots-Tag:noindex
X-PUBLISHED-TTL:PT1H
BEGIN:VTIMEZONE
TZID:America/Chicago
BEGIN:DAYLIGHT
TZOFFSETFROM:-0600
TZOFFSETTO:-0500
TZNAME:CDT
DTSTART:20250309T080000
END:DAYLIGHT
BEGIN:STANDARD
TZOFFSETFROM:-0500
TZOFFSETTO:-0600
TZNAME:CST
DTSTART:20251102T070000
END:STANDARD
END:VTIMEZONE
BEGIN:VEVENT
DTSTART;TZID=America/Chicago:20250927T150000
DTEND;TZID=America/Chicago:20250927T160000
DTSTAMP:20260422T113234
CREATED:20250829T133610Z
LAST-MODIFIED:20250927T145106Z
UID:10001398-1758985200-1758988800@carverridgeseniorliving.com
SUMMARY:Saturday social time
DESCRIPTION:
URL:https://carverridgeseniorliving.com/event-calendar/saturday-social-time-14/
LOCATION:LC Dining Room
CATEGORIES:Legacy Court
END:VEVENT
BEGIN:VEVENT
DTSTART;TZID=America/Chicago:20250928T094500
DTEND;TZID=America/Chicago:20250928T100000
DTSTAMP:20260422T113234
CREATED:20250830T133605Z
LAST-MODIFIED:20250928T145114Z
UID:10001405-1759052700-1759053600@carverridgeseniorliving.com
SUMMARY:News and Views
DESCRIPTION:
URL:https://carverridgeseniorliving.com/event-calendar/news-and-views-41/
CATEGORIES:Legacy Court
END:VEVENT
BEGIN:VEVENT
DTSTART;TZID=America/Chicago:20250928T100000
DTEND;TZID=America/Chicago:20250928T110000
DTSTAMP:20260422T113234
CREATED:20250830T133605Z
LAST-MODIFIED:20250928T145114Z
UID:10001406-1759053600-1759057200@carverridgeseniorliving.com
SUMMARY:Fun and Fit w/Amanda
DESCRIPTION:
URL:https://carverridgeseniorliving.com/event-calendar/fun-and-fit-w-amanda-20/
CATEGORIES:Legacy Court
END:VEVENT
BEGIN:VEVENT
DTSTART;TZID=America/Chicago:20250928T150000
DTEND;TZID=America/Chicago:20250928T160000
DTSTAMP:20260422T113234
CREATED:20250830T133605Z
LAST-MODIFIED:20250928T145114Z
UID:10001407-1759071600-1759075200@carverridgeseniorliving.com
SUMMARY:Sunshine and Smiles Snack Social
DESCRIPTION:
URL:https://carverridgeseniorliving.com/event-calendar/sunshine-and-smiles-snack-social-39/
LOCATION:LC Dining Room
CATEGORIES:Legacy Court
END:VEVENT
BEGIN:VEVENT
DTSTART;TZID=America/Chicago:20250929T100000
DTEND;TZID=America/Chicago:20250929T110000
DTSTAMP:20260422T113234
CREATED:20250831T135107Z
LAST-MODIFIED:20250831T135107Z
UID:10001411-1759140000-1759143600@carverridgeseniorliving.com
SUMMARY:Faith Corner
DESCRIPTION:
URL:https://carverridgeseniorliving.com/event-calendar/faith-corner-18/
LOCATION:LC Dining Room
CATEGORIES:Legacy Court
END:VEVENT
BEGIN:VEVENT
DTSTART;TZID=America/Chicago:20250929T103000
DTEND;TZID=America/Chicago:20250929T113000
DTSTAMP:20260422T113234
CREATED:20250831T135107Z
LAST-MODIFIED:20250929T145105Z
UID:10001412-1759141800-1759145400@carverridgeseniorliving.com
SUMMARY:"Twisted!" Exercise Game
DESCRIPTION:
URL:https://carverridgeseniorliving.com/event-calendar/bean-bag-toss-20/
LOCATION:Piano Lounge
CATEGORIES:Legacy Court
END:VEVENT
BEGIN:VEVENT
DTSTART;TZID=America/Chicago:20250929T113000
DTEND;TZID=America/Chicago:20250929T123000
DTSTAMP:20260422T113234
CREATED:20250904T135106Z
LAST-MODIFIED:20250929T145105Z
UID:10001460-1759145400-1759149000@carverridgeseniorliving.com
SUMMARY:Stretch it Out
DESCRIPTION:
URL:https://carverridgeseniorliving.com/event-calendar/stretch-it-out-2/
LOCATION:LC Piano Lounge
CATEGORIES:Legacy Court
END:VEVENT
BEGIN:VEVENT
DTSTART;TZID=America/Chicago:20250929T140000
DTEND;TZID=America/Chicago:20250929T150000
DTSTAMP:20260422T113234
CREATED:20250831T135107Z
LAST-MODIFIED:20250929T145105Z
UID:10001413-1759154400-1759158000@carverridgeseniorliving.com
SUMMARY:Monday Movie Matinee: Cheaper By the Dozen 2
DESCRIPTION:
URL:https://carverridgeseniorliving.com/event-calendar/monday-movie-matinee-19/
LOCATION:Piano Lounge
CATEGORIES:Legacy Court
END:VEVENT
BEGIN:VEVENT
DTSTART;TZID=America/Chicago:20250930T110000
DTEND;TZID=America/Chicago:20250930T120000
DTSTAMP:20260422T113234
CREATED:20250903T130615Z
LAST-MODIFIED:20250903T135150Z
UID:10001441-1759230000-1759233600@carverridgeseniorliving.com
SUMMARY:Worship w/Chaplain Carol in Legacy Court
DESCRIPTION:
URL:https://carverridgeseniorliving.com/event-calendar/worship-w-chaplain-carol-in-legacy-court-4/
LOCATION:Piano Lounge
CATEGORIES:Legacy Court,Senior Living
END:VEVENT
BEGIN:VEVENT
DTSTART;TZID=America/Chicago:20250930T113000
DTEND;TZID=America/Chicago:20250930T123000
DTSTAMP:20260422T113234
CREATED:20250901T135106Z
LAST-MODIFIED:20250930T145106Z
UID:10001423-1759231800-1759235400@carverridgeseniorliving.com
SUMMARY:Chair Yoga
DESCRIPTION:
URL:https://carverridgeseniorliving.com/event-calendar/chair-yoga-24/
CATEGORIES:Legacy Court
END:VEVENT
BEGIN:VEVENT
DTSTART;TZID=America/Chicago:20250930T113000
DTEND;TZID=America/Chicago:20250930T123000
DTSTAMP:20260422T113234
CREATED:20250904T135106Z
LAST-MODIFIED:20250929T145105Z
UID:10001461-1759231800-1759235400@carverridgeseniorliving.com
SUMMARY:What in the World
DESCRIPTION:
URL:https://carverridgeseniorliving.com/event-calendar/what-in-the-world-11/
LOCATION:LC Dining Room
CATEGORIES:Legacy Court
END:VEVENT
BEGIN:VEVENT
DTSTART;TZID=America/Chicago:20250930T133000
DTEND;TZID=America/Chicago:20250930T143000
DTSTAMP:20260422T113234
CREATED:20250901T135106Z
LAST-MODIFIED:20250930T145106Z
UID:10001424-1759239000-1759242600@carverridgeseniorliving.com
SUMMARY:BINGO!
DESCRIPTION:
URL:https://carverridgeseniorliving.com/event-calendar/bingo-50/
LOCATION:LC Dining Room
CATEGORIES:Legacy Court
END:VEVENT
BEGIN:VEVENT
DTSTART;TZID=America/Chicago:20250930T150000
DTEND;TZID=America/Chicago:20250930T160000
DTSTAMP:20260422T113234
CREATED:20250901T135106Z
LAST-MODIFIED:20250930T145106Z
UID:10001425-1759244400-1759248000@carverridgeseniorliving.com
SUMMARY:Mocktail Social
DESCRIPTION:
URL:https://carverridgeseniorliving.com/event-calendar/hummmingbird-hanger-craft/
LOCATION:LC Dining Room
CATEGORIES:Legacy Court
END:VEVENT
BEGIN:VEVENT
DTSTART;TZID=America/Chicago:20251001T100000
DTEND;TZID=America/Chicago:20251001T110000
DTSTAMP:20260422T113234
CREATED:20250902T135108Z
LAST-MODIFIED:20251001T145116Z
UID:10001431-1759312800-1759316400@carverridgeseniorliving.com
SUMMARY:Music with Bryant
DESCRIPTION:
URL:https://carverridgeseniorliving.com/event-calendar/music-with-bryant-22/
LOCATION:Piano Lounge
CATEGORIES:Legacy Court
END:VEVENT
BEGIN:VEVENT
DTSTART;TZID=America/Chicago:20251001T110000
DTEND;TZID=America/Chicago:20251001T120000
DTSTAMP:20260422T113234
CREATED:20250902T135108Z
LAST-MODIFIED:20251001T145116Z
UID:10001432-1759316400-1759320000@carverridgeseniorliving.com
SUMMARY:Senior Fitness
DESCRIPTION:
URL:https://carverridgeseniorliving.com/event-calendar/sunshine-and-smiles-11/
LOCATION:LC Piano Lounge
CATEGORIES:Legacy Court
END:VEVENT
BEGIN:VEVENT
DTSTART;TZID=America/Chicago:20251001T133000
DTEND;TZID=America/Chicago:20251001T143000
DTSTAMP:20260422T113234
CREATED:20250902T135108Z
LAST-MODIFIED:20251001T145116Z
UID:10001433-1759325400-1759329000@carverridgeseniorliving.com
SUMMARY:Bean Bag Toss
DESCRIPTION:
URL:https://carverridgeseniorliving.com/event-calendar/lets-give/
LOCATION:LC Piano Lounge
CATEGORIES:Legacy Court
END:VEVENT
BEGIN:VEVENT
DTSTART;TZID=America/Chicago:20251001T150000
DTEND;TZID=America/Chicago:20251001T160000
DTSTAMP:20260422T113234
CREATED:20250902T135108Z
LAST-MODIFIED:20251001T145116Z
UID:10001434-1759330800-1759334400@carverridgeseniorliving.com
SUMMARY:Birthday Blessings!
DESCRIPTION:
URL:https://carverridgeseniorliving.com/event-calendar/drum-circle-w-jenna-2/
LOCATION:LC Dining Room
CATEGORIES:Legacy Court
END:VEVENT
BEGIN:VEVENT
DTSTART;TZID=America/Chicago:20251002T100000
DTEND;TZID=America/Chicago:20251002T110000
DTSTAMP:20260422T113234
CREATED:20251001T145114Z
LAST-MODIFIED:20251002T145124Z
UID:10001700-1759399200-1759402800@carverridgeseniorliving.com
SUMMARY:Carver Pals visit!
DESCRIPTION:
URL:https://carverridgeseniorliving.com/event-calendar/carver-pals-visit-2/
LOCATION:LC Dining Room
CATEGORIES:Legacy Court
END:VEVENT
BEGIN:VEVENT
DTSTART;TZID=America/Chicago:20251002T110000
DTEND;TZID=America/Chicago:20251002T120000
DTSTAMP:20260422T113234
CREATED:20250903T135150Z
LAST-MODIFIED:20251002T145124Z
UID:10001445-1759402800-1759406400@carverridgeseniorliving.com
SUMMARY:Dance it Out Fitness
DESCRIPTION:
URL:https://carverridgeseniorliving.com/event-calendar/crafting-the-news/
LOCATION:LC Dining Room
CATEGORIES:Legacy Court
END:VEVENT
BEGIN:VEVENT
DTSTART;TZID=America/Chicago:20251002T133000
DTEND;TZID=America/Chicago:20251002T143000
DTSTAMP:20260422T113234
CREATED:20250903T135150Z
LAST-MODIFIED:20251002T145124Z
UID:10001446-1759411800-1759415400@carverridgeseniorliving.com
SUMMARY:Musical Moments: Julie Andrews - Sound of Orchestra
DESCRIPTION:
URL:https://carverridgeseniorliving.com/event-calendar/musical-moments-frank-sinatra/
LOCATION:LC Dining Room
CATEGORIES:Legacy Court
END:VEVENT
BEGIN:VEVENT
DTSTART;TZID=America/Chicago:20251002T140000
DTEND;TZID=America/Chicago:20251002T150000
DTSTAMP:20260422T113234
CREATED:20250903T135150Z
LAST-MODIFIED:20250903T135150Z
UID:10001447-1759413600-1759417200@carverridgeseniorliving.com
SUMMARY:Guy time w/Luke
DESCRIPTION:
URL:https://carverridgeseniorliving.com/event-calendar/guy-time-w-luke-8/
LOCATION:Dining Room
CATEGORIES:Legacy Court
END:VEVENT
BEGIN:VEVENT
DTSTART;TZID=America/Chicago:20251002T150000
DTEND;TZID=America/Chicago:20251002T160000
DTSTAMP:20260422T113234
CREATED:20250903T135150Z
LAST-MODIFIED:20251002T145125Z
UID:10001448-1759417200-1759420800@carverridgeseniorliving.com
SUMMARY:Kindness Corner
DESCRIPTION:
URL:https://carverridgeseniorliving.com/event-calendar/lets-give-thanks-newspaper-carriers/
LOCATION:LC Dining Room
CATEGORIES:Legacy Court
END:VEVENT
BEGIN:VEVENT
DTSTART;TZID=America/Chicago:20251003T103000
DTEND;TZID=America/Chicago:20251003T113000
DTSTAMP:20260422T113234
CREATED:20250904T135107Z
LAST-MODIFIED:20250930T145105Z
UID:10001462-1759487400-1759491000@carverridgeseniorliving.com
SUMMARY:Music w/Melissa
DESCRIPTION:
URL:https://carverridgeseniorliving.com/event-calendar/music-w-melissa-5/
LOCATION:Piano Lounge
CATEGORIES:Legacy Court
END:VEVENT
BEGIN:VEVENT
DTSTART;TZID=America/Chicago:20251003T110000
DTEND;TZID=America/Chicago:20251003T120000
DTSTAMP:20260422T113234
CREATED:20250904T135107Z
LAST-MODIFIED:20250930T145105Z
UID:10001463-1759489200-1759492800@carverridgeseniorliving.com
SUMMARY:Visit w/Jenny and Kiddos
DESCRIPTION:
URL:https://carverridgeseniorliving.com/event-calendar/visit-w-jenny-and-kiddos-10/
LOCATION:LC Dining Room
CATEGORIES:Legacy Court
END:VEVENT
BEGIN:VEVENT
DTSTART;TZID=America/Chicago:20251003T133000
DTEND;TZID=America/Chicago:20251003T143000
DTSTAMP:20260422T113234
CREATED:20250904T135107Z
LAST-MODIFIED:20251003T150610Z
UID:10001464-1759498200-1759501800@carverridgeseniorliving.com
SUMMARY:Make a Mess with Jess
DESCRIPTION:
URL:https://carverridgeseniorliving.com/event-calendar/make-a-mess-with-jess-21/
LOCATION:LC Dining Room
CATEGORIES:Legacy Court
END:VEVENT
BEGIN:VEVENT
DTSTART;TZID=America/Chicago:20251003T150000
DTEND;TZID=America/Chicago:20251003T160000
DTSTAMP:20260422T113234
CREATED:20250904T135107Z
LAST-MODIFIED:20251003T150610Z
UID:10001465-1759503600-1759507200@carverridgeseniorliving.com
SUMMARY:Build a Bloody Mary Smile Social
DESCRIPTION:
URL:https://carverridgeseniorliving.com/event-calendar/mocktail-social/
LOCATION:LC Dining Room
CATEGORIES:Legacy Court
END:VEVENT
BEGIN:VEVENT
DTSTART;TZID=America/Chicago:20251004T094500
DTEND;TZID=America/Chicago:20251004T100000
DTSTAMP:20260422T113234
CREATED:20250905T135131Z
LAST-MODIFIED:20251003T150610Z
UID:10001470-1759571100-1759572000@carverridgeseniorliving.com
SUMMARY:News and Views
DESCRIPTION:
URL:https://carverridgeseniorliving.com/event-calendar/news-and-views-42/
CATEGORIES:Legacy Court
END:VEVENT
BEGIN:VEVENT
DTSTART;TZID=America/Chicago:20251004T103000
DTEND;TZID=America/Chicago:20251004T113000
DTSTAMP:20260422T113234
CREATED:20250905T135131Z
LAST-MODIFIED:20251004T150632Z
UID:10001471-1759573800-1759577400@carverridgeseniorliving.com
SUMMARY:Balloonball w/Yvonna
DESCRIPTION:
URL:https://carverridgeseniorliving.com/event-calendar/balloonball-w-yvonna-11/
LOCATION:Piano Lounge
CATEGORIES:Legacy Court
END:VEVENT
BEGIN:VEVENT
DTSTART;TZID=America/Chicago:20251004T133000
DTEND;TZID=America/Chicago:20251004T143000
DTSTAMP:20260422T113234
CREATED:20250905T135131Z
LAST-MODIFIED:20251004T150632Z
UID:10001472-1759584600-1759588200@carverridgeseniorliving.com
SUMMARY:HHAs led Manicures and Hand Massage
DESCRIPTION:
URL:https://carverridgeseniorliving.com/event-calendar/hhas-led-manicures-and-hand-massage-21/
LOCATION:Dining Room
CATEGORIES:Legacy Court
END:VEVENT
BEGIN:VEVENT
DTSTART;TZID=America/Chicago:20251004T150000
DTEND;TZID=America/Chicago:20251004T160000
DTSTAMP:20260422T113234
CREATED:20250905T135131Z
LAST-MODIFIED:20251004T150632Z
UID:10001473-1759590000-1759593600@carverridgeseniorliving.com
SUMMARY:Saturday social time
DESCRIPTION:
URL:https://carverridgeseniorliving.com/event-calendar/saturday-social-time-15/
LOCATION:LC Dining Room
CATEGORIES:Legacy Court
END:VEVENT
END:VCALENDAR