BEGIN:VCALENDAR
VERSION:2.0
PRODID:-//Carver Ridge Senior Living - ECPv6.11.2.1//NONSGML v1.0//EN
CALSCALE:GREGORIAN
METHOD:PUBLISH
X-WR-CALNAME:Carver Ridge Senior Living
X-ORIGINAL-URL:https://carverridgeseniorliving.com
X-WR-CALDESC:Events for Carver Ridge Senior Living
REFRESH-INTERVAL;VALUE=DURATION:PT1H
X-Robots-Tag:noindex
X-PUBLISHED-TTL:PT1H
BEGIN:VTIMEZONE
TZID:America/Chicago
BEGIN:DAYLIGHT
TZOFFSETFROM:-0600
TZOFFSETTO:-0500
TZNAME:CDT
DTSTART:20250309T080000
END:DAYLIGHT
BEGIN:STANDARD
TZOFFSETFROM:-0500
TZOFFSETTO:-0600
TZNAME:CST
DTSTART:20251102T070000
END:STANDARD
END:VTIMEZONE
BEGIN:VEVENT
DTSTART;TZID=America/Chicago:20251002T140000
DTEND;TZID=America/Chicago:20251002T150000
DTSTAMP:20260422T143939
CREATED:20250903T135150Z
LAST-MODIFIED:20250903T135150Z
UID:10001447-1759413600-1759417200@carverridgeseniorliving.com
SUMMARY:Guy time w/Luke
DESCRIPTION:
URL:https://carverridgeseniorliving.com/event-calendar/guy-time-w-luke-8/
LOCATION:Dining Room
CATEGORIES:Legacy Court
END:VEVENT
BEGIN:VEVENT
DTSTART;TZID=America/Chicago:20251002T150000
DTEND;TZID=America/Chicago:20251002T160000
DTSTAMP:20260422T143939
CREATED:20250903T135150Z
LAST-MODIFIED:20251002T145125Z
UID:10001448-1759417200-1759420800@carverridgeseniorliving.com
SUMMARY:Kindness Corner
DESCRIPTION:
URL:https://carverridgeseniorliving.com/event-calendar/lets-give-thanks-newspaper-carriers/
LOCATION:LC Dining Room
CATEGORIES:Legacy Court
END:VEVENT
BEGIN:VEVENT
DTSTART;TZID=America/Chicago:20251003T103000
DTEND;TZID=America/Chicago:20251003T113000
DTSTAMP:20260422T143939
CREATED:20250904T135107Z
LAST-MODIFIED:20250930T145105Z
UID:10001462-1759487400-1759491000@carverridgeseniorliving.com
SUMMARY:Music w/Melissa
DESCRIPTION:
URL:https://carverridgeseniorliving.com/event-calendar/music-w-melissa-5/
LOCATION:Piano Lounge
CATEGORIES:Legacy Court
END:VEVENT
BEGIN:VEVENT
DTSTART;TZID=America/Chicago:20251003T110000
DTEND;TZID=America/Chicago:20251003T120000
DTSTAMP:20260422T143939
CREATED:20250904T135107Z
LAST-MODIFIED:20250930T145105Z
UID:10001463-1759489200-1759492800@carverridgeseniorliving.com
SUMMARY:Visit w/Jenny and Kiddos
DESCRIPTION:
URL:https://carverridgeseniorliving.com/event-calendar/visit-w-jenny-and-kiddos-10/
LOCATION:LC Dining Room
CATEGORIES:Legacy Court
END:VEVENT
BEGIN:VEVENT
DTSTART;TZID=America/Chicago:20251003T133000
DTEND;TZID=America/Chicago:20251003T143000
DTSTAMP:20260422T143939
CREATED:20250904T135107Z
LAST-MODIFIED:20251003T150610Z
UID:10001464-1759498200-1759501800@carverridgeseniorliving.com
SUMMARY:Make a Mess with Jess
DESCRIPTION:
URL:https://carverridgeseniorliving.com/event-calendar/make-a-mess-with-jess-21/
LOCATION:LC Dining Room
CATEGORIES:Legacy Court
END:VEVENT
BEGIN:VEVENT
DTSTART;TZID=America/Chicago:20251003T150000
DTEND;TZID=America/Chicago:20251003T160000
DTSTAMP:20260422T143939
CREATED:20250904T135107Z
LAST-MODIFIED:20251003T150610Z
UID:10001465-1759503600-1759507200@carverridgeseniorliving.com
SUMMARY:Build a Bloody Mary Smile Social
DESCRIPTION:
URL:https://carverridgeseniorliving.com/event-calendar/mocktail-social/
LOCATION:LC Dining Room
CATEGORIES:Legacy Court
END:VEVENT
BEGIN:VEVENT
DTSTART;TZID=America/Chicago:20251004T094500
DTEND;TZID=America/Chicago:20251004T100000
DTSTAMP:20260422T143939
CREATED:20250905T135131Z
LAST-MODIFIED:20251003T150610Z
UID:10001470-1759571100-1759572000@carverridgeseniorliving.com
SUMMARY:News and Views
DESCRIPTION:
URL:https://carverridgeseniorliving.com/event-calendar/news-and-views-42/
CATEGORIES:Legacy Court
END:VEVENT
BEGIN:VEVENT
DTSTART;TZID=America/Chicago:20251004T103000
DTEND;TZID=America/Chicago:20251004T113000
DTSTAMP:20260422T143939
CREATED:20250905T135131Z
LAST-MODIFIED:20251004T150632Z
UID:10001471-1759573800-1759577400@carverridgeseniorliving.com
SUMMARY:Balloonball w/Yvonna
DESCRIPTION:
URL:https://carverridgeseniorliving.com/event-calendar/balloonball-w-yvonna-11/
LOCATION:Piano Lounge
CATEGORIES:Legacy Court
END:VEVENT
BEGIN:VEVENT
DTSTART;TZID=America/Chicago:20251004T133000
DTEND;TZID=America/Chicago:20251004T143000
DTSTAMP:20260422T143939
CREATED:20250905T135131Z
LAST-MODIFIED:20251004T150632Z
UID:10001472-1759584600-1759588200@carverridgeseniorliving.com
SUMMARY:HHAs led Manicures and Hand Massage
DESCRIPTION:
URL:https://carverridgeseniorliving.com/event-calendar/hhas-led-manicures-and-hand-massage-21/
LOCATION:Dining Room
CATEGORIES:Legacy Court
END:VEVENT
BEGIN:VEVENT
DTSTART;TZID=America/Chicago:20251004T150000
DTEND;TZID=America/Chicago:20251004T160000
DTSTAMP:20260422T143939
CREATED:20250905T135131Z
LAST-MODIFIED:20251004T150632Z
UID:10001473-1759590000-1759593600@carverridgeseniorliving.com
SUMMARY:Saturday social time
DESCRIPTION:
URL:https://carverridgeseniorliving.com/event-calendar/saturday-social-time-15/
LOCATION:LC Dining Room
CATEGORIES:Legacy Court
END:VEVENT
BEGIN:VEVENT
DTSTART;TZID=America/Chicago:20251005T094500
DTEND;TZID=America/Chicago:20251005T100000
DTSTAMP:20260422T143939
CREATED:20250906T135108Z
LAST-MODIFIED:20251004T150632Z
UID:10001477-1759657500-1759658400@carverridgeseniorliving.com
SUMMARY:News and Views
DESCRIPTION:
URL:https://carverridgeseniorliving.com/event-calendar/news-and-views-43/
CATEGORIES:Legacy Court
END:VEVENT
BEGIN:VEVENT
DTSTART;TZID=America/Chicago:20251005T100000
DTEND;TZID=America/Chicago:20251005T110000
DTSTAMP:20260422T143939
CREATED:20250906T135108Z
LAST-MODIFIED:20251005T150627Z
UID:10001478-1759658400-1759662000@carverridgeseniorliving.com
SUMMARY:Fun & Fit w/Yvonna
DESCRIPTION:
URL:https://carverridgeseniorliving.com/event-calendar/fun-fit-w-yvonna-22/
LOCATION:Pian
CATEGORIES:Legacy Court
END:VEVENT
BEGIN:VEVENT
DTSTART;TZID=America/Chicago:20251005T133000
DTEND;TZID=America/Chicago:20251005T143000
DTSTAMP:20260422T143939
CREATED:20250906T135108Z
LAST-MODIFIED:20251005T150627Z
UID:10001479-1759671000-1759674600@carverridgeseniorliving.com
SUMMARY:Let's get Crafty!
DESCRIPTION:
URL:https://carverridgeseniorliving.com/event-calendar/lets-get-crafty-2/
LOCATION:LC Dining Room
CATEGORIES:Legacy Court
END:VEVENT
BEGIN:VEVENT
DTSTART;TZID=America/Chicago:20251005T150000
DTEND;TZID=America/Chicago:20251005T160000
DTSTAMP:20260422T143939
CREATED:20250906T135108Z
LAST-MODIFIED:20251005T150627Z
UID:10001480-1759676400-1759680000@carverridgeseniorliving.com
SUMMARY:Sunshine and Smiles Snack Social
DESCRIPTION:
URL:https://carverridgeseniorliving.com/event-calendar/sunshine-and-smiles-snack-social-40/
LOCATION:LC Dining Room
CATEGORIES:Legacy Court
END:VEVENT
BEGIN:VEVENT
DTSTART;TZID=America/Chicago:20251006T103000
DTEND;TZID=America/Chicago:20251006T113000
DTSTAMP:20260422T143939
CREATED:20250907T135106Z
LAST-MODIFIED:20251003T150608Z
UID:10001483-1759746600-1759750200@carverridgeseniorliving.com
SUMMARY:Doubleball
DESCRIPTION:
URL:https://carverridgeseniorliving.com/event-calendar/doubleball/
LOCATION:Piano Lounge
CATEGORIES:Legacy Court
END:VEVENT
BEGIN:VEVENT
DTSTART;TZID=America/Chicago:20251006T103000
DTEND;TZID=America/Chicago:20251006T113000
DTSTAMP:20260422T143939
CREATED:20251004T150631Z
LAST-MODIFIED:20251006T150623Z
UID:10001724-1759746600-1759750200@carverridgeseniorliving.com
SUMMARY:Bean Bag Toss
DESCRIPTION:
URL:https://carverridgeseniorliving.com/event-calendar/bean-bag-toss-21/
CATEGORIES:Legacy Court
END:VEVENT
BEGIN:VEVENT
DTSTART;TZID=America/Chicago:20251006T140000
DTEND;TZID=America/Chicago:20251006T150000
DTSTAMP:20260422T143939
CREATED:20250907T135106Z
LAST-MODIFIED:20251006T150623Z
UID:10001484-1759759200-1759762800@carverridgeseniorliving.com
SUMMARY:Monday Movie Matinee: Night at the Museum-Battle of the Smithsonian
DESCRIPTION:
URL:https://carverridgeseniorliving.com/event-calendar/monday-movie-matinee-20/
LOCATION:Piano Lounge
CATEGORIES:Legacy Court
END:VEVENT
BEGIN:VEVENT
DTSTART;TZID=America/Chicago:20251007T110000
DTEND;TZID=America/Chicago:20251007T120000
DTSTAMP:20260422T143939
CREATED:20250908T133612Z
LAST-MODIFIED:20251007T150608Z
UID:10001493-1759834800-1759838400@carverridgeseniorliving.com
SUMMARY:Worship w/Chaplain Carol in Legacy Court
DESCRIPTION:
URL:https://carverridgeseniorliving.com/event-calendar/worship-w-chaplain-carol-in-legacy-court-5/
LOCATION:Piano Lounge
CATEGORIES:Legacy Court,Senior Living
END:VEVENT
BEGIN:VEVENT
DTSTART;TZID=America/Chicago:20251007T113000
DTEND;TZID=America/Chicago:20251007T123000
DTSTAMP:20260422T143939
CREATED:20250908T140612Z
LAST-MODIFIED:20251007T150608Z
UID:10001495-1759836600-1759840200@carverridgeseniorliving.com
SUMMARY:Chair Yoga
DESCRIPTION:
URL:https://carverridgeseniorliving.com/event-calendar/chair-yoga-26/
CATEGORIES:Legacy Court
END:VEVENT
BEGIN:VEVENT
DTSTART;TZID=America/Chicago:20251007T133000
DTEND;TZID=America/Chicago:20251007T143000
DTSTAMP:20260422T143939
CREATED:20250908T140612Z
LAST-MODIFIED:20251007T150608Z
UID:10001496-1759843800-1759847400@carverridgeseniorliving.com
SUMMARY:BINGO!
DESCRIPTION:
URL:https://carverridgeseniorliving.com/event-calendar/bingo-52/
LOCATION:LC Dining Room
CATEGORIES:Legacy Court
END:VEVENT
BEGIN:VEVENT
DTSTART;TZID=America/Chicago:20251007T150000
DTEND;TZID=America/Chicago:20251007T160000
DTSTAMP:20260422T143939
CREATED:20250908T140612Z
LAST-MODIFIED:20251007T150608Z
UID:10001497-1759849200-1759852800@carverridgeseniorliving.com
SUMMARY:Paper Plate Ghosts Craft
DESCRIPTION:
URL:https://carverridgeseniorliving.com/event-calendar/nacho-average-tuesday-2/
LOCATION:LC Dining Room
CATEGORIES:Legacy Court
END:VEVENT
BEGIN:VEVENT
DTSTART;TZID=America/Chicago:20251008T100000
DTEND;TZID=America/Chicago:20251008T110000
DTSTAMP:20260422T143939
CREATED:20250909T140616Z
LAST-MODIFIED:20251008T150635Z
UID:10001503-1759917600-1759921200@carverridgeseniorliving.com
SUMMARY:Music with Bryant
DESCRIPTION:
URL:https://carverridgeseniorliving.com/event-calendar/music-with-bryant-23/
LOCATION:Piano Lounge
CATEGORIES:Legacy Court
END:VEVENT
BEGIN:VEVENT
DTSTART;TZID=America/Chicago:20251008T110000
DTEND;TZID=America/Chicago:20251008T120000
DTSTAMP:20260422T143939
CREATED:20250909T140616Z
LAST-MODIFIED:20251008T150635Z
UID:10001504-1759921200-1759924800@carverridgeseniorliving.com
SUMMARY:Senior Fitness
DESCRIPTION:
URL:https://carverridgeseniorliving.com/event-calendar/whole-brain-health-exercise-5/
LOCATION:Piano Lounge
CATEGORIES:Legacy Court
END:VEVENT
BEGIN:VEVENT
DTSTART;TZID=America/Chicago:20251008T133000
DTEND;TZID=America/Chicago:20251008T143000
DTSTAMP:20260422T143939
CREATED:20250909T140616Z
LAST-MODIFIED:20251008T150635Z
UID:10001505-1759930200-1759933800@carverridgeseniorliving.com
SUMMARY:Name of the Game
DESCRIPTION:
URL:https://carverridgeseniorliving.com/event-calendar/name-of-the-game-10/
LOCATION:LC Dining Room
CATEGORIES:Legacy Court
END:VEVENT
BEGIN:VEVENT
DTSTART;TZID=America/Chicago:20251008T150000
DTEND;TZID=America/Chicago:20251008T160000
DTSTAMP:20260422T143939
CREATED:20250909T140616Z
LAST-MODIFIED:20251003T150608Z
UID:10001506-1759935600-1759939200@carverridgeseniorliving.com
SUMMARY:Kindness Corner
DESCRIPTION:
URL:https://carverridgeseniorliving.com/event-calendar/kindness-corner-12/
LOCATION:LC Dining Room
CATEGORIES:Legacy Court
END:VEVENT
BEGIN:VEVENT
DTSTART;TZID=America/Chicago:20251008T150000
DTEND;TZID=America/Chicago:20251008T160000
DTSTAMP:20260422T143939
CREATED:20250923T142104Z
LAST-MODIFIED:20251008T150635Z
UID:10001604-1759935600-1759939200@carverridgeseniorliving.com
SUMMARY:October Birthday Party with music by Jenna
DESCRIPTION:
URL:https://carverridgeseniorliving.com/event-calendar/october-birthday-party-with-music-by-jenna/
LOCATION:Bistro
CATEGORIES:Legacy Court,Senior Living
END:VEVENT
BEGIN:VEVENT
DTSTART;TZID=America/Chicago:20251009T103000
DTEND;TZID=America/Chicago:20251009T113000
DTSTAMP:20260422T143939
CREATED:20251004T150632Z
LAST-MODIFIED:20251009T152133Z
UID:10001725-1760005800-1760009400@carverridgeseniorliving.com
SUMMARY:Dance it out Fitness
DESCRIPTION:
URL:https://carverridgeseniorliving.com/event-calendar/dance-it-out-fitness-4/
LOCATION:LC Piano Lounge
CATEGORIES:Legacy Court
END:VEVENT
BEGIN:VEVENT
DTSTART;TZID=America/Chicago:20251009T110000
DTEND;TZID=America/Chicago:20251009T120000
DTSTAMP:20260422T143939
CREATED:20250910T140608Z
LAST-MODIFIED:20251009T152133Z
UID:10001509-1760007600-1760011200@carverridgeseniorliving.com
SUMMARY:Video Trivia
DESCRIPTION:
URL:https://carverridgeseniorliving.com/event-calendar/what-in-the-world-12/
LOCATION:LC Dining Room
CATEGORIES:Legacy Court
END:VEVENT
BEGIN:VEVENT
DTSTART;TZID=America/Chicago:20251009T133000
DTEND;TZID=America/Chicago:20251009T143000
DTSTAMP:20260422T143939
CREATED:20250910T140608Z
LAST-MODIFIED:20251009T152133Z
UID:10001510-1760016600-1760020200@carverridgeseniorliving.com
SUMMARY:Musical Moments: Frank Sinatra
DESCRIPTION:
URL:https://carverridgeseniorliving.com/event-calendar/musical-moments-frank-sinatra-2/
LOCATION:LC Dining Room
CATEGORIES:Legacy Court
END:VEVENT
BEGIN:VEVENT
DTSTART;TZID=America/Chicago:20251009T140000
DTEND;TZID=America/Chicago:20251009T150000
DTSTAMP:20260422T143939
CREATED:20250910T140608Z
LAST-MODIFIED:20251003T150609Z
UID:10001511-1760018400-1760022000@carverridgeseniorliving.com
SUMMARY:Guy time w/Luke
DESCRIPTION:
URL:https://carverridgeseniorliving.com/event-calendar/guy-time-w-luke-9/
LOCATION:Dining Room
CATEGORIES:Legacy Court
END:VEVENT
END:VCALENDAR