BEGIN:VCALENDAR
VERSION:2.0
PRODID:-//Carver Ridge Senior Living - ECPv6.11.2.1//NONSGML v1.0//EN
CALSCALE:GREGORIAN
METHOD:PUBLISH
X-ORIGINAL-URL:https://carverridgeseniorliving.com
X-WR-CALDESC:Events for Carver Ridge Senior Living
REFRESH-INTERVAL;VALUE=DURATION:PT1H
X-Robots-Tag:noindex
X-PUBLISHED-TTL:PT1H
BEGIN:VTIMEZONE
TZID:America/Chicago
BEGIN:DAYLIGHT
TZOFFSETFROM:-0600
TZOFFSETTO:-0500
TZNAME:CDT
DTSTART:20250309T080000
END:DAYLIGHT
BEGIN:STANDARD
TZOFFSETFROM:-0500
TZOFFSETTO:-0600
TZNAME:CST
DTSTART:20251102T070000
END:STANDARD
END:VTIMEZONE
BEGIN:VEVENT
DTSTART;TZID=America/Chicago:20251009T150000
DTEND;TZID=America/Chicago:20251009T160000
DTSTAMP:20260422T191804
CREATED:20250910T140608Z
LAST-MODIFIED:20251009T152133Z
UID:10001512-1760022000-1760025600@carverridgeseniorliving.com
SUMMARY:S'mores\, Music\, and bonfire w/Jenna
DESCRIPTION:
URL:https://carverridgeseniorliving.com/event-calendar/color-me-happy-4/
LOCATION:LC Dining Room
CATEGORIES:Legacy Court
END:VEVENT
BEGIN:VEVENT
DTSTART;TZID=America/Chicago:20251010T110000
DTEND;TZID=America/Chicago:20251010T120000
DTSTAMP:20260422T191804
CREATED:20251004T150632Z
LAST-MODIFIED:20251010T152105Z
UID:10001726-1760094000-1760097600@carverridgeseniorliving.com
SUMMARY:Visit w/Jenny and the Kiddos!
DESCRIPTION:
URL:https://carverridgeseniorliving.com/event-calendar/visit-w-jenny-and-the-kiddos-2/
LOCATION:LC Dining Room
CATEGORIES:Legacy Court
END:VEVENT
BEGIN:VEVENT
DTSTART;TZID=America/Chicago:20251010T133000
DTEND;TZID=America/Chicago:20251010T143000
DTSTAMP:20260422T191804
CREATED:20250911T140609Z
LAST-MODIFIED:20251010T152105Z
UID:10001517-1760103000-1760106600@carverridgeseniorliving.com
SUMMARY:Arboretum Drive
DESCRIPTION:
URL:https://carverridgeseniorliving.com/event-calendar/make-a-mess-with-jess-22/
LOCATION:LC Dining Room
CATEGORIES:Legacy Court
END:VEVENT
BEGIN:VEVENT
DTSTART;TZID=America/Chicago:20251010T150000
DTEND;TZID=America/Chicago:20251010T160000
DTSTAMP:20260422T191804
CREATED:20250911T140609Z
LAST-MODIFIED:20251010T152105Z
UID:10001518-1760108400-1760112000@carverridgeseniorliving.com
SUMMARY:Mocktail Social
DESCRIPTION:
URL:https://carverridgeseniorliving.com/event-calendar/mocktail-social-2/
LOCATION:LC Dining Room
CATEGORIES:Legacy Court
END:VEVENT
BEGIN:VEVENT
DTSTART;TZID=America/Chicago:20251011T094500
DTEND;TZID=America/Chicago:20251011T100000
DTSTAMP:20260422T191804
CREATED:20250912T140609Z
LAST-MODIFIED:20251010T152105Z
UID:10001526-1760175900-1760176800@carverridgeseniorliving.com
SUMMARY:News and Views
DESCRIPTION:
URL:https://carverridgeseniorliving.com/event-calendar/news-and-views-44/
CATEGORIES:Legacy Court
END:VEVENT
BEGIN:VEVENT
DTSTART;TZID=America/Chicago:20251011T100000
DTEND;TZID=America/Chicago:20251011T110000
DTSTAMP:20260422T191804
CREATED:20250912T140610Z
LAST-MODIFIED:20251011T153606Z
UID:10001527-1760176800-1760180400@carverridgeseniorliving.com
SUMMARY:Balloonball w/Amanda
DESCRIPTION:
URL:https://carverridgeseniorliving.com/event-calendar/balloonball-w-amanda-11/
LOCATION:Piano Lounge
CATEGORIES:Legacy Court
END:VEVENT
BEGIN:VEVENT
DTSTART;TZID=America/Chicago:20251011T133000
DTEND;TZID=America/Chicago:20251011T143000
DTSTAMP:20260422T191804
CREATED:20250912T140610Z
LAST-MODIFIED:20251011T153607Z
UID:10001528-1760189400-1760193000@carverridgeseniorliving.com
SUMMARY:HHAs led Manicures and Hand Massage
DESCRIPTION:
URL:https://carverridgeseniorliving.com/event-calendar/hhas-led-manicures-and-hand-massage-22/
LOCATION:Dining Room
CATEGORIES:Legacy Court
END:VEVENT
BEGIN:VEVENT
DTSTART;TZID=America/Chicago:20251011T150000
DTEND;TZID=America/Chicago:20251011T160000
DTSTAMP:20260422T191804
CREATED:20250912T140610Z
LAST-MODIFIED:20251011T153607Z
UID:10001529-1760194800-1760198400@carverridgeseniorliving.com
SUMMARY:Caramel apple social
DESCRIPTION:
URL:https://carverridgeseniorliving.com/event-calendar/saturday-social-time-16/
LOCATION:LC Dining Room
CATEGORIES:Legacy Court
END:VEVENT
BEGIN:VEVENT
DTSTART;TZID=America/Chicago:20251012T094500
DTEND;TZID=America/Chicago:20251012T100000
DTSTAMP:20260422T191804
CREATED:20250913T140802Z
LAST-MODIFIED:20251011T153607Z
UID:10001535-1760262300-1760263200@carverridgeseniorliving.com
SUMMARY:News and Views
DESCRIPTION:
URL:https://carverridgeseniorliving.com/event-calendar/news-and-views-45/
CATEGORIES:Legacy Court
END:VEVENT
BEGIN:VEVENT
DTSTART;TZID=America/Chicago:20251012T100000
DTEND;TZID=America/Chicago:20251012T110000
DTSTAMP:20260422T191804
CREATED:20250913T140802Z
LAST-MODIFIED:20251012T153612Z
UID:10001536-1760263200-1760266800@carverridgeseniorliving.com
SUMMARY:Fun and Fit w/Amanda
DESCRIPTION:
URL:https://carverridgeseniorliving.com/event-calendar/fun-and-fit-w-amanda-22/
CATEGORIES:Legacy Court
END:VEVENT
BEGIN:VEVENT
DTSTART;TZID=America/Chicago:20251012T150000
DTEND;TZID=America/Chicago:20251012T160000
DTSTAMP:20260422T191804
CREATED:20250913T140802Z
LAST-MODIFIED:20251012T153612Z
UID:10001537-1760281200-1760284800@carverridgeseniorliving.com
SUMMARY:Mini Pumpkin decorating!
DESCRIPTION:
URL:https://carverridgeseniorliving.com/event-calendar/sunshine-and-smiles-snack-social-41/
LOCATION:LC Dining Room
CATEGORIES:Legacy Court
END:VEVENT
BEGIN:VEVENT
DTSTART;TZID=America/Chicago:20251013T103000
DTEND;TZID=America/Chicago:20251013T113000
DTSTAMP:20260422T191804
CREATED:20250914T143606Z
LAST-MODIFIED:20251013T153606Z
UID:10001540-1760351400-1760355000@carverridgeseniorliving.com
SUMMARY:Skee Toss
DESCRIPTION:
URL:https://carverridgeseniorliving.com/event-calendar/doubleball-2/
LOCATION:Piano Lounge
CATEGORIES:Legacy Court
END:VEVENT
BEGIN:VEVENT
DTSTART;TZID=America/Chicago:20251013T113000
DTEND;TZID=America/Chicago:20251013T123000
DTSTAMP:20260422T191804
CREATED:20251004T150632Z
LAST-MODIFIED:20251013T153606Z
UID:10001727-1760355000-1760358600@carverridgeseniorliving.com
SUMMARY:Whole Brain Health Fitness
DESCRIPTION:
URL:https://carverridgeseniorliving.com/event-calendar/whole-brain-health-fitness/
CATEGORIES:Legacy Court
END:VEVENT
BEGIN:VEVENT
DTSTART;TZID=America/Chicago:20251013T140000
DTEND;TZID=America/Chicago:20251013T150000
DTSTAMP:20260422T191804
CREATED:20250914T143606Z
LAST-MODIFIED:20251013T153606Z
UID:10001541-1760364000-1760367600@carverridgeseniorliving.com
SUMMARY:Monday Movie Matinee: Hocus Pocus
DESCRIPTION:
URL:https://carverridgeseniorliving.com/event-calendar/monday-movie-matinee-21/
LOCATION:Piano Lounge
CATEGORIES:Legacy Court
END:VEVENT
BEGIN:VEVENT
DTSTART;TZID=America/Chicago:20251014T110000
DTEND;TZID=America/Chicago:20251014T120000
DTSTAMP:20260422T191804
CREATED:20250915T140610Z
LAST-MODIFIED:20251014T155216Z
UID:10001545-1760439600-1760443200@carverridgeseniorliving.com
SUMMARY:Worship w/Chaplain Carol in Legacy Court
DESCRIPTION:
URL:https://carverridgeseniorliving.com/event-calendar/worship-w-chaplain-carol-in-legacy-court-6/
LOCATION:Piano Lounge
CATEGORIES:Legacy Court,Senior Living
END:VEVENT
BEGIN:VEVENT
DTSTART;TZID=America/Chicago:20251014T113000
DTEND;TZID=America/Chicago:20251014T123000
DTSTAMP:20260422T191804
CREATED:20250915T143613Z
LAST-MODIFIED:20251014T155216Z
UID:10001547-1760441400-1760445000@carverridgeseniorliving.com
SUMMARY:Chair Yoga
DESCRIPTION:
URL:https://carverridgeseniorliving.com/event-calendar/chair-yoga-28/
CATEGORIES:Legacy Court
END:VEVENT
BEGIN:VEVENT
DTSTART;TZID=America/Chicago:20251014T133000
DTEND;TZID=America/Chicago:20251014T143000
DTSTAMP:20260422T191804
CREATED:20250915T143613Z
LAST-MODIFIED:20251014T155216Z
UID:10001548-1760448600-1760452200@carverridgeseniorliving.com
SUMMARY:BINGO!
DESCRIPTION:
URL:https://carverridgeseniorliving.com/event-calendar/bingo-54/
LOCATION:LC Dining Room
CATEGORIES:Legacy Court
END:VEVENT
BEGIN:VEVENT
DTSTART;TZID=America/Chicago:20251014T150000
DTEND;TZID=America/Chicago:20251014T160000
DTSTAMP:20260422T191804
CREATED:20250915T143613Z
LAST-MODIFIED:20251014T155216Z
UID:10001549-1760454000-1760457600@carverridgeseniorliving.com
SUMMARY:Dessert Day Social
DESCRIPTION:
URL:https://carverridgeseniorliving.com/event-calendar/nacho-average-tuesday-3/
LOCATION:LC Dining Room
CATEGORIES:Legacy Court
END:VEVENT
BEGIN:VEVENT
DTSTART;TZID=America/Chicago:20251015T100000
DTEND;TZID=America/Chicago:20251015T110000
DTSTAMP:20260422T191804
CREATED:20250916T143627Z
LAST-MODIFIED:20251014T155216Z
UID:10001556-1760522400-1760526000@carverridgeseniorliving.com
SUMMARY:Music with Bryant
DESCRIPTION:
URL:https://carverridgeseniorliving.com/event-calendar/music-with-bryant-24/
LOCATION:Piano Lounge
CATEGORIES:Legacy Court
END:VEVENT
BEGIN:VEVENT
DTSTART;TZID=America/Chicago:20251015T110000
DTEND;TZID=America/Chicago:20251015T120000
DTSTAMP:20260422T191804
CREATED:20250916T143627Z
LAST-MODIFIED:20251015T160611Z
UID:10001557-1760526000-1760529600@carverridgeseniorliving.com
SUMMARY:Senior Fitness
DESCRIPTION:
URL:https://carverridgeseniorliving.com/event-calendar/sunshine-and-smiles-12/
CATEGORIES:Legacy Court
END:VEVENT
BEGIN:VEVENT
DTSTART;TZID=America/Chicago:20251015T133000
DTEND;TZID=America/Chicago:20251015T143000
DTSTAMP:20260422T191804
CREATED:20250916T143628Z
LAST-MODIFIED:20251015T160611Z
UID:10001558-1760535000-1760538600@carverridgeseniorliving.com
SUMMARY:Name of the Game
DESCRIPTION:
URL:https://carverridgeseniorliving.com/event-calendar/lets-give-2/
LOCATION:Dining Room
CATEGORIES:Legacy Court
END:VEVENT
BEGIN:VEVENT
DTSTART;TZID=America/Chicago:20251015T150000
DTEND;TZID=America/Chicago:20251015T160000
DTSTAMP:20260422T191804
CREATED:20250916T143628Z
LAST-MODIFIED:20251015T160611Z
UID:10001559-1760540400-1760544000@carverridgeseniorliving.com
SUMMARY:Kindness Corner
DESCRIPTION:
URL:https://carverridgeseniorliving.com/event-calendar/kindness-corner-13/
LOCATION:LC Dining Room
CATEGORIES:Legacy Court
END:VEVENT
BEGIN:VEVENT
DTSTART;TZID=America/Chicago:20251016T103000
DTEND;TZID=America/Chicago:20251016T113000
DTSTAMP:20260422T191804
CREATED:20251004T150633Z
LAST-MODIFIED:20251016T160628Z
UID:10001728-1760610600-1760614200@carverridgeseniorliving.com
SUMMARY:Dance it out Fitness
DESCRIPTION:
URL:https://carverridgeseniorliving.com/event-calendar/dance-it-out-fitness-5/
CATEGORIES:Legacy Court
END:VEVENT
BEGIN:VEVENT
DTSTART;TZID=America/Chicago:20251016T110000
DTEND;TZID=America/Chicago:20251016T120000
DTSTAMP:20260422T191804
CREATED:20250917T143612Z
LAST-MODIFIED:20251016T160628Z
UID:10001561-1760612400-1760616000@carverridgeseniorliving.com
SUMMARY:Gratitude Attitude Devotions
DESCRIPTION:
URL:https://carverridgeseniorliving.com/event-calendar/crafting-the-news-2/
LOCATION:LC Dining Room
CATEGORIES:Legacy Court
END:VEVENT
BEGIN:VEVENT
DTSTART;TZID=America/Chicago:20251016T133000
DTEND;TZID=America/Chicago:20251016T143000
DTSTAMP:20260422T191804
CREATED:20250917T143612Z
LAST-MODIFIED:20251016T160628Z
UID:10001562-1760621400-1760625000@carverridgeseniorliving.com
SUMMARY:Musical Moments: Simon and Garfunkel
DESCRIPTION:
URL:https://carverridgeseniorliving.com/event-calendar/musical-moments-frank-sinatra-3/
LOCATION:LC Dining Room
CATEGORIES:Legacy Court
END:VEVENT
BEGIN:VEVENT
DTSTART;TZID=America/Chicago:20251016T150000
DTEND;TZID=America/Chicago:20251016T160000
DTSTAMP:20260422T191804
CREATED:20250917T143612Z
LAST-MODIFIED:20251016T160629Z
UID:10001563-1760626800-1760630400@carverridgeseniorliving.com
SUMMARY:Collage Detective
DESCRIPTION:
URL:https://carverridgeseniorliving.com/event-calendar/color-me-happy-5/
LOCATION:LC Dining Room
CATEGORIES:Legacy Court
END:VEVENT
BEGIN:VEVENT
DTSTART;TZID=America/Chicago:20251017T110000
DTEND;TZID=America/Chicago:20251017T120000
DTSTAMP:20260422T191804
CREATED:20250918T143608Z
LAST-MODIFIED:20251003T150610Z
UID:10001567-1760698800-1760702400@carverridgeseniorliving.com
SUMMARY:Visit w/Jenny and Kiddos
DESCRIPTION:
URL:https://carverridgeseniorliving.com/event-calendar/visit-w-jenny-and-kiddos-11/
LOCATION:LC Dining Room
CATEGORIES:Legacy Court
END:VEVENT
BEGIN:VEVENT
DTSTART;TZID=America/Chicago:20251017T133000
DTEND;TZID=America/Chicago:20251017T143000
DTSTAMP:20260422T191804
CREATED:20250918T143608Z
LAST-MODIFIED:20251017T160637Z
UID:10001568-1760707800-1760711400@carverridgeseniorliving.com
SUMMARY:Make a Mess with Jess
DESCRIPTION:
URL:https://carverridgeseniorliving.com/event-calendar/make-a-mess-with-jess-23/
LOCATION:LC Dining Room
CATEGORIES:Legacy Court
END:VEVENT
BEGIN:VEVENT
DTSTART;TZID=America/Chicago:20251017T150000
DTEND;TZID=America/Chicago:20251017T160000
DTSTAMP:20260422T191804
CREATED:20250918T143608Z
LAST-MODIFIED:20251017T160637Z
UID:10001569-1760713200-1760716800@carverridgeseniorliving.com
SUMMARY:Squirrelympics
DESCRIPTION:
URL:https://carverridgeseniorliving.com/event-calendar/mocktail-social-3/
LOCATION:LC Dining Room
CATEGORIES:Legacy Court
END:VEVENT
BEGIN:VEVENT
DTSTART;TZID=America/Chicago:20251017T153000
DTEND;TZID=America/Chicago:20251017T163000
DTSTAMP:20260422T191804
CREATED:20251004T150633Z
LAST-MODIFIED:20251017T160637Z
UID:10001729-1760715000-1760718600@carverridgeseniorliving.com
SUMMARY:Birthday Blessings
DESCRIPTION:
URL:https://carverridgeseniorliving.com/event-calendar/birthday-blessings-2/
LOCATION:LC Dining Room
CATEGORIES:Legacy Court
END:VEVENT
END:VCALENDAR