BEGIN:VCALENDAR
VERSION:2.0
PRODID:-//Carver Ridge Senior Living - ECPv6.11.2.1//NONSGML v1.0//EN
CALSCALE:GREGORIAN
METHOD:PUBLISH
X-ORIGINAL-URL:https://carverridgeseniorliving.com
X-WR-CALDESC:Events for Carver Ridge Senior Living
REFRESH-INTERVAL;VALUE=DURATION:PT1H
X-Robots-Tag:noindex
X-PUBLISHED-TTL:PT1H
BEGIN:VTIMEZONE
TZID:America/Chicago
BEGIN:DAYLIGHT
TZOFFSETFROM:-0600
TZOFFSETTO:-0500
TZNAME:CDT
DTSTART:20250309T080000
END:DAYLIGHT
BEGIN:STANDARD
TZOFFSETFROM:-0500
TZOFFSETTO:-0600
TZNAME:CST
DTSTART:20251102T070000
END:STANDARD
END:VTIMEZONE
BEGIN:VEVENT
DTSTART;TZID=America/Chicago:20251015T133000
DTEND;TZID=America/Chicago:20251015T143000
DTSTAMP:20260422T223412
CREATED:20250916T143628Z
LAST-MODIFIED:20251015T160611Z
UID:10001558-1760535000-1760538600@carverridgeseniorliving.com
SUMMARY:Name of the Game
DESCRIPTION:
URL:https://carverridgeseniorliving.com/event-calendar/lets-give-2/
LOCATION:Dining Room
CATEGORIES:Legacy Court
END:VEVENT
BEGIN:VEVENT
DTSTART;TZID=America/Chicago:20251015T150000
DTEND;TZID=America/Chicago:20251015T160000
DTSTAMP:20260422T223412
CREATED:20250916T143628Z
LAST-MODIFIED:20251015T160611Z
UID:10001559-1760540400-1760544000@carverridgeseniorliving.com
SUMMARY:Kindness Corner
DESCRIPTION:
URL:https://carverridgeseniorliving.com/event-calendar/kindness-corner-13/
LOCATION:LC Dining Room
CATEGORIES:Legacy Court
END:VEVENT
BEGIN:VEVENT
DTSTART;TZID=America/Chicago:20251016T103000
DTEND;TZID=America/Chicago:20251016T113000
DTSTAMP:20260422T223412
CREATED:20251004T150633Z
LAST-MODIFIED:20251016T160628Z
UID:10001728-1760610600-1760614200@carverridgeseniorliving.com
SUMMARY:Dance it out Fitness
DESCRIPTION:
URL:https://carverridgeseniorliving.com/event-calendar/dance-it-out-fitness-5/
CATEGORIES:Legacy Court
END:VEVENT
BEGIN:VEVENT
DTSTART;TZID=America/Chicago:20251016T110000
DTEND;TZID=America/Chicago:20251016T120000
DTSTAMP:20260422T223412
CREATED:20250917T143612Z
LAST-MODIFIED:20251016T160628Z
UID:10001561-1760612400-1760616000@carverridgeseniorliving.com
SUMMARY:Gratitude Attitude Devotions
DESCRIPTION:
URL:https://carverridgeseniorliving.com/event-calendar/crafting-the-news-2/
LOCATION:LC Dining Room
CATEGORIES:Legacy Court
END:VEVENT
BEGIN:VEVENT
DTSTART;TZID=America/Chicago:20251016T133000
DTEND;TZID=America/Chicago:20251016T143000
DTSTAMP:20260422T223412
CREATED:20250917T143612Z
LAST-MODIFIED:20251016T160628Z
UID:10001562-1760621400-1760625000@carverridgeseniorliving.com
SUMMARY:Musical Moments: Simon and Garfunkel
DESCRIPTION:
URL:https://carverridgeseniorliving.com/event-calendar/musical-moments-frank-sinatra-3/
LOCATION:LC Dining Room
CATEGORIES:Legacy Court
END:VEVENT
BEGIN:VEVENT
DTSTART;TZID=America/Chicago:20251016T150000
DTEND;TZID=America/Chicago:20251016T160000
DTSTAMP:20260422T223412
CREATED:20250917T143612Z
LAST-MODIFIED:20251016T160629Z
UID:10001563-1760626800-1760630400@carverridgeseniorliving.com
SUMMARY:Collage Detective
DESCRIPTION:
URL:https://carverridgeseniorliving.com/event-calendar/color-me-happy-5/
LOCATION:LC Dining Room
CATEGORIES:Legacy Court
END:VEVENT
BEGIN:VEVENT
DTSTART;TZID=America/Chicago:20251017T110000
DTEND;TZID=America/Chicago:20251017T120000
DTSTAMP:20260422T223412
CREATED:20250918T143608Z
LAST-MODIFIED:20251003T150610Z
UID:10001567-1760698800-1760702400@carverridgeseniorliving.com
SUMMARY:Visit w/Jenny and Kiddos
DESCRIPTION:
URL:https://carverridgeseniorliving.com/event-calendar/visit-w-jenny-and-kiddos-11/
LOCATION:LC Dining Room
CATEGORIES:Legacy Court
END:VEVENT
BEGIN:VEVENT
DTSTART;TZID=America/Chicago:20251017T133000
DTEND;TZID=America/Chicago:20251017T143000
DTSTAMP:20260422T223412
CREATED:20250918T143608Z
LAST-MODIFIED:20251017T160637Z
UID:10001568-1760707800-1760711400@carverridgeseniorliving.com
SUMMARY:Make a Mess with Jess
DESCRIPTION:
URL:https://carverridgeseniorliving.com/event-calendar/make-a-mess-with-jess-23/
LOCATION:LC Dining Room
CATEGORIES:Legacy Court
END:VEVENT
BEGIN:VEVENT
DTSTART;TZID=America/Chicago:20251017T150000
DTEND;TZID=America/Chicago:20251017T160000
DTSTAMP:20260422T223412
CREATED:20250918T143608Z
LAST-MODIFIED:20251017T160637Z
UID:10001569-1760713200-1760716800@carverridgeseniorliving.com
SUMMARY:Squirrelympics
DESCRIPTION:
URL:https://carverridgeseniorliving.com/event-calendar/mocktail-social-3/
LOCATION:LC Dining Room
CATEGORIES:Legacy Court
END:VEVENT
BEGIN:VEVENT
DTSTART;TZID=America/Chicago:20251017T153000
DTEND;TZID=America/Chicago:20251017T163000
DTSTAMP:20260422T223412
CREATED:20251004T150633Z
LAST-MODIFIED:20251017T160637Z
UID:10001729-1760715000-1760718600@carverridgeseniorliving.com
SUMMARY:Birthday Blessings
DESCRIPTION:
URL:https://carverridgeseniorliving.com/event-calendar/birthday-blessings-2/
LOCATION:LC Dining Room
CATEGORIES:Legacy Court
END:VEVENT
BEGIN:VEVENT
DTSTART;TZID=America/Chicago:20251018T094500
DTEND;TZID=America/Chicago:20251018T100000
DTSTAMP:20260422T223412
CREATED:20250919T143610Z
LAST-MODIFIED:20251017T160637Z
UID:10001574-1760780700-1760781600@carverridgeseniorliving.com
SUMMARY:News and Views
DESCRIPTION:
URL:https://carverridgeseniorliving.com/event-calendar/news-and-views-46/
CATEGORIES:Legacy Court
END:VEVENT
BEGIN:VEVENT
DTSTART;TZID=America/Chicago:20251018T103000
DTEND;TZID=America/Chicago:20251018T113000
DTSTAMP:20260422T223412
CREATED:20250919T143610Z
LAST-MODIFIED:20251018T162107Z
UID:10001575-1760783400-1760787000@carverridgeseniorliving.com
SUMMARY:Balloonball w/Yvonna
DESCRIPTION:
URL:https://carverridgeseniorliving.com/event-calendar/balloonball-w-yvonna-12/
LOCATION:Piano Lounge
CATEGORIES:Legacy Court
END:VEVENT
BEGIN:VEVENT
DTSTART;TZID=America/Chicago:20251018T133000
DTEND;TZID=America/Chicago:20251018T143000
DTSTAMP:20260422T223412
CREATED:20250919T143610Z
LAST-MODIFIED:20251018T162107Z
UID:10001576-1760794200-1760797800@carverridgeseniorliving.com
SUMMARY:HHAs led Manicures and Hand Massage
DESCRIPTION:
URL:https://carverridgeseniorliving.com/event-calendar/hhas-led-manicures-and-hand-massage-23/
LOCATION:Dining Room
CATEGORIES:Legacy Court
END:VEVENT
BEGIN:VEVENT
DTSTART;TZID=America/Chicago:20251018T150000
DTEND;TZID=America/Chicago:20251018T160000
DTSTAMP:20260422T223412
CREATED:20250919T143610Z
LAST-MODIFIED:20251018T162107Z
UID:10001577-1760799600-1760803200@carverridgeseniorliving.com
SUMMARY:Saturday social time
DESCRIPTION:
URL:https://carverridgeseniorliving.com/event-calendar/saturday-social-time-17/
LOCATION:LC Dining Room
CATEGORIES:Legacy Court
END:VEVENT
BEGIN:VEVENT
DTSTART;TZID=America/Chicago:20251019T094500
DTEND;TZID=America/Chicago:20251019T100000
DTSTAMP:20260422T223412
CREATED:20250920T143609Z
LAST-MODIFIED:20251018T162107Z
UID:10001581-1760867100-1760868000@carverridgeseniorliving.com
SUMMARY:News and Views
DESCRIPTION:
URL:https://carverridgeseniorliving.com/event-calendar/news-and-views-47/
CATEGORIES:Legacy Court
END:VEVENT
BEGIN:VEVENT
DTSTART;TZID=America/Chicago:20251019T100000
DTEND;TZID=America/Chicago:20251019T110000
DTSTAMP:20260422T223412
CREATED:20250920T143609Z
LAST-MODIFIED:20251018T162107Z
UID:10001582-1760868000-1760871600@carverridgeseniorliving.com
SUMMARY:Fun & Fit w/Yvonna
DESCRIPTION:
URL:https://carverridgeseniorliving.com/event-calendar/fun-fit-w-yvonna-24/
LOCATION:Pian
CATEGORIES:Legacy Court
END:VEVENT
BEGIN:VEVENT
DTSTART;TZID=America/Chicago:20251019T133000
DTEND;TZID=America/Chicago:20251019T143000
DTSTAMP:20260422T223412
CREATED:20250920T143609Z
LAST-MODIFIED:20251019T162120Z
UID:10001583-1760880600-1760884200@carverridgeseniorliving.com
SUMMARY:Let's get Crafty!
DESCRIPTION:
URL:https://carverridgeseniorliving.com/event-calendar/lets-get-crafty-3/
LOCATION:LC Dining Room
CATEGORIES:Legacy Court
END:VEVENT
BEGIN:VEVENT
DTSTART;TZID=America/Chicago:20251019T150000
DTEND;TZID=America/Chicago:20251019T160000
DTSTAMP:20260422T223412
CREATED:20250920T143609Z
LAST-MODIFIED:20251019T162120Z
UID:10001584-1760886000-1760889600@carverridgeseniorliving.com
SUMMARY:Sunshine and Smiles Snack Social
DESCRIPTION:
URL:https://carverridgeseniorliving.com/event-calendar/sunshine-and-smiles-snack-social-42/
LOCATION:LC Dining Room
CATEGORIES:Legacy Court
END:VEVENT
BEGIN:VEVENT
DTSTART;TZID=America/Chicago:20251020T103000
DTEND;TZID=America/Chicago:20251020T113000
DTSTAMP:20260422T223412
CREATED:20250921T143614Z
LAST-MODIFIED:20251020T162107Z
UID:10001587-1760956200-1760959800@carverridgeseniorliving.com
SUMMARY:Bean Bag Toss
DESCRIPTION:
URL:https://carverridgeseniorliving.com/event-calendar/doubleball-3/
LOCATION:Piano Lounge
CATEGORIES:Legacy Court
END:VEVENT
BEGIN:VEVENT
DTSTART;TZID=America/Chicago:20251020T113000
DTEND;TZID=America/Chicago:20251020T123000
DTSTAMP:20260422T223412
CREATED:20251004T150633Z
LAST-MODIFIED:20251020T162107Z
UID:10001730-1760959800-1760963400@carverridgeseniorliving.com
SUMMARY:Walk it out Fitness
DESCRIPTION:
URL:https://carverridgeseniorliving.com/event-calendar/walk-it-out-fitness/
CATEGORIES:Legacy Court
END:VEVENT
BEGIN:VEVENT
DTSTART;TZID=America/Chicago:20251020T140000
DTEND;TZID=America/Chicago:20251020T150000
DTSTAMP:20260422T223412
CREATED:20250921T143614Z
LAST-MODIFIED:20251020T162107Z
UID:10001588-1760968800-1760972400@carverridgeseniorliving.com
SUMMARY:Monday Movie Matinee: Jumanji
DESCRIPTION:
URL:https://carverridgeseniorliving.com/event-calendar/monday-movie-matinee-22/
LOCATION:Piano Lounge
CATEGORIES:Legacy Court
END:VEVENT
BEGIN:VEVENT
DTSTART;TZID=America/Chicago:20251021T110000
DTEND;TZID=America/Chicago:20251021T120000
DTSTAMP:20260422T223412
CREATED:20250922T142111Z
LAST-MODIFIED:20250922T143607Z
UID:10001592-1761044400-1761048000@carverridgeseniorliving.com
SUMMARY:Worship w/Chaplain Carol in Legacy Court
DESCRIPTION:
URL:https://carverridgeseniorliving.com/event-calendar/worship-w-chaplain-carol-in-legacy-court-7/
LOCATION:Piano Lounge
CATEGORIES:Legacy Court,Senior Living
END:VEVENT
BEGIN:VEVENT
DTSTART;TZID=America/Chicago:20251021T113000
DTEND;TZID=America/Chicago:20251021T123000
DTSTAMP:20260422T223412
CREATED:20250922T143607Z
LAST-MODIFIED:20251021T162106Z
UID:10001595-1761046200-1761049800@carverridgeseniorliving.com
SUMMARY:Chair Yoga
DESCRIPTION:
URL:https://carverridgeseniorliving.com/event-calendar/chair-yoga-30/
CATEGORIES:Legacy Court
END:VEVENT
BEGIN:VEVENT
DTSTART;TZID=America/Chicago:20251021T133000
DTEND;TZID=America/Chicago:20251021T143000
DTSTAMP:20260422T223412
CREATED:20250922T143607Z
LAST-MODIFIED:20251021T162106Z
UID:10001596-1761053400-1761057000@carverridgeseniorliving.com
SUMMARY:BINGO!
DESCRIPTION:
URL:https://carverridgeseniorliving.com/event-calendar/bingo-56/
LOCATION:LC Dining Room
CATEGORIES:Legacy Court
END:VEVENT
BEGIN:VEVENT
DTSTART;TZID=America/Chicago:20251021T150000
DTEND;TZID=America/Chicago:20251021T160000
DTSTAMP:20260422T223412
CREATED:20250922T143607Z
LAST-MODIFIED:20251021T162106Z
UID:10001597-1761058800-1761062400@carverridgeseniorliving.com
SUMMARY:Hot Cocoa Social w/ Spooky Detective conversations
DESCRIPTION:
URL:https://carverridgeseniorliving.com/event-calendar/nacho-average-tuesday-4/
LOCATION:LC Dining Room
CATEGORIES:Legacy Court
END:VEVENT
BEGIN:VEVENT
DTSTART;TZID=America/Chicago:20251022T100000
DTEND;TZID=America/Chicago:20251022T110000
DTSTAMP:20260422T223412
CREATED:20250923T143626Z
LAST-MODIFIED:20251021T162106Z
UID:10001610-1761127200-1761130800@carverridgeseniorliving.com
SUMMARY:Music with Bryant
DESCRIPTION:
URL:https://carverridgeseniorliving.com/event-calendar/music-with-bryant-25/
LOCATION:Piano Lounge
CATEGORIES:Legacy Court
END:VEVENT
BEGIN:VEVENT
DTSTART;TZID=America/Chicago:20251022T110000
DTEND;TZID=America/Chicago:20251022T120000
DTSTAMP:20260422T223412
CREATED:20250923T143626Z
LAST-MODIFIED:20251022T162104Z
UID:10001611-1761130800-1761134400@carverridgeseniorliving.com
SUMMARY:Senior Fitness
DESCRIPTION:
URL:https://carverridgeseniorliving.com/event-calendar/whole-brain-health-exercise-6/
LOCATION:Piano Lounge
CATEGORIES:Legacy Court
END:VEVENT
BEGIN:VEVENT
DTSTART;TZID=America/Chicago:20251022T133000
DTEND;TZID=America/Chicago:20251022T143000
DTSTAMP:20260422T223412
CREATED:20250923T143626Z
LAST-MODIFIED:20251022T162104Z
UID:10001612-1761139800-1761143400@carverridgeseniorliving.com
SUMMARY:Name of the Game
DESCRIPTION:
URL:https://carverridgeseniorliving.com/event-calendar/name-of-the-game-11/
LOCATION:LC Dining Room
CATEGORIES:Legacy Court
END:VEVENT
BEGIN:VEVENT
DTSTART;TZID=America/Chicago:20251022T150000
DTEND;TZID=America/Chicago:20251022T160000
DTSTAMP:20260422T223412
CREATED:20250923T143626Z
LAST-MODIFIED:20251022T162104Z
UID:10001613-1761145200-1761148800@carverridgeseniorliving.com
SUMMARY:Disney Halloween Parade and Fireworks show!
DESCRIPTION:
URL:https://carverridgeseniorliving.com/event-calendar/kindness-corner-14/
LOCATION:LC Dining Room
CATEGORIES:Legacy Court
END:VEVENT
BEGIN:VEVENT
DTSTART;TZID=America/Chicago:20251023T103000
DTEND;TZID=America/Chicago:20251023T113000
DTSTAMP:20260422T223412
CREATED:20250924T143627Z
LAST-MODIFIED:20251023T162203Z
UID:10001617-1761215400-1761219000@carverridgeseniorliving.com
SUMMARY:Drum Circle
DESCRIPTION:
URL:https://carverridgeseniorliving.com/event-calendar/what-in-the-world-13/
LOCATION:LC Dining Room
CATEGORIES:Legacy Court
END:VEVENT
END:VCALENDAR