BEGIN:VCALENDAR
VERSION:2.0
PRODID:-//Carver Ridge Senior Living - ECPv6.11.2.1//NONSGML v1.0//EN
CALSCALE:GREGORIAN
METHOD:PUBLISH
X-ORIGINAL-URL:https://carverridgeseniorliving.com
X-WR-CALDESC:Events for Carver Ridge Senior Living
REFRESH-INTERVAL;VALUE=DURATION:PT1H
X-Robots-Tag:noindex
X-PUBLISHED-TTL:PT1H
BEGIN:VTIMEZONE
TZID:America/Chicago
BEGIN:DAYLIGHT
TZOFFSETFROM:-0600
TZOFFSETTO:-0500
TZNAME:CDT
DTSTART:20250309T080000
END:DAYLIGHT
BEGIN:STANDARD
TZOFFSETFROM:-0500
TZOFFSETTO:-0600
TZNAME:CST
DTSTART:20251102T070000
END:STANDARD
END:VTIMEZONE
BEGIN:VEVENT
DTSTART;TZID=America/Chicago:20251023T110000
DTEND;TZID=America/Chicago:20251023T114500
DTSTAMP:20260423T033503
CREATED:20250924T143627Z
LAST-MODIFIED:20251023T162203Z
UID:10001618-1761217200-1761219900@carverridgeseniorliving.com
SUMMARY:Musical Moments: Carpenters - Live in Australia
DESCRIPTION:
URL:https://carverridgeseniorliving.com/event-calendar/musical-moments-frank-sinatra-4/
LOCATION:LC Dining Room
CATEGORIES:Legacy Court
END:VEVENT
BEGIN:VEVENT
DTSTART;TZID=America/Chicago:20251023T133000
DTEND;TZID=America/Chicago:20251023T143000
DTSTAMP:20260423T033503
CREATED:20251004T150634Z
LAST-MODIFIED:20251023T162203Z
UID:10001731-1761226200-1761229800@carverridgeseniorliving.com
SUMMARY:Gratitude Attitude Devotions
DESCRIPTION:
URL:https://carverridgeseniorliving.com/event-calendar/gratitude-attitude-devotions/
CATEGORIES:Legacy Court
END:VEVENT
BEGIN:VEVENT
DTSTART;TZID=America/Chicago:20251023T140000
DTEND;TZID=America/Chicago:20251023T150000
DTSTAMP:20260423T033503
CREATED:20250924T143627Z
LAST-MODIFIED:20251003T150610Z
UID:10001619-1761228000-1761231600@carverridgeseniorliving.com
SUMMARY:Guy time w/Luke
DESCRIPTION:
URL:https://carverridgeseniorliving.com/event-calendar/guy-time-w-luke-10/
LOCATION:Dining Room
CATEGORIES:Legacy Court
END:VEVENT
BEGIN:VEVENT
DTSTART;TZID=America/Chicago:20251023T150000
DTEND;TZID=America/Chicago:20251023T160000
DTSTAMP:20260423T033503
CREATED:20250924T143627Z
LAST-MODIFIED:20251022T162104Z
UID:10001620-1761231600-1761235200@carverridgeseniorliving.com
SUMMARY:Drum Circle w/Jenna
DESCRIPTION:
URL:https://carverridgeseniorliving.com/event-calendar/color-me-happy-6/
LOCATION:LC Dining Room
CATEGORIES:Legacy Court
END:VEVENT
BEGIN:VEVENT
DTSTART;TZID=America/Chicago:20251024T133000
DTEND;TZID=America/Chicago:20251024T143000
DTSTAMP:20260423T033503
CREATED:20250925T145124Z
LAST-MODIFIED:20251024T162103Z
UID:10001624-1761312600-1761316200@carverridgeseniorliving.com
SUMMARY:Make a Mess with Jess: Candy Corn Button Art
DESCRIPTION:
URL:https://carverridgeseniorliving.com/event-calendar/make-a-mess-with-jess-24/
LOCATION:LC Dining Room
CATEGORIES:Legacy Court
END:VEVENT
BEGIN:VEVENT
DTSTART;TZID=America/Chicago:20251024T150000
DTEND;TZID=America/Chicago:20251024T160000
DTSTAMP:20260423T033503
CREATED:20250925T145125Z
LAST-MODIFIED:20251024T162103Z
UID:10001625-1761318000-1761321600@carverridgeseniorliving.com
SUMMARY:Oktoberfest Party w/Music by Mark
DESCRIPTION:
URL:https://carverridgeseniorliving.com/event-calendar/mocktail-social-4/
LOCATION:Bistro
CATEGORIES:Legacy Court
END:VEVENT
BEGIN:VEVENT
DTSTART;TZID=America/Chicago:20251025T094500
DTEND;TZID=America/Chicago:20251025T100000
DTSTAMP:20260423T033503
CREATED:20250925T145125Z
LAST-MODIFIED:20251024T162103Z
UID:10001626-1761385500-1761386400@carverridgeseniorliving.com
SUMMARY:News and Views
DESCRIPTION:
URL:https://carverridgeseniorliving.com/event-calendar/news-and-views-48/
CATEGORIES:Legacy Court
END:VEVENT
BEGIN:VEVENT
DTSTART;TZID=America/Chicago:20251025T100000
DTEND;TZID=America/Chicago:20251025T110000
DTSTAMP:20260423T033503
CREATED:20250926T145107Z
LAST-MODIFIED:20251024T162103Z
UID:10001631-1761386400-1761390000@carverridgeseniorliving.com
SUMMARY:Balloonball w/Amanda
DESCRIPTION:
URL:https://carverridgeseniorliving.com/event-calendar/balloonball-w-amanda-12/
LOCATION:Piano Lounge
CATEGORIES:Legacy Court
END:VEVENT
BEGIN:VEVENT
DTSTART;TZID=America/Chicago:20251025T133000
DTEND;TZID=America/Chicago:20251025T143000
DTSTAMP:20260423T033503
CREATED:20250926T145107Z
LAST-MODIFIED:20251025T162114Z
UID:10001632-1761399000-1761402600@carverridgeseniorliving.com
SUMMARY:HHAs led Manicures and Hand Massage
DESCRIPTION:
URL:https://carverridgeseniorliving.com/event-calendar/hhas-led-manicures-and-hand-massage-24/
LOCATION:Dining Room
CATEGORIES:Legacy Court
END:VEVENT
BEGIN:VEVENT
DTSTART;TZID=America/Chicago:20251025T150000
DTEND;TZID=America/Chicago:20251025T160000
DTSTAMP:20260423T033503
CREATED:20250926T145107Z
LAST-MODIFIED:20251025T162114Z
UID:10001633-1761404400-1761408000@carverridgeseniorliving.com
SUMMARY:Halloween Costumes A-Z video
DESCRIPTION:
URL:https://carverridgeseniorliving.com/event-calendar/saturday-social-time-18/
LOCATION:LC Dining Room
CATEGORIES:Legacy Court
END:VEVENT
BEGIN:VEVENT
DTSTART;TZID=America/Chicago:20251026T094500
DTEND;TZID=America/Chicago:20251026T100000
DTSTAMP:20260423T033503
CREATED:20250926T145107Z
LAST-MODIFIED:20251025T162114Z
UID:10001634-1761471900-1761472800@carverridgeseniorliving.com
SUMMARY:News and Views
DESCRIPTION:
URL:https://carverridgeseniorliving.com/event-calendar/news-and-views-49/
CATEGORIES:Legacy Court
END:VEVENT
BEGIN:VEVENT
DTSTART;TZID=America/Chicago:20251026T100000
DTEND;TZID=America/Chicago:20251026T110000
DTSTAMP:20260423T033503
CREATED:20250927T145110Z
LAST-MODIFIED:20251025T162114Z
UID:10001640-1761472800-1761476400@carverridgeseniorliving.com
SUMMARY:Fun and Fit w/Amanda
DESCRIPTION:
URL:https://carverridgeseniorliving.com/event-calendar/fun-and-fit-w-amanda-24/
CATEGORIES:Legacy Court
END:VEVENT
BEGIN:VEVENT
DTSTART;TZID=America/Chicago:20251026T150000
DTEND;TZID=America/Chicago:20251026T160000
DTSTAMP:20260423T033503
CREATED:20250927T145110Z
LAST-MODIFIED:20251026T162103Z
UID:10001641-1761490800-1761494400@carverridgeseniorliving.com
SUMMARY:Candy Corn Trail mix up
DESCRIPTION:
URL:https://carverridgeseniorliving.com/event-calendar/sunshine-and-smiles-snack-social-43/
LOCATION:LC Dining Room
CATEGORIES:Legacy Court
END:VEVENT
BEGIN:VEVENT
DTSTART;TZID=America/Chicago:20251027T103000
DTEND;TZID=America/Chicago:20251027T113000
DTSTAMP:20260423T033503
CREATED:20250928T145116Z
LAST-MODIFIED:20251027T162108Z
UID:10001646-1761561000-1761564600@carverridgeseniorliving.com
SUMMARY:Skee Toss
DESCRIPTION:
URL:https://carverridgeseniorliving.com/event-calendar/doubleball-4/
LOCATION:Piano Lounge
CATEGORIES:Legacy Court
END:VEVENT
BEGIN:VEVENT
DTSTART;TZID=America/Chicago:20251027T113000
DTEND;TZID=America/Chicago:20251027T123000
DTSTAMP:20260423T033503
CREATED:20251005T150629Z
LAST-MODIFIED:20251027T162108Z
UID:10001738-1761564600-1761568200@carverridgeseniorliving.com
SUMMARY:Walk it out Fitness
DESCRIPTION:
URL:https://carverridgeseniorliving.com/event-calendar/walk-it-out-fitness-2/
CATEGORIES:Legacy Court
END:VEVENT
BEGIN:VEVENT
DTSTART;TZID=America/Chicago:20251027T140000
DTEND;TZID=America/Chicago:20251027T150000
DTSTAMP:20260423T033503
CREATED:20250928T145116Z
LAST-MODIFIED:20251027T162108Z
UID:10001647-1761573600-1761577200@carverridgeseniorliving.com
SUMMARY:Monday Movie Matinee: The Haunted Mansion
DESCRIPTION:
URL:https://carverridgeseniorliving.com/event-calendar/monday-movie-matinee-23/
LOCATION:Piano Lounge
CATEGORIES:Legacy Court
END:VEVENT
BEGIN:VEVENT
DTSTART;TZID=America/Chicago:20251028T110000
DTEND;TZID=America/Chicago:20251028T113000
DTSTAMP:20260423T033503
CREATED:20251028T162107Z
LAST-MODIFIED:20251028T162108Z
UID:10001923-1761649200-1761651000@carverridgeseniorliving.com
SUMMARY:Worship
DESCRIPTION:
URL:https://carverridgeseniorliving.com/event-calendar/worship/
CATEGORIES:Legacy Court
END:VEVENT
BEGIN:VEVENT
DTSTART;TZID=America/Chicago:20251028T110000
DTEND;TZID=America/Chicago:20251028T120000
DTSTAMP:20260423T033503
CREATED:20250929T142107Z
LAST-MODIFIED:20251027T162108Z
UID:10001651-1761649200-1761652800@carverridgeseniorliving.com
SUMMARY:Worship w/Chaplain Carol in Legacy Court
DESCRIPTION:
URL:https://carverridgeseniorliving.com/event-calendar/worship-w-chaplain-carol-in-legacy-court-8/
LOCATION:Piano Lounge
CATEGORIES:Legacy Court,Senior Living
END:VEVENT
BEGIN:VEVENT
DTSTART;TZID=America/Chicago:20251028T113000
DTEND;TZID=America/Chicago:20251028T123000
DTSTAMP:20260423T033503
CREATED:20250929T145108Z
LAST-MODIFIED:20251028T162108Z
UID:10001653-1761651000-1761654600@carverridgeseniorliving.com
SUMMARY:Stretch it Out Fitness
DESCRIPTION:
URL:https://carverridgeseniorliving.com/event-calendar/chair-yoga-32/
LOCATION:LC Piano Lounge
CATEGORIES:Legacy Court
END:VEVENT
BEGIN:VEVENT
DTSTART;TZID=America/Chicago:20251028T133000
DTEND;TZID=America/Chicago:20251028T143000
DTSTAMP:20260423T033503
CREATED:20250929T145108Z
LAST-MODIFIED:20251028T162108Z
UID:10001654-1761658200-1761661800@carverridgeseniorliving.com
SUMMARY:BINGO!
DESCRIPTION:
URL:https://carverridgeseniorliving.com/event-calendar/bingo-58/
LOCATION:LC Dining Room
CATEGORIES:Legacy Court
END:VEVENT
BEGIN:VEVENT
DTSTART;TZID=America/Chicago:20251028T150000
DTEND;TZID=America/Chicago:20251028T160000
DTSTAMP:20260423T033503
CREATED:20250929T145108Z
LAST-MODIFIED:20251028T162109Z
UID:10001655-1761663600-1761667200@carverridgeseniorliving.com
SUMMARY:Chocolate Day Taste Test
DESCRIPTION:
URL:https://carverridgeseniorliving.com/event-calendar/nacho-average-tuesday-5/
LOCATION:LC Dining Room
CATEGORIES:Legacy Court
END:VEVENT
BEGIN:VEVENT
DTSTART;TZID=America/Chicago:20251029T100000
DTEND;TZID=America/Chicago:20251029T110000
DTSTAMP:20260423T033503
CREATED:20250930T145108Z
LAST-MODIFIED:20251028T162109Z
UID:10001688-1761732000-1761735600@carverridgeseniorliving.com
SUMMARY:Music with Bryant
DESCRIPTION:
URL:https://carverridgeseniorliving.com/event-calendar/music-with-bryant-26/
LOCATION:Piano Lounge
CATEGORIES:Legacy Court
END:VEVENT
BEGIN:VEVENT
DTSTART;TZID=America/Chicago:20251029T110000
DTEND;TZID=America/Chicago:20251029T120000
DTSTAMP:20260423T033503
CREATED:20250930T145108Z
LAST-MODIFIED:20251029T162115Z
UID:10001689-1761735600-1761739200@carverridgeseniorliving.com
SUMMARY:Senior Fitness
DESCRIPTION:
URL:https://carverridgeseniorliving.com/event-calendar/sunshine-and-smiles-13/
CATEGORIES:Legacy Court
END:VEVENT
BEGIN:VEVENT
DTSTART;TZID=America/Chicago:20251029T133000
DTEND;TZID=America/Chicago:20251029T143000
DTSTAMP:20260423T033503
CREATED:20250930T145108Z
LAST-MODIFIED:20251029T162115Z
UID:10001690-1761744600-1761748200@carverridgeseniorliving.com
SUMMARY:Pumpkin Spice and Everything Nice
DESCRIPTION:
URL:https://carverridgeseniorliving.com/event-calendar/lets-give-3/
LOCATION:Dining Room
CATEGORIES:Legacy Court
END:VEVENT
BEGIN:VEVENT
DTSTART;TZID=America/Chicago:20251029T140000
DTEND;TZID=America/Chicago:20251029T150000
DTSTAMP:20260423T033503
CREATED:20250930T145108Z
LAST-MODIFIED:20251029T162115Z
UID:10001691-1761746400-1761750000@carverridgeseniorliving.com
SUMMARY:Pumpkin Patch Virtual Tour
DESCRIPTION:
URL:https://carverridgeseniorliving.com/event-calendar/kindness-corner-15/
LOCATION:LC Dining Room
CATEGORIES:Legacy Court
END:VEVENT
BEGIN:VEVENT
DTSTART;TZID=America/Chicago:20251029T150000
DTEND;TZID=America/Chicago:20251029T160000
DTSTAMP:20260423T033503
CREATED:20250930T142114Z
LAST-MODIFIED:20251029T162115Z
UID:10001687-1761750000-1761753600@carverridgeseniorliving.com
SUMMARY:Music Performance by Allen Carlson
DESCRIPTION:
URL:https://carverridgeseniorliving.com/event-calendar/music-performance-by-allen-carlson/
LOCATION:Bistro
CATEGORIES:Legacy Court,Senior Living
END:VEVENT
BEGIN:VEVENT
DTSTART;TZID=America/Chicago:20251030T103000
DTEND;TZID=America/Chicago:20251030T113000
DTSTAMP:20260423T033503
CREATED:20251005T150630Z
LAST-MODIFIED:20251030T162105Z
UID:10001739-1761820200-1761823800@carverridgeseniorliving.com
SUMMARY:Dance it Out Fitness
DESCRIPTION:
URL:https://carverridgeseniorliving.com/event-calendar/dance-it-out-fitness-6/
LOCATION:LC Piano Lounge
CATEGORIES:Legacy Court
END:VEVENT
BEGIN:VEVENT
DTSTART;TZID=America/Chicago:20251030T110000
DTEND;TZID=America/Chicago:20251030T120000
DTSTAMP:20260423T033503
CREATED:20251001T145118Z
LAST-MODIFIED:20251030T162105Z
UID:10001701-1761822000-1761825600@carverridgeseniorliving.com
SUMMARY:Gratitude Attitude Devotions
DESCRIPTION:
URL:https://carverridgeseniorliving.com/event-calendar/crafting-the-news-3/
LOCATION:LC Dining Room
CATEGORIES:Legacy Court
END:VEVENT
BEGIN:VEVENT
DTSTART;TZID=America/Chicago:20251030T133000
DTEND;TZID=America/Chicago:20251030T143000
DTSTAMP:20260423T033503
CREATED:20251001T145118Z
LAST-MODIFIED:20251030T162105Z
UID:10001702-1761831000-1761834600@carverridgeseniorliving.com
SUMMARY:Musical Moments: WICKED the movie
DESCRIPTION:
URL:https://carverridgeseniorliving.com/event-calendar/musical-moments-frank-sinatra-5/
LOCATION:LC Dining Room
CATEGORIES:Legacy Court
END:VEVENT
BEGIN:VEVENT
DTSTART;TZID=America/Chicago:20251030T150000
DTEND;TZID=America/Chicago:20251030T160000
DTSTAMP:20260423T033503
CREATED:20251001T145118Z
LAST-MODIFIED:20251004T150635Z
UID:10001703-1761836400-1761840000@carverridgeseniorliving.com
SUMMARY:Color Me Happy
DESCRIPTION:
URL:https://carverridgeseniorliving.com/event-calendar/color-me-happy-7/
LOCATION:LC Dining Room
CATEGORIES:Legacy Court
END:VEVENT
END:VCALENDAR