BEGIN:VCALENDAR
VERSION:2.0
PRODID:-//Carver Ridge Senior Living - ECPv6.11.2.1//NONSGML v1.0//EN
CALSCALE:GREGORIAN
METHOD:PUBLISH
X-ORIGINAL-URL:https://carverridgeseniorliving.com
X-WR-CALDESC:Events for Carver Ridge Senior Living
REFRESH-INTERVAL;VALUE=DURATION:PT1H
X-Robots-Tag:noindex
X-PUBLISHED-TTL:PT1H
BEGIN:VTIMEZONE
TZID:America/Chicago
BEGIN:DAYLIGHT
TZOFFSETFROM:-0600
TZOFFSETTO:-0500
TZNAME:CDT
DTSTART:20250309T080000
END:DAYLIGHT
BEGIN:STANDARD
TZOFFSETFROM:-0500
TZOFFSETTO:-0600
TZNAME:CST
DTSTART:20251102T070000
END:STANDARD
END:VTIMEZONE
BEGIN:VEVENT
DTSTART;TZID=America/Chicago:20251104T150000
DTEND;TZID=America/Chicago:20251104T160000
DTSTAMP:20260423T110814
CREATED:20251006T150627Z
LAST-MODIFIED:20251104T162104Z
UID:10001749-1762268400-1762272000@carverridgeseniorliving.com
SUMMARY:Birthday Blessings
DESCRIPTION:
URL:https://carverridgeseniorliving.com/event-calendar/nacho-average-tuesday-6/
LOCATION:LC Dining Room
CATEGORIES:Legacy Court
END:VEVENT
BEGIN:VEVENT
DTSTART;TZID=America/Chicago:20251105T100000
DTEND;TZID=America/Chicago:20251105T110000
DTSTAMP:20260423T110814
CREATED:20251007T150611Z
LAST-MODIFIED:20251105T162103Z
UID:10001755-1762336800-1762340400@carverridgeseniorliving.com
SUMMARY:Music with Bryant
DESCRIPTION:
URL:https://carverridgeseniorliving.com/event-calendar/music-with-bryant-27/
LOCATION:Piano Lounge
CATEGORIES:Legacy Court
END:VEVENT
BEGIN:VEVENT
DTSTART;TZID=America/Chicago:20251105T110000
DTEND;TZID=America/Chicago:20251105T120000
DTSTAMP:20260423T110814
CREATED:20251007T150611Z
LAST-MODIFIED:20251105T162104Z
UID:10001756-1762340400-1762344000@carverridgeseniorliving.com
SUMMARY:Senior Fitness
DESCRIPTION:
URL:https://carverridgeseniorliving.com/event-calendar/whole-brain-health-exercise-7/
LOCATION:Piano Lounge
CATEGORIES:Legacy Court
END:VEVENT
BEGIN:VEVENT
DTSTART;TZID=America/Chicago:20251105T130000
DTEND;TZID=America/Chicago:20251105T140000
DTSTAMP:20260423T110814
CREATED:20251007T142115Z
LAST-MODIFIED:20251105T162104Z
UID:10001753-1762347600-1762351200@carverridgeseniorliving.com
SUMMARY:Memory Cafe
DESCRIPTION:
URL:https://carverridgeseniorliving.com/event-calendar/memory-cafe-3/
LOCATION:LC Dining Room
CATEGORIES:Legacy Court,Senior Living
END:VEVENT
BEGIN:VEVENT
DTSTART;TZID=America/Chicago:20251105T133000
DTEND;TZID=America/Chicago:20251105T143000
DTSTAMP:20260423T110814
CREATED:20251007T150611Z
LAST-MODIFIED:20251105T162104Z
UID:10001757-1762349400-1762353000@carverridgeseniorliving.com
SUMMARY:Competition Corner
DESCRIPTION:
URL:https://carverridgeseniorliving.com/event-calendar/name-of-the-game-12/
LOCATION:LC Piano Lounge
CATEGORIES:Legacy Court
END:VEVENT
BEGIN:VEVENT
DTSTART;TZID=America/Chicago:20251105T150000
DTEND;TZID=America/Chicago:20251105T160000
DTSTAMP:20260423T110814
CREATED:20251007T150611Z
LAST-MODIFIED:20251028T162108Z
UID:10001758-1762354800-1762358400@carverridgeseniorliving.com
SUMMARY:Kindness Corner
DESCRIPTION:
URL:https://carverridgeseniorliving.com/event-calendar/kindness-corner-16/
LOCATION:LC Dining Room
CATEGORIES:Legacy Court
END:VEVENT
BEGIN:VEVENT
DTSTART;TZID=America/Chicago:20251105T150000
DTEND;TZID=America/Chicago:20251105T160000
DTSTAMP:20260423T110814
CREATED:20251023T150614Z
LAST-MODIFIED:20251105T162104Z
UID:10001864-1762354800-1762358400@carverridgeseniorliving.com
SUMMARY:November Birthday Party w/Chuck Theil
DESCRIPTION:
URL:https://carverridgeseniorliving.com/event-calendar/november-birthday-party-w-chuck-theil/
LOCATION:Bistro
CATEGORIES:Legacy Court,Senior Living
END:VEVENT
BEGIN:VEVENT
DTSTART;TZID=America/Chicago:20251106T100000
DTEND;TZID=America/Chicago:20251106T110000
DTSTAMP:20260423T110814
CREATED:20251028T152107Z
LAST-MODIFIED:20251106T162106Z
UID:10001911-1762423200-1762426800@carverridgeseniorliving.com
SUMMARY:Carver PALS visit
DESCRIPTION:
URL:https://carverridgeseniorliving.com/event-calendar/carver-pals-visit-3/
LOCATION:Bistro
CATEGORIES:Legacy Court,Senior Living
END:VEVENT
BEGIN:VEVENT
DTSTART;TZID=America/Chicago:20251106T110000
DTEND;TZID=America/Chicago:20251106T120000
DTSTAMP:20260423T110814
CREATED:20251008T150638Z
LAST-MODIFIED:20251106T162107Z
UID:10001761-1762426800-1762430400@carverridgeseniorliving.com
SUMMARY:Dance it Out Fitness
DESCRIPTION:
URL:https://carverridgeseniorliving.com/event-calendar/what-in-the-world-14/
LOCATION:LC Dining Room
CATEGORIES:Legacy Court
END:VEVENT
BEGIN:VEVENT
DTSTART;TZID=America/Chicago:20251106T133000
DTEND;TZID=America/Chicago:20251106T143000
DTSTAMP:20260423T110814
CREATED:20251008T150638Z
LAST-MODIFIED:20251106T162107Z
UID:10001762-1762435800-1762439400@carverridgeseniorliving.com
SUMMARY:Musical Moments: Disney in Concert-the Lion King
DESCRIPTION:
URL:https://carverridgeseniorliving.com/event-calendar/musical-moments-frank-sinatra-6/
LOCATION:LC Dining Room
CATEGORIES:Legacy Court
END:VEVENT
BEGIN:VEVENT
DTSTART;TZID=America/Chicago:20251106T150000
DTEND;TZID=America/Chicago:20251106T160000
DTSTAMP:20260423T110814
CREATED:20251008T150638Z
LAST-MODIFIED:20251106T162107Z
UID:10001763-1762441200-1762444800@carverridgeseniorliving.com
SUMMARY:Nacho Average Thursday Social
DESCRIPTION:
URL:https://carverridgeseniorliving.com/event-calendar/color-me-happy-8/
LOCATION:LC Dining Room
CATEGORIES:Legacy Court
END:VEVENT
BEGIN:VEVENT
DTSTART;TZID=America/Chicago:20251107T103000
DTEND;TZID=America/Chicago:20251107T113000
DTSTAMP:20260423T110814
CREATED:20251009T152138Z
LAST-MODIFIED:20251028T162109Z
UID:10001768-1762511400-1762515000@carverridgeseniorliving.com
SUMMARY:Music w/Melissa
DESCRIPTION:
URL:https://carverridgeseniorliving.com/event-calendar/music-w-melissa-6/
LOCATION:Piano Lounge
CATEGORIES:Legacy Court
END:VEVENT
BEGIN:VEVENT
DTSTART;TZID=America/Chicago:20251107T133000
DTEND;TZID=America/Chicago:20251107T143000
DTSTAMP:20260423T110814
CREATED:20251009T152138Z
LAST-MODIFIED:20251107T162104Z
UID:10001769-1762522200-1762525800@carverridgeseniorliving.com
SUMMARY:Make a Mess with Jess
DESCRIPTION:
URL:https://carverridgeseniorliving.com/event-calendar/make-a-mess-with-jess-26/
LOCATION:LC Dining Room
CATEGORIES:Legacy Court
END:VEVENT
BEGIN:VEVENT
DTSTART;TZID=America/Chicago:20251107T150000
DTEND;TZID=America/Chicago:20251107T160000
DTSTAMP:20260423T110814
CREATED:20251009T152138Z
LAST-MODIFIED:20251107T162104Z
UID:10001770-1762527600-1762531200@carverridgeseniorliving.com
SUMMARY:Kindness Corner
DESCRIPTION:
URL:https://carverridgeseniorliving.com/event-calendar/mocktail-social-6/
LOCATION:LC Dining Room
CATEGORIES:Legacy Court
END:VEVENT
BEGIN:VEVENT
DTSTART;TZID=America/Chicago:20251108T093000
DTEND;TZID=America/Chicago:20251108T094500
DTSTAMP:20260423T110814
CREATED:20251010T152108Z
LAST-MODIFIED:20251107T162104Z
UID:10001776-1762594200-1762595100@carverridgeseniorliving.com
SUMMARY:News and Views
DESCRIPTION:
URL:https://carverridgeseniorliving.com/event-calendar/news-and-views-52/
CATEGORIES:Legacy Court
END:VEVENT
BEGIN:VEVENT
DTSTART;TZID=America/Chicago:20251108T100000
DTEND;TZID=America/Chicago:20251108T110000
DTSTAMP:20260423T110814
CREATED:20251010T152108Z
LAST-MODIFIED:20251108T162105Z
UID:10001777-1762596000-1762599600@carverridgeseniorliving.com
SUMMARY:Balloonball w/Amanda
DESCRIPTION:
URL:https://carverridgeseniorliving.com/event-calendar/balloonball-w-amanda-13/
LOCATION:Piano Lounge
CATEGORIES:Legacy Court
END:VEVENT
BEGIN:VEVENT
DTSTART;TZID=America/Chicago:20251108T133000
DTEND;TZID=America/Chicago:20251108T143000
DTSTAMP:20260423T110814
CREATED:20251010T152108Z
LAST-MODIFIED:20251108T162105Z
UID:10001778-1762608600-1762612200@carverridgeseniorliving.com
SUMMARY:HHAs led Manicures and Hand Massage
DESCRIPTION:
URL:https://carverridgeseniorliving.com/event-calendar/hhas-led-manicures-and-hand-massage-26/
LOCATION:Dining Room
CATEGORIES:Legacy Court
END:VEVENT
BEGIN:VEVENT
DTSTART;TZID=America/Chicago:20251108T150000
DTEND;TZID=America/Chicago:20251108T160000
DTSTAMP:20260423T110814
CREATED:20251010T152108Z
LAST-MODIFIED:20251108T162106Z
UID:10001779-1762614000-1762617600@carverridgeseniorliving.com
SUMMARY:Saturday social time
DESCRIPTION:
URL:https://carverridgeseniorliving.com/event-calendar/saturday-social-time-20/
LOCATION:LC Dining Room
CATEGORIES:Legacy Court
END:VEVENT
BEGIN:VEVENT
DTSTART;TZID=America/Chicago:20251109T093000
DTEND;TZID=America/Chicago:20251109T094500
DTSTAMP:20260423T110814
CREATED:20251011T153608Z
LAST-MODIFIED:20251108T162106Z
UID:10001786-1762680600-1762681500@carverridgeseniorliving.com
SUMMARY:News and Views
DESCRIPTION:
URL:https://carverridgeseniorliving.com/event-calendar/news-and-views-53/
CATEGORIES:Legacy Court
END:VEVENT
BEGIN:VEVENT
DTSTART;TZID=America/Chicago:20251109T100000
DTEND;TZID=America/Chicago:20251109T110000
DTSTAMP:20260423T110814
CREATED:20251011T153608Z
LAST-MODIFIED:20251109T162105Z
UID:10001787-1762682400-1762686000@carverridgeseniorliving.com
SUMMARY:Bean Bag Toss w/Amanda
DESCRIPTION:
URL:https://carverridgeseniorliving.com/event-calendar/fun-and-fit-w-amanda-26/
CATEGORIES:Legacy Court
END:VEVENT
BEGIN:VEVENT
DTSTART;TZID=America/Chicago:20251109T150000
DTEND;TZID=America/Chicago:20251109T160000
DTSTAMP:20260423T110814
CREATED:20251011T153608Z
LAST-MODIFIED:20251028T162109Z
UID:10001788-1762700400-1762704000@carverridgeseniorliving.com
SUMMARY:Sunshine and Smiles Snack Social
DESCRIPTION:
URL:https://carverridgeseniorliving.com/event-calendar/sunshine-and-smiles-snack-social-45/
LOCATION:LC Dining Room
CATEGORIES:Legacy Court
END:VEVENT
BEGIN:VEVENT
DTSTART;TZID=America/Chicago:20251109T150000
DTEND;TZID=America/Chicago:20251109T160000
DTSTAMP:20260423T110814
CREATED:20251031T162103Z
LAST-MODIFIED:20251109T162105Z
UID:10001963-1762700400-1762704000@carverridgeseniorliving.com
SUMMARY:Sunshine and Smiles social time
DESCRIPTION:
URL:https://carverridgeseniorliving.com/event-calendar/sunshine-and-smiles-social-time/
LOCATION:LC Dining Room
CATEGORIES:Legacy Court
END:VEVENT
BEGIN:VEVENT
DTSTART;TZID=America/Chicago:20251110T103000
DTEND;TZID=America/Chicago:20251110T113000
DTSTAMP:20260423T110814
CREATED:20251012T153615Z
LAST-MODIFIED:20251110T162104Z
UID:10001791-1762770600-1762774200@carverridgeseniorliving.com
SUMMARY:Walk it Out Fitness
DESCRIPTION:
URL:https://carverridgeseniorliving.com/event-calendar/doubleball-6/
LOCATION:Piano Lounge
CATEGORIES:Legacy Court
END:VEVENT
BEGIN:VEVENT
DTSTART;TZID=America/Chicago:20251110T113000
DTEND;TZID=America/Chicago:20251110T123000
DTSTAMP:20260423T110814
CREATED:20251029T162114Z
LAST-MODIFIED:20251110T162105Z
UID:10001937-1762774200-1762777800@carverridgeseniorliving.com
SUMMARY:Gratitude Attitude Devotions
DESCRIPTION:
URL:https://carverridgeseniorliving.com/event-calendar/gratitude-attitude-devotions-4/
LOCATION:LC Dining Room
CATEGORIES:Legacy Court
END:VEVENT
BEGIN:VEVENT
DTSTART;TZID=America/Chicago:20251110T140000
DTEND;TZID=America/Chicago:20251110T150000
DTSTAMP:20260423T110814
CREATED:20251012T153615Z
LAST-MODIFIED:20251110T162105Z
UID:10001792-1762783200-1762786800@carverridgeseniorliving.com
SUMMARY:Monday Movie Matinee
DESCRIPTION:
URL:https://carverridgeseniorliving.com/event-calendar/monday-movie-matinee-25/
LOCATION:Piano Lounge
CATEGORIES:Legacy Court
END:VEVENT
BEGIN:VEVENT
DTSTART;TZID=America/Chicago:20251111T110000
DTEND;TZID=America/Chicago:20251111T120000
DTSTAMP:20260423T110814
CREATED:20251013T143829Z
LAST-MODIFIED:20251027T162108Z
UID:10001795-1762858800-1762862400@carverridgeseniorliving.com
SUMMARY:Worship w/Chaplain Carol in Legacy Court
DESCRIPTION:
URL:https://carverridgeseniorliving.com/event-calendar/worship-w-chaplain-carol-in-legacy-court-10/
LOCATION:Piano Lounge
CATEGORIES:Legacy Court,Senior Living
END:VEVENT
BEGIN:VEVENT
DTSTART;TZID=America/Chicago:20251111T110000
DTEND;TZID=America/Chicago:20251111T120000
DTSTAMP:20260423T110814
CREATED:20251029T162114Z
LAST-MODIFIED:20251111T162107Z
UID:10001938-1762858800-1762862400@carverridgeseniorliving.com
SUMMARY:Worship w/Chaplain Carol
DESCRIPTION:
URL:https://carverridgeseniorliving.com/event-calendar/worship-w-chaplain-carol-2/
LOCATION:LC Piano Lounge
CATEGORIES:Legacy Court
END:VEVENT
BEGIN:VEVENT
DTSTART;TZID=America/Chicago:20251111T113000
DTEND;TZID=America/Chicago:20251111T123000
DTSTAMP:20260423T110814
CREATED:20251013T153807Z
LAST-MODIFIED:20251111T162107Z
UID:10001798-1762860600-1762864200@carverridgeseniorliving.com
SUMMARY:Chair Yoga
DESCRIPTION:
URL:https://carverridgeseniorliving.com/event-calendar/chair-yoga-36/
CATEGORIES:Legacy Court
END:VEVENT
BEGIN:VEVENT
DTSTART;TZID=America/Chicago:20251111T133000
DTEND;TZID=America/Chicago:20251111T143000
DTSTAMP:20260423T110814
CREATED:20251013T153807Z
LAST-MODIFIED:20251111T162107Z
UID:10001799-1762867800-1762871400@carverridgeseniorliving.com
SUMMARY:BINGO!
DESCRIPTION:
URL:https://carverridgeseniorliving.com/event-calendar/bingo-63/
LOCATION:LC Dining Room
CATEGORIES:Legacy Court
END:VEVENT
BEGIN:VEVENT
DTSTART;TZID=America/Chicago:20251111T150000
DTEND;TZID=America/Chicago:20251111T160000
DTSTAMP:20260423T110814
CREATED:20251013T153807Z
LAST-MODIFIED:20251111T162107Z
UID:10001800-1762873200-1762876800@carverridgeseniorliving.com
SUMMARY:Veteran's Appreciation Program
DESCRIPTION:
URL:https://carverridgeseniorliving.com/event-calendar/nacho-average-tuesday-7/
LOCATION:LC Dining Room
CATEGORIES:Legacy Court
END:VEVENT
END:VCALENDAR