BEGIN:VCALENDAR
VERSION:2.0
PRODID:-//Carver Ridge Senior Living - ECPv6.11.2.1//NONSGML v1.0//EN
CALSCALE:GREGORIAN
METHOD:PUBLISH
X-ORIGINAL-URL:https://carverridgeseniorliving.com
X-WR-CALDESC:Events for Carver Ridge Senior Living
REFRESH-INTERVAL;VALUE=DURATION:PT1H
X-Robots-Tag:noindex
X-PUBLISHED-TTL:PT1H
BEGIN:VTIMEZONE
TZID:America/Chicago
BEGIN:DAYLIGHT
TZOFFSETFROM:-0600
TZOFFSETTO:-0500
TZNAME:CDT
DTSTART:20250309T080000
END:DAYLIGHT
BEGIN:STANDARD
TZOFFSETFROM:-0500
TZOFFSETTO:-0600
TZNAME:CST
DTSTART:20251102T070000
END:STANDARD
END:VTIMEZONE
BEGIN:VEVENT
DTSTART;TZID=America/Chicago:20251109T150000
DTEND;TZID=America/Chicago:20251109T160000
DTSTAMP:20260423T141105
CREATED:20251011T153608Z
LAST-MODIFIED:20251028T162109Z
UID:10001788-1762700400-1762704000@carverridgeseniorliving.com
SUMMARY:Sunshine and Smiles Snack Social
DESCRIPTION:
URL:https://carverridgeseniorliving.com/event-calendar/sunshine-and-smiles-snack-social-45/
LOCATION:LC Dining Room
CATEGORIES:Legacy Court
END:VEVENT
BEGIN:VEVENT
DTSTART;TZID=America/Chicago:20251109T150000
DTEND;TZID=America/Chicago:20251109T160000
DTSTAMP:20260423T141105
CREATED:20251031T162103Z
LAST-MODIFIED:20251109T162105Z
UID:10001963-1762700400-1762704000@carverridgeseniorliving.com
SUMMARY:Sunshine and Smiles social time
DESCRIPTION:
URL:https://carverridgeseniorliving.com/event-calendar/sunshine-and-smiles-social-time/
LOCATION:LC Dining Room
CATEGORIES:Legacy Court
END:VEVENT
BEGIN:VEVENT
DTSTART;TZID=America/Chicago:20251110T103000
DTEND;TZID=America/Chicago:20251110T113000
DTSTAMP:20260423T141105
CREATED:20251012T153615Z
LAST-MODIFIED:20251110T162104Z
UID:10001791-1762770600-1762774200@carverridgeseniorliving.com
SUMMARY:Walk it Out Fitness
DESCRIPTION:
URL:https://carverridgeseniorliving.com/event-calendar/doubleball-6/
LOCATION:Piano Lounge
CATEGORIES:Legacy Court
END:VEVENT
BEGIN:VEVENT
DTSTART;TZID=America/Chicago:20251110T113000
DTEND;TZID=America/Chicago:20251110T123000
DTSTAMP:20260423T141105
CREATED:20251029T162114Z
LAST-MODIFIED:20251110T162105Z
UID:10001937-1762774200-1762777800@carverridgeseniorliving.com
SUMMARY:Gratitude Attitude Devotions
DESCRIPTION:
URL:https://carverridgeseniorliving.com/event-calendar/gratitude-attitude-devotions-4/
LOCATION:LC Dining Room
CATEGORIES:Legacy Court
END:VEVENT
BEGIN:VEVENT
DTSTART;TZID=America/Chicago:20251110T140000
DTEND;TZID=America/Chicago:20251110T150000
DTSTAMP:20260423T141105
CREATED:20251012T153615Z
LAST-MODIFIED:20251110T162105Z
UID:10001792-1762783200-1762786800@carverridgeseniorliving.com
SUMMARY:Monday Movie Matinee
DESCRIPTION:
URL:https://carverridgeseniorliving.com/event-calendar/monday-movie-matinee-25/
LOCATION:Piano Lounge
CATEGORIES:Legacy Court
END:VEVENT
BEGIN:VEVENT
DTSTART;TZID=America/Chicago:20251111T110000
DTEND;TZID=America/Chicago:20251111T120000
DTSTAMP:20260423T141105
CREATED:20251013T143829Z
LAST-MODIFIED:20251027T162108Z
UID:10001795-1762858800-1762862400@carverridgeseniorliving.com
SUMMARY:Worship w/Chaplain Carol in Legacy Court
DESCRIPTION:
URL:https://carverridgeseniorliving.com/event-calendar/worship-w-chaplain-carol-in-legacy-court-10/
LOCATION:Piano Lounge
CATEGORIES:Legacy Court,Senior Living
END:VEVENT
BEGIN:VEVENT
DTSTART;TZID=America/Chicago:20251111T110000
DTEND;TZID=America/Chicago:20251111T120000
DTSTAMP:20260423T141105
CREATED:20251029T162114Z
LAST-MODIFIED:20251111T162107Z
UID:10001938-1762858800-1762862400@carverridgeseniorliving.com
SUMMARY:Worship w/Chaplain Carol
DESCRIPTION:
URL:https://carverridgeseniorliving.com/event-calendar/worship-w-chaplain-carol-2/
LOCATION:LC Piano Lounge
CATEGORIES:Legacy Court
END:VEVENT
BEGIN:VEVENT
DTSTART;TZID=America/Chicago:20251111T113000
DTEND;TZID=America/Chicago:20251111T123000
DTSTAMP:20260423T141105
CREATED:20251013T153807Z
LAST-MODIFIED:20251111T162107Z
UID:10001798-1762860600-1762864200@carverridgeseniorliving.com
SUMMARY:Chair Yoga
DESCRIPTION:
URL:https://carverridgeseniorliving.com/event-calendar/chair-yoga-36/
CATEGORIES:Legacy Court
END:VEVENT
BEGIN:VEVENT
DTSTART;TZID=America/Chicago:20251111T133000
DTEND;TZID=America/Chicago:20251111T143000
DTSTAMP:20260423T141105
CREATED:20251013T153807Z
LAST-MODIFIED:20251111T162107Z
UID:10001799-1762867800-1762871400@carverridgeseniorliving.com
SUMMARY:BINGO!
DESCRIPTION:
URL:https://carverridgeseniorliving.com/event-calendar/bingo-63/
LOCATION:LC Dining Room
CATEGORIES:Legacy Court
END:VEVENT
BEGIN:VEVENT
DTSTART;TZID=America/Chicago:20251111T150000
DTEND;TZID=America/Chicago:20251111T160000
DTSTAMP:20260423T141105
CREATED:20251013T153807Z
LAST-MODIFIED:20251111T162107Z
UID:10001800-1762873200-1762876800@carverridgeseniorliving.com
SUMMARY:Veteran's Appreciation Program
DESCRIPTION:
URL:https://carverridgeseniorliving.com/event-calendar/nacho-average-tuesday-7/
LOCATION:LC Dining Room
CATEGORIES:Legacy Court
END:VEVENT
BEGIN:VEVENT
DTSTART;TZID=America/Chicago:20251112T100000
DTEND;TZID=America/Chicago:20251112T110000
DTSTAMP:20260423T141105
CREATED:20251014T155415Z
LAST-MODIFIED:20251112T162232Z
UID:10001805-1762941600-1762945200@carverridgeseniorliving.com
SUMMARY:Music with Bryant
DESCRIPTION:
URL:https://carverridgeseniorliving.com/event-calendar/music-with-bryant-28/
LOCATION:Piano Lounge
CATEGORIES:Legacy Court
END:VEVENT
BEGIN:VEVENT
DTSTART;TZID=America/Chicago:20251112T110000
DTEND;TZID=America/Chicago:20251112T120000
DTSTAMP:20260423T141105
CREATED:20251014T155415Z
LAST-MODIFIED:20251112T162233Z
UID:10001806-1762945200-1762948800@carverridgeseniorliving.com
SUMMARY:Senior Fitness
DESCRIPTION:
URL:https://carverridgeseniorliving.com/event-calendar/senior-fitness/
CATEGORIES:Legacy Court
END:VEVENT
BEGIN:VEVENT
DTSTART;TZID=America/Chicago:20251112T133000
DTEND;TZID=America/Chicago:20251112T143000
DTSTAMP:20260423T141105
CREATED:20251014T155415Z
LAST-MODIFIED:20251028T162110Z
UID:10001807-1762954200-1762957800@carverridgeseniorliving.com
SUMMARY:Let's Give!
DESCRIPTION:
URL:https://carverridgeseniorliving.com/event-calendar/lets-give-4/
LOCATION:Dining Room
CATEGORIES:Legacy Court
END:VEVENT
BEGIN:VEVENT
DTSTART;TZID=America/Chicago:20251112T133000
DTEND;TZID=America/Chicago:20251112T143000
DTSTAMP:20260423T141105
CREATED:20251029T162114Z
LAST-MODIFIED:20251112T162233Z
UID:10001939-1762954200-1762957800@carverridgeseniorliving.com
SUMMARY:Competition Corner
DESCRIPTION:
URL:https://carverridgeseniorliving.com/event-calendar/competition-corner/
LOCATION:LC Piano Lounge
CATEGORIES:Legacy Court
END:VEVENT
BEGIN:VEVENT
DTSTART;TZID=America/Chicago:20251112T150000
DTEND;TZID=America/Chicago:20251112T160000
DTSTAMP:20260423T141105
CREATED:20251014T155415Z
LAST-MODIFIED:20251112T162233Z
UID:10001808-1762959600-1762963200@carverridgeseniorliving.com
SUMMARY:Drum Circle w/Jenna
DESCRIPTION:
URL:https://carverridgeseniorliving.com/event-calendar/kindness-corner-17/
LOCATION:LC Dining Room
CATEGORIES:Legacy Court
END:VEVENT
BEGIN:VEVENT
DTSTART;TZID=America/Chicago:20251113T103000
DTEND;TZID=America/Chicago:20251113T113000
DTSTAMP:20260423T141105
CREATED:20251015T160614Z
LAST-MODIFIED:20251113T163611Z
UID:10001811-1763029800-1763033400@carverridgeseniorliving.com
SUMMARY:Kindness Counts!
DESCRIPTION:
URL:https://carverridgeseniorliving.com/event-calendar/gratitude-attitude-devotions-2/
LOCATION:LC Dining Room
CATEGORIES:Legacy Court
END:VEVENT
BEGIN:VEVENT
DTSTART;TZID=America/Chicago:20251113T113000
DTEND;TZID=America/Chicago:20251113T123000
DTSTAMP:20260423T141105
CREATED:20251029T162114Z
LAST-MODIFIED:20251113T163611Z
UID:10001940-1763033400-1763037000@carverridgeseniorliving.com
SUMMARY:Dance it out Fitness
DESCRIPTION:
URL:https://carverridgeseniorliving.com/event-calendar/dance-it-out-fitness-7/
LOCATION:LC Piano Lounge
CATEGORIES:Legacy Court
END:VEVENT
BEGIN:VEVENT
DTSTART;TZID=America/Chicago:20251113T133000
DTEND;TZID=America/Chicago:20251113T143000
DTSTAMP:20260423T141105
CREATED:20251015T160614Z
LAST-MODIFIED:20251113T163611Z
UID:10001812-1763040600-1763044200@carverridgeseniorliving.com
SUMMARY:Musical Moments: Dean Martin Top 20 funniest duets
DESCRIPTION:
URL:https://carverridgeseniorliving.com/event-calendar/musical-moments-frank-sinatra-7/
LOCATION:LC Dining Room
CATEGORIES:Legacy Court
END:VEVENT
BEGIN:VEVENT
DTSTART;TZID=America/Chicago:20251113T150000
DTEND;TZID=America/Chicago:20251113T160000
DTSTAMP:20260423T141105
CREATED:20251015T160614Z
LAST-MODIFIED:20251113T163611Z
UID:10001813-1763046000-1763049600@carverridgeseniorliving.com
SUMMARY:Kindness Corner and Coloring Social
DESCRIPTION:
URL:https://carverridgeseniorliving.com/event-calendar/color-me-happy-9/
LOCATION:LC Dining Room
CATEGORIES:Legacy Court
END:VEVENT
BEGIN:VEVENT
DTSTART;TZID=America/Chicago:20251114T133000
DTEND;TZID=America/Chicago:20251114T143000
DTSTAMP:20260423T141105
CREATED:20251016T160630Z
LAST-MODIFIED:20251114T163604Z
UID:10001818-1763127000-1763130600@carverridgeseniorliving.com
SUMMARY:Make a Mess with Jess
DESCRIPTION:
URL:https://carverridgeseniorliving.com/event-calendar/make-a-mess-with-jess-27/
LOCATION:LC Dining Room
CATEGORIES:Legacy Court
END:VEVENT
BEGIN:VEVENT
DTSTART;TZID=America/Chicago:20251114T150000
DTEND;TZID=America/Chicago:20251114T160000
DTSTAMP:20260423T141105
CREATED:20251016T160630Z
LAST-MODIFIED:20251114T163604Z
UID:10001819-1763132400-1763136000@carverridgeseniorliving.com
SUMMARY:Music Performance by John Beck
DESCRIPTION:
URL:https://carverridgeseniorliving.com/event-calendar/mocktail-social-7/
LOCATION:Bistro
CATEGORIES:Legacy Court
END:VEVENT
BEGIN:VEVENT
DTSTART;TZID=America/Chicago:20251115T093000
DTEND;TZID=America/Chicago:20251115T100000
DTSTAMP:20260423T141105
CREATED:20251016T160630Z
LAST-MODIFIED:20251114T163604Z
UID:10001820-1763199000-1763200800@carverridgeseniorliving.com
SUMMARY:News and Views
DESCRIPTION:
URL:https://carverridgeseniorliving.com/event-calendar/news-and-views-54/
CATEGORIES:Legacy Court
END:VEVENT
BEGIN:VEVENT
DTSTART;TZID=America/Chicago:20251115T100000
DTEND;TZID=America/Chicago:20251115T110000
DTSTAMP:20260423T141105
CREATED:20251017T160640Z
LAST-MODIFIED:20251115T163603Z
UID:10001825-1763200800-1763204400@carverridgeseniorliving.com
SUMMARY:Balloonball w/Yvonna
DESCRIPTION:
URL:https://carverridgeseniorliving.com/event-calendar/balloonball-w-yvonna-14/
LOCATION:Piano Lounge
CATEGORIES:Legacy Court
END:VEVENT
BEGIN:VEVENT
DTSTART;TZID=America/Chicago:20251115T110000
DTEND;TZID=America/Chicago:20251115T120000
DTSTAMP:20260423T141105
CREATED:20251028T162110Z
LAST-MODIFIED:20251115T163603Z
UID:10001925-1763204400-1763208000@carverridgeseniorliving.com
SUMMARY:The Bond Between Visits! - April and Justin with Rosie and Buster
DESCRIPTION:
URL:https://carverridgeseniorliving.com/event-calendar/the-bond-between-visits-april-and-justin-with-rosie-and-buster-2/
LOCATION:LC Dining Room
CATEGORIES:Legacy Court
END:VEVENT
BEGIN:VEVENT
DTSTART;TZID=America/Chicago:20251115T133000
DTEND;TZID=America/Chicago:20251115T143000
DTSTAMP:20260423T141105
CREATED:20251017T160640Z
LAST-MODIFIED:20251115T163603Z
UID:10001826-1763213400-1763217000@carverridgeseniorliving.com
SUMMARY:Spreading Joy Through Generations Project
DESCRIPTION:
URL:https://carverridgeseniorliving.com/event-calendar/hhas-led-manicures-and-hand-massage-27/
LOCATION:LC Dining Room
CATEGORIES:Legacy Court
END:VEVENT
BEGIN:VEVENT
DTSTART;TZID=America/Chicago:20251115T150000
DTEND;TZID=America/Chicago:20251115T160000
DTSTAMP:20260423T141105
CREATED:20251017T160640Z
LAST-MODIFIED:20251115T163603Z
UID:10001827-1763218800-1763222400@carverridgeseniorliving.com
SUMMARY:Saturday social time
DESCRIPTION:
URL:https://carverridgeseniorliving.com/event-calendar/saturday-social-time-21/
LOCATION:LC Dining Room
CATEGORIES:Legacy Court
END:VEVENT
BEGIN:VEVENT
DTSTART;TZID=America/Chicago:20251116T093000
DTEND;TZID=America/Chicago:20251116T094500
DTSTAMP:20260423T141105
CREATED:20251017T160640Z
LAST-MODIFIED:20251115T163603Z
UID:10001828-1763285400-1763286300@carverridgeseniorliving.com
SUMMARY:News and Views
DESCRIPTION:
URL:https://carverridgeseniorliving.com/event-calendar/news-and-views-55/
CATEGORIES:Legacy Court
END:VEVENT
BEGIN:VEVENT
DTSTART;TZID=America/Chicago:20251116T100000
DTEND;TZID=America/Chicago:20251116T110000
DTSTAMP:20260423T141105
CREATED:20251017T160640Z
LAST-MODIFIED:20251116T163604Z
UID:10001829-1763287200-1763290800@carverridgeseniorliving.com
SUMMARY:Bean Bag Toss w/Yvonna
DESCRIPTION:
URL:https://carverridgeseniorliving.com/event-calendar/fun-fit-w-yvonna-28/
LOCATION:LC Piano Lounge
CATEGORIES:Legacy Court
END:VEVENT
BEGIN:VEVENT
DTSTART;TZID=America/Chicago:20251116T150000
DTEND;TZID=America/Chicago:20251116T160000
DTSTAMP:20260423T141105
CREATED:20251018T162109Z
LAST-MODIFIED:20251116T163604Z
UID:10001835-1763305200-1763308800@carverridgeseniorliving.com
SUMMARY:Let's get Crafty!
DESCRIPTION:
URL:https://carverridgeseniorliving.com/event-calendar/lets-get-crafty-5/
LOCATION:LC Dining Room
CATEGORIES:Legacy Court
END:VEVENT
BEGIN:VEVENT
DTSTART;TZID=America/Chicago:20251116T150000
DTEND;TZID=America/Chicago:20251116T160000
DTSTAMP:20260423T141105
CREATED:20251018T162109Z
LAST-MODIFIED:20251028T162110Z
UID:10001836-1763305200-1763308800@carverridgeseniorliving.com
SUMMARY:Sunshine and Smiles Snack Social
DESCRIPTION:
URL:https://carverridgeseniorliving.com/event-calendar/sunshine-and-smiles-snack-social-46/
LOCATION:LC Dining Room
CATEGORIES:Legacy Court
END:VEVENT
END:VCALENDAR