BEGIN:VCALENDAR
VERSION:2.0
PRODID:-//Carver Ridge Senior Living - ECPv6.11.2.1//NONSGML v1.0//EN
CALSCALE:GREGORIAN
METHOD:PUBLISH
X-ORIGINAL-URL:https://carverridgeseniorliving.com
X-WR-CALDESC:Events for Carver Ridge Senior Living
REFRESH-INTERVAL;VALUE=DURATION:PT1H
X-Robots-Tag:noindex
X-PUBLISHED-TTL:PT1H
BEGIN:VTIMEZONE
TZID:America/Chicago
BEGIN:DAYLIGHT
TZOFFSETFROM:-0600
TZOFFSETTO:-0500
TZNAME:CDT
DTSTART:20250309T080000
END:DAYLIGHT
BEGIN:STANDARD
TZOFFSETFROM:-0500
TZOFFSETTO:-0600
TZNAME:CST
DTSTART:20251102T070000
END:STANDARD
END:VTIMEZONE
BEGIN:VEVENT
DTSTART;TZID=America/Chicago:20251119T133000
DTEND;TZID=America/Chicago:20251119T143000
DTSTAMP:20260423T202718
CREATED:20251021T162108Z
LAST-MODIFIED:20251028T162111Z
UID:10001857-1763559000-1763562600@carverridgeseniorliving.com
SUMMARY:Name of the Game
DESCRIPTION:
URL:https://carverridgeseniorliving.com/event-calendar/name-of-the-game-13/
LOCATION:LC Dining Room
CATEGORIES:Legacy Court
END:VEVENT
BEGIN:VEVENT
DTSTART;TZID=America/Chicago:20251119T133000
DTEND;TZID=America/Chicago:20251119T143000
DTSTAMP:20260423T202718
CREATED:20251029T162115Z
LAST-MODIFIED:20251119T163604Z
UID:10001943-1763559000-1763562600@carverridgeseniorliving.com
SUMMARY:Competition Corner
DESCRIPTION:
URL:https://carverridgeseniorliving.com/event-calendar/competition-corner-2/
LOCATION:LC Piano Lounge
CATEGORIES:Legacy Court
END:VEVENT
BEGIN:VEVENT
DTSTART;TZID=America/Chicago:20251119T150000
DTEND;TZID=America/Chicago:20251119T160000
DTSTAMP:20260423T202718
CREATED:20251021T162108Z
LAST-MODIFIED:20251119T163604Z
UID:10001858-1763564400-1763568000@carverridgeseniorliving.com
SUMMARY:Music w/Jenna
DESCRIPTION:
URL:https://carverridgeseniorliving.com/event-calendar/kindness-corner-18/
LOCATION:LC Dining Room
CATEGORIES:Legacy Court
END:VEVENT
BEGIN:VEVENT
DTSTART;TZID=America/Chicago:20251120T100000
DTEND;TZID=America/Chicago:20251120T110000
DTSTAMP:20260423T202718
CREATED:20251028T152109Z
LAST-MODIFIED:20251120T163617Z
UID:10001915-1763632800-1763636400@carverridgeseniorliving.com
SUMMARY:Carver PALS visit
DESCRIPTION:
URL:https://carverridgeseniorliving.com/event-calendar/carver-pals-visit-4/
LOCATION:Bistro
CATEGORIES:Legacy Court,Senior Living
END:VEVENT
BEGIN:VEVENT
DTSTART;TZID=America/Chicago:20251120T110000
DTEND;TZID=America/Chicago:20251120T120000
DTSTAMP:20260423T202718
CREATED:20251022T162106Z
LAST-MODIFIED:20251120T163617Z
UID:10001860-1763636400-1763640000@carverridgeseniorliving.com
SUMMARY:Dance it out Fitness
DESCRIPTION:
URL:https://carverridgeseniorliving.com/event-calendar/what-in-the-world-15/
LOCATION:LC Dining Room
CATEGORIES:Legacy Court
END:VEVENT
BEGIN:VEVENT
DTSTART;TZID=America/Chicago:20251120T133000
DTEND;TZID=America/Chicago:20251120T143000
DTSTAMP:20260423T202718
CREATED:20251022T162106Z
LAST-MODIFIED:20251120T163617Z
UID:10001861-1763645400-1763649000@carverridgeseniorliving.com
SUMMARY:Musical Moments: Step into the Movies Dance
DESCRIPTION:
URL:https://carverridgeseniorliving.com/event-calendar/musical-moments-frank-sinatra-8/
LOCATION:LC Dining Room
CATEGORIES:Legacy Court
END:VEVENT
BEGIN:VEVENT
DTSTART;TZID=America/Chicago:20251120T150000
DTEND;TZID=America/Chicago:20251120T160000
DTSTAMP:20260423T202718
CREATED:20251022T162106Z
LAST-MODIFIED:20251120T163618Z
UID:10001862-1763650800-1763654400@carverridgeseniorliving.com
SUMMARY:Gratitude Wreath Craft
DESCRIPTION:
URL:https://carverridgeseniorliving.com/event-calendar/color-me-happy-10/
LOCATION:LC Dining Room
CATEGORIES:Legacy Court
END:VEVENT
BEGIN:VEVENT
DTSTART;TZID=America/Chicago:20251121T133000
DTEND;TZID=America/Chicago:20251121T143000
DTSTAMP:20260423T202718
CREATED:20251023T162208Z
LAST-MODIFIED:20251121T163604Z
UID:10001870-1763731800-1763735400@carverridgeseniorliving.com
SUMMARY:Make a Mess with Jess
DESCRIPTION:
URL:https://carverridgeseniorliving.com/event-calendar/make-a-mess-with-jess-28/
LOCATION:LC Dining Room
CATEGORIES:Legacy Court
END:VEVENT
BEGIN:VEVENT
DTSTART;TZID=America/Chicago:20251121T150000
DTEND;TZID=America/Chicago:20251121T160000
DTSTAMP:20260423T202718
CREATED:20251023T162208Z
LAST-MODIFIED:20251121T163604Z
UID:10001871-1763737200-1763740800@carverridgeseniorliving.com
SUMMARY:Music Performance by Diane Z.
DESCRIPTION:
URL:https://carverridgeseniorliving.com/event-calendar/mocktail-social-8/
LOCATION:LC Dining Room
CATEGORIES:Legacy Court
END:VEVENT
BEGIN:VEVENT
DTSTART;TZID=America/Chicago:20251122T093000
DTEND;TZID=America/Chicago:20251122T094500
DTSTAMP:20260423T202718
CREATED:20251023T162208Z
LAST-MODIFIED:20251121T163604Z
UID:10001872-1763803800-1763804700@carverridgeseniorliving.com
SUMMARY:News and Views
DESCRIPTION:
URL:https://carverridgeseniorliving.com/event-calendar/news-and-views-56/
CATEGORIES:Legacy Court
END:VEVENT
BEGIN:VEVENT
DTSTART;TZID=America/Chicago:20251122T100000
DTEND;TZID=America/Chicago:20251122T110000
DTSTAMP:20260423T202718
CREATED:20251023T162208Z
LAST-MODIFIED:20251122T165154Z
UID:10001873-1763805600-1763809200@carverridgeseniorliving.com
SUMMARY:Balloonball w/Amanda
DESCRIPTION:
URL:https://carverridgeseniorliving.com/event-calendar/balloonball-w-amanda-14/
LOCATION:Piano Lounge
CATEGORIES:Legacy Court
END:VEVENT
BEGIN:VEVENT
DTSTART;TZID=America/Chicago:20251122T133000
DTEND;TZID=America/Chicago:20251122T143000
DTSTAMP:20260423T202718
CREATED:20251024T162106Z
LAST-MODIFIED:20251122T165154Z
UID:10001885-1763818200-1763821800@carverridgeseniorliving.com
SUMMARY:HHAs led Manicures and Hand Massage
DESCRIPTION:
URL:https://carverridgeseniorliving.com/event-calendar/hhas-led-manicures-and-hand-massage-28/
LOCATION:Dining Room
CATEGORIES:Legacy Court
END:VEVENT
BEGIN:VEVENT
DTSTART;TZID=America/Chicago:20251122T150000
DTEND;TZID=America/Chicago:20251122T160000
DTSTAMP:20260423T202718
CREATED:20251024T162106Z
LAST-MODIFIED:20251122T165154Z
UID:10001886-1763823600-1763827200@carverridgeseniorliving.com
SUMMARY:Saturday social time
DESCRIPTION:
URL:https://carverridgeseniorliving.com/event-calendar/saturday-social-time-22/
LOCATION:LC Dining Room
CATEGORIES:Legacy Court
END:VEVENT
BEGIN:VEVENT
DTSTART;TZID=America/Chicago:20251123T093000
DTEND;TZID=America/Chicago:20251123T094500
DTSTAMP:20260423T202718
CREATED:20251024T162106Z
LAST-MODIFIED:20251122T165154Z
UID:10001887-1763890200-1763891100@carverridgeseniorliving.com
SUMMARY:News and Views
DESCRIPTION:
URL:https://carverridgeseniorliving.com/event-calendar/news-and-views-57/
CATEGORIES:Legacy Court
END:VEVENT
BEGIN:VEVENT
DTSTART;TZID=America/Chicago:20251123T100000
DTEND;TZID=America/Chicago:20251123T110000
DTSTAMP:20260423T202718
CREATED:20251024T162106Z
LAST-MODIFIED:20251123T165107Z
UID:10001888-1763892000-1763895600@carverridgeseniorliving.com
SUMMARY:Bean Bag Toss w/Amanda
DESCRIPTION:
URL:https://carverridgeseniorliving.com/event-calendar/fun-and-fit-w-amanda-28/
CATEGORIES:Legacy Court
END:VEVENT
BEGIN:VEVENT
DTSTART;TZID=America/Chicago:20251123T150000
DTEND;TZID=America/Chicago:20251123T160000
DTSTAMP:20260423T202718
CREATED:20251025T162118Z
LAST-MODIFIED:20251028T162111Z
UID:10001894-1763910000-1763913600@carverridgeseniorliving.com
SUMMARY:Sunshine and Smiles Snack Social
DESCRIPTION:
URL:https://carverridgeseniorliving.com/event-calendar/sunshine-and-smiles-snack-social-47/
LOCATION:LC Dining Room
CATEGORIES:Legacy Court
END:VEVENT
BEGIN:VEVENT
DTSTART;TZID=America/Chicago:20251123T150000
DTEND;TZID=America/Chicago:20251123T160000
DTSTAMP:20260423T202718
CREATED:20251031T162105Z
LAST-MODIFIED:20251123T165107Z
UID:10001964-1763910000-1763913600@carverridgeseniorliving.com
SUMMARY:Sunshine and Smiles social time
DESCRIPTION:
URL:https://carverridgeseniorliving.com/event-calendar/sunshine-and-smiles-social-time-2/
LOCATION:LC Dining Room
CATEGORIES:Legacy Court
END:VEVENT
BEGIN:VEVENT
DTSTART;TZID=America/Chicago:20251124T103000
DTEND;TZID=America/Chicago:20251124T113000
DTSTAMP:20260423T202718
CREATED:20251026T162105Z
LAST-MODIFIED:20251124T165124Z
UID:10001898-1763980200-1763983800@carverridgeseniorliving.com
SUMMARY:Walk it Out Fitness
DESCRIPTION:
URL:https://carverridgeseniorliving.com/event-calendar/doubleball-8/
LOCATION:Piano Lounge
CATEGORIES:Legacy Court
END:VEVENT
BEGIN:VEVENT
DTSTART;TZID=America/Chicago:20251124T113000
DTEND;TZID=America/Chicago:20251124T123000
DTSTAMP:20260423T202718
CREATED:20251029T162116Z
LAST-MODIFIED:20251124T165124Z
UID:10001944-1763983800-1763987400@carverridgeseniorliving.com
SUMMARY:Gratitude Attitude Devotions
DESCRIPTION:
URL:https://carverridgeseniorliving.com/event-calendar/gratitude-attitude-devotions-6/
LOCATION:LC Dining Room
CATEGORIES:Legacy Court
END:VEVENT
BEGIN:VEVENT
DTSTART;TZID=America/Chicago:20251124T140000
DTEND;TZID=America/Chicago:20251124T150000
DTSTAMP:20260423T202718
CREATED:20251026T162105Z
LAST-MODIFIED:20251124T165124Z
UID:10001899-1763992800-1763996400@carverridgeseniorliving.com
SUMMARY:Monday Movie Matinee
DESCRIPTION:
URL:https://carverridgeseniorliving.com/event-calendar/monday-movie-matinee-27/
LOCATION:Piano Lounge
CATEGORIES:Legacy Court
END:VEVENT
BEGIN:VEVENT
DTSTART;TZID=America/Chicago:20251125T110000
DTEND;TZID=America/Chicago:20251125T120000
DTSTAMP:20260423T202718
CREATED:20251027T150719Z
LAST-MODIFIED:20251027T162111Z
UID:10001902-1764068400-1764072000@carverridgeseniorliving.com
SUMMARY:Worship w/Chaplain Carol in Legacy Court
DESCRIPTION:
URL:https://carverridgeseniorliving.com/event-calendar/worship-w-chaplain-carol-in-legacy-court-12/
LOCATION:Piano Lounge
CATEGORIES:Legacy Court,Senior Living
END:VEVENT
BEGIN:VEVENT
DTSTART;TZID=America/Chicago:20251125T110000
DTEND;TZID=America/Chicago:20251125T120000
DTSTAMP:20260423T202718
CREATED:20251029T162116Z
LAST-MODIFIED:20251125T165112Z
UID:10001945-1764068400-1764072000@carverridgeseniorliving.com
SUMMARY:Worship w/Chaplain Carol
DESCRIPTION:
URL:https://carverridgeseniorliving.com/event-calendar/worship-w-chaplain-carol-4/
LOCATION:LC Piano Lounge
CATEGORIES:Legacy Court
END:VEVENT
BEGIN:VEVENT
DTSTART;TZID=America/Chicago:20251125T113000
DTEND;TZID=America/Chicago:20251125T123000
DTSTAMP:20260423T202718
CREATED:20251027T162111Z
LAST-MODIFIED:20251125T165112Z
UID:10001905-1764070200-1764073800@carverridgeseniorliving.com
SUMMARY:Chair Yoga
DESCRIPTION:
URL:https://carverridgeseniorliving.com/event-calendar/chair-yoga-40/
CATEGORIES:Legacy Court
END:VEVENT
BEGIN:VEVENT
DTSTART;TZID=America/Chicago:20251125T133000
DTEND;TZID=America/Chicago:20251125T143000
DTSTAMP:20260423T202718
CREATED:20251027T162111Z
LAST-MODIFIED:20251125T165112Z
UID:10001906-1764077400-1764081000@carverridgeseniorliving.com
SUMMARY:BINGO!
DESCRIPTION:
URL:https://carverridgeseniorliving.com/event-calendar/bingo-68/
LOCATION:LC Dining Room
CATEGORIES:Legacy Court
END:VEVENT
BEGIN:VEVENT
DTSTART;TZID=America/Chicago:20251125T150000
DTEND;TZID=America/Chicago:20251125T160000
DTSTAMP:20260423T202718
CREATED:20251027T162111Z
LAST-MODIFIED:20251125T165113Z
UID:10001907-1764082800-1764086400@carverridgeseniorliving.com
SUMMARY:Cranium Café
DESCRIPTION:
URL:https://carverridgeseniorliving.com/event-calendar/nacho-average-tuesday-9/
LOCATION:LC Dining Room
CATEGORIES:Legacy Court
END:VEVENT
BEGIN:VEVENT
DTSTART;TZID=America/Chicago:20251126T100000
DTEND;TZID=America/Chicago:20251126T110000
DTSTAMP:20260423T202718
CREATED:20251027T162111Z
LAST-MODIFIED:20251125T165113Z
UID:10001908-1764151200-1764154800@carverridgeseniorliving.com
SUMMARY:Music with Bryant
DESCRIPTION:
URL:https://carverridgeseniorliving.com/event-calendar/music-with-bryant-30/
LOCATION:Piano Lounge
CATEGORIES:Legacy Court
END:VEVENT
BEGIN:VEVENT
DTSTART;TZID=America/Chicago:20251126T110000
DTEND;TZID=America/Chicago:20251126T120000
DTSTAMP:20260423T202718
CREATED:20251028T162112Z
LAST-MODIFIED:20251125T165113Z
UID:10001926-1764154800-1764158400@carverridgeseniorliving.com
SUMMARY:Senior Fitness
DESCRIPTION:
URL:https://carverridgeseniorliving.com/event-calendar/senior-fitness-2/
CATEGORIES:Legacy Court
END:VEVENT
BEGIN:VEVENT
DTSTART;TZID=America/Chicago:20251126T133000
DTEND;TZID=America/Chicago:20251126T143000
DTSTAMP:20260423T202718
CREATED:20251028T162112Z
LAST-MODIFIED:20251028T162112Z
UID:10001927-1764163800-1764167400@carverridgeseniorliving.com
SUMMARY:Let's Give!
DESCRIPTION:
URL:https://carverridgeseniorliving.com/event-calendar/lets-give-5/
LOCATION:Dining Room
CATEGORIES:Legacy Court
END:VEVENT
BEGIN:VEVENT
DTSTART;TZID=America/Chicago:20251126T133000
DTEND;TZID=America/Chicago:20251126T143000
DTSTAMP:20260423T202718
CREATED:20251029T162116Z
LAST-MODIFIED:20251125T165113Z
UID:10001946-1764163800-1764167400@carverridgeseniorliving.com
SUMMARY:Competition Corner
DESCRIPTION:
URL:https://carverridgeseniorliving.com/event-calendar/competition-corner-3/
LOCATION:LC Piano Lounge
CATEGORIES:Legacy Court
END:VEVENT
BEGIN:VEVENT
DTSTART;TZID=America/Chicago:20251126T150000
DTEND;TZID=America/Chicago:20251126T160000
DTSTAMP:20260423T202718
CREATED:20251028T152110Z
LAST-MODIFIED:20251125T165113Z
UID:10001922-1764169200-1764172800@carverridgeseniorliving.com
SUMMARY:Meller Brass Performance
DESCRIPTION:
URL:https://carverridgeseniorliving.com/event-calendar/meller-brass-performance/
LOCATION:Bistro
CATEGORIES:Legacy Court,Senior Living
END:VEVENT
END:VCALENDAR