BEGIN:VCALENDAR
VERSION:2.0
PRODID:-//Carver Ridge Senior Living - ECPv6.11.2.1//NONSGML v1.0//EN
CALSCALE:GREGORIAN
METHOD:PUBLISH
X-ORIGINAL-URL:https://carverridgeseniorliving.com
X-WR-CALDESC:Events for Carver Ridge Senior Living
REFRESH-INTERVAL;VALUE=DURATION:PT1H
X-Robots-Tag:noindex
X-PUBLISHED-TTL:PT1H
BEGIN:VTIMEZONE
TZID:America/Chicago
BEGIN:DAYLIGHT
TZOFFSETFROM:-0600
TZOFFSETTO:-0500
TZNAME:CDT
DTSTART:20250309T080000
END:DAYLIGHT
BEGIN:STANDARD
TZOFFSETFROM:-0500
TZOFFSETTO:-0600
TZNAME:CST
DTSTART:20251102T070000
END:STANDARD
END:VTIMEZONE
BEGIN:VEVENT
DTSTART;TZID=America/Chicago:20251202T150000
DTEND;TZID=America/Chicago:20251202T160000
DTSTAMP:20260424T041451
CREATED:20251103T162111Z
LAST-MODIFIED:20251202T003613Z
UID:10001987-1764687600-1764691200@carverridgeseniorliving.com
SUMMARY:Service of Remembrance
DESCRIPTION:
URL:https://carverridgeseniorliving.com/event-calendar/nacho-average-tuesday-10/
LOCATION:Community Room
CATEGORIES:Legacy Court
END:VEVENT
BEGIN:VEVENT
DTSTART;TZID=America/Chicago:20251203T100000
DTEND;TZID=America/Chicago:20251203T110000
DTSTAMP:20260424T041451
CREATED:20251103T162111Z
LAST-MODIFIED:20251203T003634Z
UID:10001988-1764756000-1764759600@carverridgeseniorliving.com
SUMMARY:Music with Bryant
DESCRIPTION:
URL:https://carverridgeseniorliving.com/event-calendar/music-with-bryant-31/
LOCATION:Piano Lounge
CATEGORIES:Legacy Court
END:VEVENT
BEGIN:VEVENT
DTSTART;TZID=America/Chicago:20251203T110000
DTEND;TZID=America/Chicago:20251203T120000
DTSTAMP:20260424T041451
CREATED:20251104T162108Z
LAST-MODIFIED:20251130T003622Z
UID:10001993-1764759600-1764763200@carverridgeseniorliving.com
SUMMARY:Senior Fitness
DESCRIPTION:
URL:https://carverridgeseniorliving.com/event-calendar/senior-fitness-3/
LOCATION:Piano Lounge
CATEGORIES:Legacy Court
END:VEVENT
BEGIN:VEVENT
DTSTART;TZID=America/Chicago:20251203T130000
DTEND;TZID=America/Chicago:20251203T140000
DTSTAMP:20260424T041451
CREATED:20251104T162108Z
LAST-MODIFIED:20251203T003634Z
UID:10001994-1764766800-1764770400@carverridgeseniorliving.com
SUMMARY:Memory Cafe
DESCRIPTION:
URL:https://carverridgeseniorliving.com/event-calendar/memory-cafe-4/
LOCATION:LC Dining Room
CATEGORIES:Legacy Court
END:VEVENT
BEGIN:VEVENT
DTSTART;TZID=America/Chicago:20251203T133000
DTEND;TZID=America/Chicago:20251203T143000
DTSTAMP:20260424T041451
CREATED:20251104T162108Z
LAST-MODIFIED:20251203T003634Z
UID:10001995-1764768600-1764772200@carverridgeseniorliving.com
SUMMARY:Create a Cookie
DESCRIPTION:
URL:https://carverridgeseniorliving.com/event-calendar/competition-corner-4/
LOCATION:LC Piano Lounge
CATEGORIES:Legacy Court
END:VEVENT
BEGIN:VEVENT
DTSTART;TZID=America/Chicago:20251203T150000
DTEND;TZID=America/Chicago:20251203T160000
DTSTAMP:20260424T041451
CREATED:20251104T162108Z
LAST-MODIFIED:20251203T003634Z
UID:10001996-1764774000-1764777600@carverridgeseniorliving.com
SUMMARY:Puzzle Social
DESCRIPTION:
URL:https://carverridgeseniorliving.com/event-calendar/kindness-corner-20/
LOCATION:LC Dining Room
CATEGORIES:Legacy Court
END:VEVENT
BEGIN:VEVENT
DTSTART;TZID=America/Chicago:20251203T160000
DTEND;TZID=America/Chicago:20251203T170000
DTSTAMP:20260424T041451
CREATED:20251201T003619Z
LAST-MODIFIED:20251203T003634Z
UID:10002217-1764777600-1764781200@carverridgeseniorliving.com
SUMMARY:Coloring Corner
DESCRIPTION:
URL:https://carverridgeseniorliving.com/event-calendar/coloring-corner/
LOCATION:LC Dining Room
CATEGORIES:Legacy Court
END:VEVENT
BEGIN:VEVENT
DTSTART;TZID=America/Chicago:20251203T180000
DTEND;TZID=America/Chicago:20251203T190000
DTSTAMP:20260424T041451
CREATED:20251128T122117Z
LAST-MODIFIED:20251203T033604Z
UID:10002170-1764784800-1764788400@carverridgeseniorliving.com
SUMMARY:Sever's Light Ride outing - Sign up in Binder
DESCRIPTION:
URL:https://carverridgeseniorliving.com/event-calendar/severs-light-ride-outing-sign-up-in-binder/
CATEGORIES:Legacy Court,Senior Living
END:VEVENT
BEGIN:VEVENT
DTSTART;TZID=America/Chicago:20251204T100000
DTEND;TZID=America/Chicago:20251204T110000
DTSTAMP:20260424T041451
CREATED:20251128T122117Z
LAST-MODIFIED:20251204T040633Z
UID:10002171-1764842400-1764846000@carverridgeseniorliving.com
SUMMARY:Carver PALS Visit
DESCRIPTION:
URL:https://carverridgeseniorliving.com/event-calendar/carver-pals-visit-5/
LOCATION:Bistro
CATEGORIES:Legacy Court,Senior Living
END:VEVENT
BEGIN:VEVENT
DTSTART;TZID=America/Chicago:20251204T110000
DTEND;TZID=America/Chicago:20251204T120000
DTSTAMP:20260424T041451
CREATED:20251105T162107Z
LAST-MODIFIED:20251204T003607Z
UID:10002000-1764846000-1764849600@carverridgeseniorliving.com
SUMMARY:Cranium Cafe
DESCRIPTION:
URL:https://carverridgeseniorliving.com/event-calendar/what-in-the-world-16/
LOCATION:LC Dining Room
CATEGORIES:Legacy Court
END:VEVENT
BEGIN:VEVENT
DTSTART;TZID=America/Chicago:20251204T133000
DTEND;TZID=America/Chicago:20251204T143000
DTSTAMP:20260424T041451
CREATED:20251105T162107Z
LAST-MODIFIED:20251204T003608Z
UID:10002001-1764855000-1764858600@carverridgeseniorliving.com
SUMMARY:Musical Moments: The Piano Guys
DESCRIPTION:
URL:https://carverridgeseniorliving.com/event-calendar/musical-moments-frank-sinatra-10/
LOCATION:LC Dining Room
CATEGORIES:Legacy Court
END:VEVENT
BEGIN:VEVENT
DTSTART;TZID=America/Chicago:20251204T150000
DTEND;TZID=America/Chicago:20251204T160000
DTSTAMP:20260424T041451
CREATED:20251105T162107Z
LAST-MODIFIED:20251204T003608Z
UID:10002002-1764860400-1764864000@carverridgeseniorliving.com
SUMMARY:Drum Circle w/Jenna
DESCRIPTION:
URL:https://carverridgeseniorliving.com/event-calendar/color-me-happy-13/
LOCATION:LC Dining Room
CATEGORIES:Legacy Court
END:VEVENT
BEGIN:VEVENT
DTSTART;TZID=America/Chicago:20251205T103000
DTEND;TZID=America/Chicago:20251205T113000
DTSTAMP:20260424T041451
CREATED:20251106T162117Z
LAST-MODIFIED:20251130T003622Z
UID:10002009-1764930600-1764934200@carverridgeseniorliving.com
SUMMARY:Music w/Melissa
DESCRIPTION:
URL:https://carverridgeseniorliving.com/event-calendar/music-w-melissa-7/
LOCATION:Piano Lounge
CATEGORIES:Legacy Court
END:VEVENT
BEGIN:VEVENT
DTSTART;TZID=America/Chicago:20251205T133000
DTEND;TZID=America/Chicago:20251205T143000
DTSTAMP:20260424T041451
CREATED:20251106T162117Z
LAST-MODIFIED:20251205T003604Z
UID:10002010-1764941400-1764945000@carverridgeseniorliving.com
SUMMARY:Make a Mess with Jess
DESCRIPTION:
URL:https://carverridgeseniorliving.com/event-calendar/make-a-mess-with-jess-30/
LOCATION:LC Dining Room
CATEGORIES:Legacy Court
END:VEVENT
BEGIN:VEVENT
DTSTART;TZID=America/Chicago:20251205T150000
DTEND;TZID=America/Chicago:20251205T160000
DTSTAMP:20260424T041451
CREATED:20251106T162117Z
LAST-MODIFIED:20251205T003604Z
UID:10002011-1764946800-1764950400@carverridgeseniorliving.com
SUMMARY:Birthday Blessings
DESCRIPTION:
URL:https://carverridgeseniorliving.com/event-calendar/mocktail-social-9/
LOCATION:LC Dining Room
CATEGORIES:Legacy Court
END:VEVENT
BEGIN:VEVENT
DTSTART;TZID=America/Chicago:20251205T153000
DTEND;TZID=America/Chicago:20251205T163000
DTSTAMP:20260424T041451
CREATED:20251201T003620Z
LAST-MODIFIED:20251205T003604Z
UID:10002218-1764948600-1764952200@carverridgeseniorliving.com
SUMMARY:Design a Mug Coloring Corner
DESCRIPTION:
URL:https://carverridgeseniorliving.com/event-calendar/design-a-mug-coloring-corner/
LOCATION:LC Dining Room
CATEGORIES:Legacy Court
END:VEVENT
BEGIN:VEVENT
DTSTART;TZID=America/Chicago:20251206T093000
DTEND;TZID=America/Chicago:20251206T094500
DTSTAMP:20260424T041451
CREATED:20251106T162117Z
LAST-MODIFIED:20251206T003620Z
UID:10002012-1765013400-1765014300@carverridgeseniorliving.com
SUMMARY:News and Views
DESCRIPTION:
URL:https://carverridgeseniorliving.com/event-calendar/news-and-views-60/
CATEGORIES:Legacy Court
END:VEVENT
BEGIN:VEVENT
DTSTART;TZID=America/Chicago:20251206T100000
DTEND;TZID=America/Chicago:20251206T110000
DTSTAMP:20260424T041451
CREATED:20251106T162117Z
LAST-MODIFIED:20251206T003620Z
UID:10002013-1765015200-1765018800@carverridgeseniorliving.com
SUMMARY:Balloonball w/Amanda
DESCRIPTION:
URL:https://carverridgeseniorliving.com/event-calendar/balloonball-w-amanda-15/
LOCATION:Piano Lounge
CATEGORIES:Legacy Court
END:VEVENT
BEGIN:VEVENT
DTSTART;TZID=America/Chicago:20251206T110000
DTEND;TZID=America/Chicago:20251206T120000
DTSTAMP:20260424T041451
CREATED:20251107T162109Z
LAST-MODIFIED:20251206T003620Z
UID:10002020-1765018800-1765022400@carverridgeseniorliving.com
SUMMARY:The Bond Between visits! - Jana and Nala
DESCRIPTION:
URL:https://carverridgeseniorliving.com/event-calendar/the-bond-between-visits-jana-and-nala-2/
LOCATION:LC Dining Room
CATEGORIES:Legacy Court
END:VEVENT
BEGIN:VEVENT
DTSTART;TZID=America/Chicago:20251206T133000
DTEND;TZID=America/Chicago:20251206T143000
DTSTAMP:20260424T041451
CREATED:20251107T162109Z
LAST-MODIFIED:20251206T003620Z
UID:10002021-1765027800-1765031400@carverridgeseniorliving.com
SUMMARY:HHAs led Manicures and Hand Massage
DESCRIPTION:
URL:https://carverridgeseniorliving.com/event-calendar/hhas-led-manicures-and-hand-massage-30/
LOCATION:Dining Room
CATEGORIES:Legacy Court
END:VEVENT
BEGIN:VEVENT
DTSTART;TZID=America/Chicago:20251206T150000
DTEND;TZID=America/Chicago:20251206T160000
DTSTAMP:20260424T041451
CREATED:20251107T162109Z
LAST-MODIFIED:20251206T003620Z
UID:10002022-1765033200-1765036800@carverridgeseniorliving.com
SUMMARY:Candy Cane Reindeer Craft
DESCRIPTION:
URL:https://carverridgeseniorliving.com/event-calendar/saturday-social-time-24/
LOCATION:LC Dining Room
CATEGORIES:Legacy Court
END:VEVENT
BEGIN:VEVENT
DTSTART;TZID=America/Chicago:20251207T093000
DTEND;TZID=America/Chicago:20251207T094500
DTSTAMP:20260424T041451
CREATED:20251107T162110Z
LAST-MODIFIED:20251207T003604Z
UID:10002023-1765099800-1765100700@carverridgeseniorliving.com
SUMMARY:News and Views
DESCRIPTION:
URL:https://carverridgeseniorliving.com/event-calendar/news-and-views-61/
CATEGORIES:Legacy Court
END:VEVENT
BEGIN:VEVENT
DTSTART;TZID=America/Chicago:20251207T100000
DTEND;TZID=America/Chicago:20251207T110000
DTSTAMP:20260424T041451
CREATED:20251107T162110Z
LAST-MODIFIED:20251207T003604Z
UID:10002024-1765101600-1765105200@carverridgeseniorliving.com
SUMMARY:Bean Bag Toss w/Amanda
DESCRIPTION:
URL:https://carverridgeseniorliving.com/event-calendar/bean-bag-toss-w-amanda-17/
CATEGORIES:Legacy Court
END:VEVENT
BEGIN:VEVENT
DTSTART;TZID=America/Chicago:20251207T133000
DTEND;TZID=America/Chicago:20251207T143000
DTSTAMP:20260424T041451
CREATED:20251108T155111Z
LAST-MODIFIED:20251207T003604Z
UID:10002027-1765114200-1765117800@carverridgeseniorliving.com
SUMMARY:Harvest Church Social and Christmas Carol Sing-a-long
DESCRIPTION:
URL:https://carverridgeseniorliving.com/event-calendar/resident-choice-sunday-matinee-movie-and-popcorn-10/
LOCATION:Bistro
CATEGORIES:Legacy Court,Senior Living
END:VEVENT
BEGIN:VEVENT
DTSTART;TZID=America/Chicago:20251207T150000
DTEND;TZID=America/Chicago:20251207T160000
DTSTAMP:20260424T041451
CREATED:20251108T162108Z
LAST-MODIFIED:20251207T003604Z
UID:10002029-1765119600-1765123200@carverridgeseniorliving.com
SUMMARY:Cotton Candy Cocktail hour!
DESCRIPTION:
URL:https://carverridgeseniorliving.com/event-calendar/sunshine-and-smiles-social-time-3/
LOCATION:LC Dining Room
CATEGORIES:Legacy Court
END:VEVENT
BEGIN:VEVENT
DTSTART;TZID=America/Chicago:20251208T103000
DTEND;TZID=America/Chicago:20251208T113000
DTSTAMP:20260424T041451
CREATED:20251109T162111Z
LAST-MODIFIED:20251208T005134Z
UID:10002032-1765189800-1765193400@carverridgeseniorliving.com
SUMMARY:Gratitude Attitude Devotions
DESCRIPTION:
URL:https://carverridgeseniorliving.com/event-calendar/walk-it-out-fitness-4/
CATEGORIES:Legacy Court
END:VEVENT
BEGIN:VEVENT
DTSTART;TZID=America/Chicago:20251208T110000
DTEND;TZID=America/Chicago:20251208T120000
DTSTAMP:20260424T041451
CREATED:20251109T162112Z
LAST-MODIFIED:20251208T005134Z
UID:10002033-1765191600-1765195200@carverridgeseniorliving.com
SUMMARY:Watercolor Wonder
DESCRIPTION:
URL:https://carverridgeseniorliving.com/event-calendar/gratitude-attitude-devotions-9/
LOCATION:LC Dining Room
CATEGORIES:Legacy Court
END:VEVENT
BEGIN:VEVENT
DTSTART;TZID=America/Chicago:20251208T140000
DTEND;TZID=America/Chicago:20251208T150000
DTSTAMP:20260424T041451
CREATED:20251109T162112Z
LAST-MODIFIED:20251208T005134Z
UID:10002034-1765202400-1765206000@carverridgeseniorliving.com
SUMMARY:Monday Movie Matinee
DESCRIPTION:
URL:https://carverridgeseniorliving.com/event-calendar/monday-movie-matinee-29/
LOCATION:Piano Lounge
CATEGORIES:Legacy Court
END:VEVENT
BEGIN:VEVENT
DTSTART;TZID=America/Chicago:20251209T110000
DTEND;TZID=America/Chicago:20251209T120000
DTSTAMP:20260424T041451
CREATED:20251110T162108Z
LAST-MODIFIED:20251209T010603Z
UID:10002039-1765278000-1765281600@carverridgeseniorliving.com
SUMMARY:Worship w/Chaplain Carol
DESCRIPTION:
URL:https://carverridgeseniorliving.com/event-calendar/worship-w-chaplain-carol-6/
LOCATION:LC Piano Lounge
CATEGORIES:Legacy Court
END:VEVENT
BEGIN:VEVENT
DTSTART;TZID=America/Chicago:20251209T113000
DTEND;TZID=America/Chicago:20251209T123000
DTSTAMP:20260424T041451
CREATED:20251110T162108Z
LAST-MODIFIED:20251209T010603Z
UID:10002040-1765279800-1765283400@carverridgeseniorliving.com
SUMMARY:Christmas Traditions around the World
DESCRIPTION:
URL:https://carverridgeseniorliving.com/event-calendar/chair-yoga-44/
CATEGORIES:Legacy Court
END:VEVENT
END:VCALENDAR