BEGIN:VCALENDAR
VERSION:2.0
PRODID:-//Carver Ridge Senior Living - ECPv6.11.2.1//NONSGML v1.0//EN
CALSCALE:GREGORIAN
METHOD:PUBLISH
X-WR-CALNAME:Carver Ridge Senior Living
X-ORIGINAL-URL:https://carverridgeseniorliving.com
X-WR-CALDESC:Events for Carver Ridge Senior Living
REFRESH-INTERVAL;VALUE=DURATION:PT1H
X-Robots-Tag:noindex
X-PUBLISHED-TTL:PT1H
BEGIN:VTIMEZONE
TZID:America/Chicago
BEGIN:DAYLIGHT
TZOFFSETFROM:-0600
TZOFFSETTO:-0500
TZNAME:CDT
DTSTART:20250309T080000
END:DAYLIGHT
BEGIN:STANDARD
TZOFFSETFROM:-0500
TZOFFSETTO:-0600
TZNAME:CST
DTSTART:20251102T070000
END:STANDARD
END:VTIMEZONE
BEGIN:VEVENT
DTSTART;TZID=America/Chicago:20251211T150000
DTEND;TZID=America/Chicago:20251211T160000
DTSTAMP:20260424T105142
CREATED:20251112T162431Z
LAST-MODIFIED:20251211T010604Z
UID:10002058-1765465200-1765468800@carverridgeseniorliving.com
SUMMARY:Color Me Happy
DESCRIPTION:
URL:https://carverridgeseniorliving.com/event-calendar/color-me-happy-14/
LOCATION:LC Dining Room
CATEGORIES:Legacy Court
END:VEVENT
BEGIN:VEVENT
DTSTART;TZID=America/Chicago:20251211T160000
DTEND;TZID=America/Chicago:20251211T170000
DTSTAMP:20260424T105142
CREATED:20251125T163608Z
LAST-MODIFIED:20251211T010604Z
UID:10002158-1765468800-1765472400@carverridgeseniorliving.com
SUMMARY:Resident and Family holiday Dinner - reserve your spot by December 1st
DESCRIPTION:
URL:https://carverridgeseniorliving.com/event-calendar/resident-and-family-holiday-dinner-reserve-your-spot-by-december-1st/
CATEGORIES:Legacy Court,Senior Living
END:VEVENT
BEGIN:VEVENT
DTSTART;TZID=America/Chicago:20251212T133000
DTEND;TZID=America/Chicago:20251212T143000
DTSTAMP:20260424T105142
CREATED:20251113T163614Z
LAST-MODIFIED:20251212T010602Z
UID:10002063-1765546200-1765549800@carverridgeseniorliving.com
SUMMARY:Make a Mess with Jess
DESCRIPTION:
URL:https://carverridgeseniorliving.com/event-calendar/make-a-mess-with-jess-31/
LOCATION:LC Dining Room
CATEGORIES:Legacy Court
END:VEVENT
BEGIN:VEVENT
DTSTART;TZID=America/Chicago:20251212T150000
DTEND;TZID=America/Chicago:20251212T160000
DTSTAMP:20260424T105142
CREATED:20251113T163615Z
LAST-MODIFIED:20251212T010602Z
UID:10002064-1765551600-1765555200@carverridgeseniorliving.com
SUMMARY:Andy Williams Best of Christmas
DESCRIPTION:
URL:https://carverridgeseniorliving.com/event-calendar/mocktail-social-10/
LOCATION:LC Piano Lounge
CATEGORIES:Legacy Court
END:VEVENT
BEGIN:VEVENT
DTSTART;TZID=America/Chicago:20251213T093000
DTEND;TZID=America/Chicago:20251213T094500
DTSTAMP:20260424T105142
CREATED:20251113T163615Z
LAST-MODIFIED:20251213T010638Z
UID:10002065-1765618200-1765619100@carverridgeseniorliving.com
SUMMARY:News and Views
DESCRIPTION:
URL:https://carverridgeseniorliving.com/event-calendar/news-and-views-62/
CATEGORIES:Legacy Court
END:VEVENT
BEGIN:VEVENT
DTSTART;TZID=America/Chicago:20251213T100000
DTEND;TZID=America/Chicago:20251213T110000
DTSTAMP:20260424T105142
CREATED:20251113T163615Z
LAST-MODIFIED:20251213T010638Z
UID:10002066-1765620000-1765623600@carverridgeseniorliving.com
SUMMARY:Balloonball w/Yvonna
DESCRIPTION:
URL:https://carverridgeseniorliving.com/event-calendar/balloonball-w-yvonna-16/
LOCATION:Piano Lounge
CATEGORIES:Legacy Court
END:VEVENT
BEGIN:VEVENT
DTSTART;TZID=America/Chicago:20251213T133000
DTEND;TZID=America/Chicago:20251213T143000
DTSTAMP:20260424T105142
CREATED:20251114T163607Z
LAST-MODIFIED:20251213T010639Z
UID:10002073-1765632600-1765636200@carverridgeseniorliving.com
SUMMARY:Sharing Joy through Generations
DESCRIPTION:
URL:https://carverridgeseniorliving.com/event-calendar/hhas-led-manicures-and-hand-massage-31/
LOCATION:Dining Room
CATEGORIES:Legacy Court
END:VEVENT
BEGIN:VEVENT
DTSTART;TZID=America/Chicago:20251213T150000
DTEND;TZID=America/Chicago:20251213T160000
DTSTAMP:20260424T105142
CREATED:20251114T163607Z
LAST-MODIFIED:20251213T010639Z
UID:10002074-1765638000-1765641600@carverridgeseniorliving.com
SUMMARY:Lindsey Sterling Violin Concert (Violin Day)
DESCRIPTION:
URL:https://carverridgeseniorliving.com/event-calendar/saturday-social-time-25/
LOCATION:LC Dining Room
CATEGORIES:Legacy Court
END:VEVENT
BEGIN:VEVENT
DTSTART;TZID=America/Chicago:20251214T093000
DTEND;TZID=America/Chicago:20251214T094500
DTSTAMP:20260424T105142
CREATED:20251114T163607Z
LAST-MODIFIED:20251214T010620Z
UID:10002075-1765704600-1765705500@carverridgeseniorliving.com
SUMMARY:News and Views
DESCRIPTION:
URL:https://carverridgeseniorliving.com/event-calendar/news-and-views-63/
CATEGORIES:Legacy Court
END:VEVENT
BEGIN:VEVENT
DTSTART;TZID=America/Chicago:20251214T100000
DTEND;TZID=America/Chicago:20251214T110000
DTSTAMP:20260424T105142
CREATED:20251114T163607Z
LAST-MODIFIED:20251214T010620Z
UID:10002076-1765706400-1765710000@carverridgeseniorliving.com
SUMMARY:Bean Bag Toss w/Yvonna
DESCRIPTION:
URL:https://carverridgeseniorliving.com/event-calendar/bean-bag-toss-w-yvonna-19/
LOCATION:LC Piano Lounge
CATEGORIES:Legacy Court
END:VEVENT
BEGIN:VEVENT
DTSTART;TZID=America/Chicago:20251214T150000
DTEND;TZID=America/Chicago:20251214T160000
DTSTAMP:20260424T105142
CREATED:20251115T163606Z
LAST-MODIFIED:20251214T010620Z
UID:10002085-1765724400-1765728000@carverridgeseniorliving.com
SUMMARY:Let's get Crafty!
DESCRIPTION:
URL:https://carverridgeseniorliving.com/event-calendar/lets-get-crafty-7/
LOCATION:LC Dining Room
CATEGORIES:Legacy Court
END:VEVENT
BEGIN:VEVENT
DTSTART;TZID=America/Chicago:20251215T103000
DTEND;TZID=America/Chicago:20251215T113000
DTSTAMP:20260424T105142
CREATED:20251115T163606Z
LAST-MODIFIED:20251215T012155Z
UID:10002086-1765794600-1765798200@carverridgeseniorliving.com
SUMMARY:Gratitude Attitude Devotions
DESCRIPTION:
URL:https://carverridgeseniorliving.com/event-calendar/walk-it-out-fitness-5/
CATEGORIES:Legacy Court
END:VEVENT
BEGIN:VEVENT
DTSTART;TZID=America/Chicago:20251215T110000
DTEND;TZID=America/Chicago:20251215T120000
DTSTAMP:20260424T105142
CREATED:20251116T163608Z
LAST-MODIFIED:20251215T012155Z
UID:10002089-1765796400-1765800000@carverridgeseniorliving.com
SUMMARY:A Cup of Christmas Tea Party
DESCRIPTION:
URL:https://carverridgeseniorliving.com/event-calendar/gratitude-attitude-devotions-11/
LOCATION:LC Dining Room
CATEGORIES:Legacy Court
END:VEVENT
BEGIN:VEVENT
DTSTART;TZID=America/Chicago:20251215T140000
DTEND;TZID=America/Chicago:20251215T150000
DTSTAMP:20260424T105142
CREATED:20251116T163608Z
LAST-MODIFIED:20251215T012155Z
UID:10002090-1765807200-1765810800@carverridgeseniorliving.com
SUMMARY:Monday Movie Matinee
DESCRIPTION:
URL:https://carverridgeseniorliving.com/event-calendar/monday-movie-matinee-30/
LOCATION:Piano Lounge
CATEGORIES:Legacy Court
END:VEVENT
BEGIN:VEVENT
DTSTART;TZID=America/Chicago:20251216T110000
DTEND;TZID=America/Chicago:20251216T120000
DTSTAMP:20260424T105142
CREATED:20251117T163622Z
LAST-MODIFIED:20251216T012104Z
UID:10002096-1765882800-1765886400@carverridgeseniorliving.com
SUMMARY:Worship w/Chaplain Carol
DESCRIPTION:
URL:https://carverridgeseniorliving.com/event-calendar/worship-w-chaplain-carol-7/
LOCATION:LC Piano Lounge
CATEGORIES:Legacy Court
END:VEVENT
BEGIN:VEVENT
DTSTART;TZID=America/Chicago:20251216T113000
DTEND;TZID=America/Chicago:20251216T123000
DTSTAMP:20260424T105142
CREATED:20251117T163622Z
LAST-MODIFIED:20251216T012104Z
UID:10002097-1765884600-1765888200@carverridgeseniorliving.com
SUMMARY:Christmas w/Dean Martin
DESCRIPTION:
URL:https://carverridgeseniorliving.com/event-calendar/chair-yoga-46/
CATEGORIES:Legacy Court
END:VEVENT
BEGIN:VEVENT
DTSTART;TZID=America/Chicago:20251216T133000
DTEND;TZID=America/Chicago:20251216T143000
DTSTAMP:20260424T105142
CREATED:20251117T163622Z
LAST-MODIFIED:20251216T012104Z
UID:10002098-1765891800-1765895400@carverridgeseniorliving.com
SUMMARY:BINGO!
DESCRIPTION:
URL:https://carverridgeseniorliving.com/event-calendar/bingo-75/
LOCATION:LC Dining Room
CATEGORIES:Legacy Court
END:VEVENT
BEGIN:VEVENT
DTSTART;TZID=America/Chicago:20251216T150000
DTEND;TZID=America/Chicago:20251216T160000
DTSTAMP:20260424T105142
CREATED:20251117T163622Z
LAST-MODIFIED:20251216T012104Z
UID:10002099-1765897200-1765900800@carverridgeseniorliving.com
SUMMARY:Chocolate Covered Anything Day!
DESCRIPTION:
URL:https://carverridgeseniorliving.com/event-calendar/nacho-average-tuesday-12/
LOCATION:LC Dining Room
CATEGORIES:Legacy Court
END:VEVENT
BEGIN:VEVENT
DTSTART;TZID=America/Chicago:20251216T153000
DTEND;TZID=America/Chicago:20251216T163000
DTSTAMP:20260424T105142
CREATED:20251201T003622Z
LAST-MODIFIED:20251216T012104Z
UID:10002220-1765899000-1765902600@carverridgeseniorliving.com
SUMMARY:Paul Harvey: A Christmas Story and Reflections
DESCRIPTION:
URL:https://carverridgeseniorliving.com/event-calendar/paul-harvey-a-christmas-story-and-reflections/
LOCATION:LC Dining Room
CATEGORIES:Legacy Court
END:VEVENT
BEGIN:VEVENT
DTSTART;TZID=America/Chicago:20251217T100000
DTEND;TZID=America/Chicago:20251217T110000
DTSTAMP:20260424T105142
CREATED:20251117T163622Z
LAST-MODIFIED:20251217T012103Z
UID:10002100-1765965600-1765969200@carverridgeseniorliving.com
SUMMARY:Music with Bryant
DESCRIPTION:
URL:https://carverridgeseniorliving.com/event-calendar/music-with-bryant-33/
LOCATION:Piano Lounge
CATEGORIES:Legacy Court
END:VEVENT
BEGIN:VEVENT
DTSTART;TZID=America/Chicago:20251217T110000
DTEND;TZID=America/Chicago:20251217T120000
DTSTAMP:20260424T105142
CREATED:20251118T163609Z
LAST-MODIFIED:20251217T012103Z
UID:10002105-1765969200-1765972800@carverridgeseniorliving.com
SUMMARY:Senior Fitness
DESCRIPTION:
URL:https://carverridgeseniorliving.com/event-calendar/senior-fitness-5/
LOCATION:Piano Lounge
CATEGORIES:Legacy Court
END:VEVENT
BEGIN:VEVENT
DTSTART;TZID=America/Chicago:20251217T133000
DTEND;TZID=America/Chicago:20251217T143000
DTSTAMP:20260424T105142
CREATED:20251118T163609Z
LAST-MODIFIED:20251217T012103Z
UID:10002106-1765978200-1765981800@carverridgeseniorliving.com
SUMMARY:Left/Right Christmas Game
DESCRIPTION:
URL:https://carverridgeseniorliving.com/event-calendar/competition-corner-6/
LOCATION:LC Piano Lounge
CATEGORIES:Legacy Court
END:VEVENT
BEGIN:VEVENT
DTSTART;TZID=America/Chicago:20251217T143000
DTEND;TZID=America/Chicago:20251217T153000
DTSTAMP:20260424T105142
CREATED:20251201T003622Z
LAST-MODIFIED:20251217T012104Z
UID:10002221-1765981800-1765985400@carverridgeseniorliving.com
SUMMARY:Snowball Toss
DESCRIPTION:
URL:https://carverridgeseniorliving.com/event-calendar/snowball-toss/
LOCATION:LC Piano Lounge
CATEGORIES:Legacy Court
END:VEVENT
BEGIN:VEVENT
DTSTART;TZID=America/Chicago:20251217T150000
DTEND;TZID=America/Chicago:20251217T160000
DTSTAMP:20260424T105142
CREATED:20251118T163609Z
LAST-MODIFIED:20251217T012104Z
UID:10002107-1765983600-1765987200@carverridgeseniorliving.com
SUMMARY:Disney on Ice
DESCRIPTION:
URL:https://carverridgeseniorliving.com/event-calendar/kindness-corner-22/
LOCATION:LC Dining Room
CATEGORIES:Legacy Court
END:VEVENT
BEGIN:VEVENT
DTSTART;TZID=America/Chicago:20251218T100000
DTEND;TZID=America/Chicago:20251218T110000
DTSTAMP:20260424T105142
CREATED:20251128T122119Z
LAST-MODIFIED:20251218T012115Z
UID:10002172-1766052000-1766055600@carverridgeseniorliving.com
SUMMARY:Carver PALS visit
DESCRIPTION:
URL:https://carverridgeseniorliving.com/event-calendar/carver-pals-visit-6/
LOCATION:Bistro
CATEGORIES:Legacy Court,Senior Living
END:VEVENT
BEGIN:VEVENT
DTSTART;TZID=America/Chicago:20251218T110000
DTEND;TZID=America/Chicago:20251218T120000
DTSTAMP:20260424T105142
CREATED:20251119T163608Z
LAST-MODIFIED:20251218T012115Z
UID:10002111-1766055600-1766059200@carverridgeseniorliving.com
SUMMARY:Cranium Cafe
DESCRIPTION:
URL:https://carverridgeseniorliving.com/event-calendar/what-in-the-world-17/
LOCATION:LC Dining Room
CATEGORIES:Legacy Court
END:VEVENT
BEGIN:VEVENT
DTSTART;TZID=America/Chicago:20251218T133000
DTEND;TZID=America/Chicago:20251218T143000
DTSTAMP:20260424T105142
CREATED:20251119T163609Z
LAST-MODIFIED:20251218T012115Z
UID:10002112-1766064600-1766068200@carverridgeseniorliving.com
SUMMARY:Musical Moments: Julie Andrews
DESCRIPTION:
URL:https://carverridgeseniorliving.com/event-calendar/musical-moments-frank-sinatra-12/
LOCATION:LC Dining Room
CATEGORIES:Legacy Court
END:VEVENT
BEGIN:VEVENT
DTSTART;TZID=America/Chicago:20251218T150000
DTEND;TZID=America/Chicago:20251218T160000
DTSTAMP:20260424T105142
CREATED:20251119T163609Z
LAST-MODIFIED:20251218T012115Z
UID:10002113-1766070000-1766073600@carverridgeseniorliving.com
SUMMARY:It's a Gift
DESCRIPTION:
URL:https://carverridgeseniorliving.com/event-calendar/color-me-happy-15/
LOCATION:LC Dining Room
CATEGORIES:Legacy Court
END:VEVENT
BEGIN:VEVENT
DTSTART;VALUE=DATE:20251219
DTEND;VALUE=DATE:20251220
DTSTAMP:20260424T105142
CREATED:20251128T122119Z
LAST-MODIFIED:20251218T012115Z
UID:10002173-1766102400-1766188799@carverridgeseniorliving.com
SUMMARY:Festive Christmas Attire Day!
DESCRIPTION:
URL:https://carverridgeseniorliving.com/event-calendar/festive-christmas-attire-day/
CATEGORIES:Legacy Court,Senior Living
END:VEVENT
BEGIN:VEVENT
DTSTART;TZID=America/Chicago:20251219T133000
DTEND;TZID=America/Chicago:20251219T143000
DTSTAMP:20260424T105142
CREATED:20251120T163620Z
LAST-MODIFIED:20251219T013609Z
UID:10002118-1766151000-1766154600@carverridgeseniorliving.com
SUMMARY:Make a Mess with Jess
DESCRIPTION:
URL:https://carverridgeseniorliving.com/event-calendar/make-a-mess-with-jess-32/
LOCATION:LC Dining Room
CATEGORIES:Legacy Court
END:VEVENT
END:VCALENDAR