BEGIN:VCALENDAR
VERSION:2.0
PRODID:-//Carver Ridge Senior Living - ECPv6.11.2.1//NONSGML v1.0//EN
CALSCALE:GREGORIAN
METHOD:PUBLISH
X-WR-CALNAME:Carver Ridge Senior Living
X-ORIGINAL-URL:https://carverridgeseniorliving.com
X-WR-CALDESC:Events for Carver Ridge Senior Living
REFRESH-INTERVAL;VALUE=DURATION:PT1H
X-Robots-Tag:noindex
X-PUBLISHED-TTL:PT1H
BEGIN:VTIMEZONE
TZID:America/Chicago
BEGIN:DAYLIGHT
TZOFFSETFROM:-0600
TZOFFSETTO:-0500
TZNAME:CDT
DTSTART:20260308T080000
END:DAYLIGHT
BEGIN:STANDARD
TZOFFSETFROM:-0500
TZOFFSETTO:-0600
TZNAME:CST
DTSTART:20261101T070000
END:STANDARD
END:VTIMEZONE
BEGIN:VEVENT
DTSTART;TZID=America/Chicago:20260523T120000
DTEND;TZID=America/Chicago:20260523T130000
DTSTAMP:20260425T091328
CREATED:20260423T180623Z
LAST-MODIFIED:20260424T180629Z
UID:10003580-1779537600-1779541200@carverridgeseniorliving.com
SUMMARY:Oshibori
DESCRIPTION:
URL:https://carverridgeseniorliving.com/event-calendar/oshibori-112/
LOCATION:LC Dining Room
CATEGORIES:Legacy Court
END:VEVENT
BEGIN:VEVENT
DTSTART;TZID=America/Chicago:20260523T150000
DTEND;TZID=America/Chicago:20260523T160000
DTSTAMP:20260425T091328
CREATED:20260424T180630Z
LAST-MODIFIED:20260424T180630Z
UID:10003581-1779548400-1779552000@carverridgeseniorliving.com
SUMMARY:Let's Get Crafty!
DESCRIPTION:
URL:https://carverridgeseniorliving.com/event-calendar/lets-get-crafty-24/
LOCATION:LC Dining Room
CATEGORIES:Legacy Court
END:VEVENT
BEGIN:VEVENT
DTSTART;TZID=America/Chicago:20260524T100000
DTEND;TZID=America/Chicago:20260524T110000
DTSTAMP:20260425T091328
CREATED:20260424T180630Z
LAST-MODIFIED:20260424T180630Z
UID:10003582-1779616800-1779620400@carverridgeseniorliving.com
SUMMARY:Beanbag Toss
DESCRIPTION:
URL:https://carverridgeseniorliving.com/event-calendar/beanbag-toss-8/
LOCATION:LC Piano Lounge
CATEGORIES:Legacy Court
END:VEVENT
BEGIN:VEVENT
DTSTART;TZID=America/Chicago:20260524T113000
DTEND;TZID=America/Chicago:20260524T123000
DTSTAMP:20260425T091328
CREATED:20260424T180630Z
LAST-MODIFIED:20260424T180630Z
UID:10003583-1779622200-1779625800@carverridgeseniorliving.com
SUMMARY:Polish and Pamper
DESCRIPTION:
URL:https://carverridgeseniorliving.com/event-calendar/polish-and-pamper-8/
LOCATION:LC Dining Room
CATEGORIES:Legacy Court
END:VEVENT
BEGIN:VEVENT
DTSTART;TZID=America/Chicago:20260524T120000
DTEND;TZID=America/Chicago:20260524T130000
DTSTAMP:20260425T091328
CREATED:20260424T180631Z
LAST-MODIFIED:20260424T180631Z
UID:10003584-1779624000-1779627600@carverridgeseniorliving.com
SUMMARY:Oshibori
DESCRIPTION:
URL:https://carverridgeseniorliving.com/event-calendar/oshibori-113/
LOCATION:LC Dining Room
CATEGORIES:Legacy Court
END:VEVENT
END:VCALENDAR