BEGIN:VCALENDAR
VERSION:2.0
PRODID:-//Carver Ridge Senior Living - ECPv6.11.2.1//NONSGML v1.0//EN
CALSCALE:GREGORIAN
METHOD:PUBLISH
X-WR-CALNAME:Carver Ridge Senior Living
X-ORIGINAL-URL:https://carverridgeseniorliving.com
X-WR-CALDESC:Events for Carver Ridge Senior Living
REFRESH-INTERVAL;VALUE=DURATION:PT1H
X-Robots-Tag:noindex
X-PUBLISHED-TTL:PT1H
BEGIN:VTIMEZONE
TZID:America/Chicago
BEGIN:DAYLIGHT
TZOFFSETFROM:-0600
TZOFFSETTO:-0500
TZNAME:CDT
DTSTART:20260308T080000
END:DAYLIGHT
BEGIN:STANDARD
TZOFFSETFROM:-0500
TZOFFSETTO:-0600
TZNAME:CST
DTSTART:20261101T070000
END:STANDARD
END:VTIMEZONE
BEGIN:VEVENT
DTSTART;TZID=America/Chicago:20260521T120000
DTEND;TZID=America/Chicago:20260521T130000
DTSTAMP:20260423T010239
CREATED:20260421T180634Z
LAST-MODIFIED:20260422T180618Z
UID:10003571-1779364800-1779368400@carverridgeseniorliving.com
SUMMARY:Oshibori
DESCRIPTION:
URL:https://carverridgeseniorliving.com/event-calendar/oshibori-110/
LOCATION:LC Dining Room
CATEGORIES:Legacy Court
END:VEVENT
BEGIN:VEVENT
DTSTART;TZID=America/Chicago:20260521T133000
DTEND;TZID=America/Chicago:20260521T143000
DTSTAMP:20260423T010239
CREATED:20260422T180618Z
LAST-MODIFIED:20260422T180618Z
UID:10003573-1779370200-1779373800@carverridgeseniorliving.com
SUMMARY:Musical Moments
DESCRIPTION:
URL:https://carverridgeseniorliving.com/event-calendar/musical-moments-37/
LOCATION:LC Dining Room
CATEGORIES:Legacy Court
END:VEVENT
BEGIN:VEVENT
DTSTART;TZID=America/Chicago:20260521T150000
DTEND;TZID=America/Chicago:20260521T160000
DTSTAMP:20260423T010239
CREATED:20260422T180618Z
LAST-MODIFIED:20260422T180618Z
UID:10003574-1779375600-1779379200@carverridgeseniorliving.com
SUMMARY:Color Me Happy
DESCRIPTION:
URL:https://carverridgeseniorliving.com/event-calendar/color-me-happy-44/
LOCATION:LC Dining Room
CATEGORIES:Legacy Court
END:VEVENT
BEGIN:VEVENT
DTSTART;TZID=America/Chicago:20260522T103000
DTEND;TZID=America/Chicago:20260522T113000
DTSTAMP:20260423T010239
CREATED:20260422T180619Z
LAST-MODIFIED:20260422T180619Z
UID:10003575-1779445800-1779449400@carverridgeseniorliving.com
SUMMARY:HHA Lead Color me Happy
DESCRIPTION:
URL:https://carverridgeseniorliving.com/event-calendar/hha-lead-color-me-happy-16/
LOCATION:LC Dining Room
CATEGORIES:Legacy Court
END:VEVENT
BEGIN:VEVENT
DTSTART;TZID=America/Chicago:20260522T120000
DTEND;TZID=America/Chicago:20260522T130000
DTSTAMP:20260423T010239
CREATED:20260422T180619Z
LAST-MODIFIED:20260422T180619Z
UID:10003576-1779451200-1779454800@carverridgeseniorliving.com
SUMMARY:Oshibori
DESCRIPTION:
URL:https://carverridgeseniorliving.com/event-calendar/oshibori-111/
LOCATION:LC Dining Room
CATEGORIES:Legacy Court
END:VEVENT
END:VCALENDAR