BEGIN:VCALENDAR
VERSION:2.0
PRODID:-//Carver Ridge Senior Living - ECPv6.11.2.1//NONSGML v1.0//EN
CALSCALE:GREGORIAN
METHOD:PUBLISH
X-WR-CALNAME:Carver Ridge Senior Living
X-ORIGINAL-URL:https://carverridgeseniorliving.com
X-WR-CALDESC:Events for Carver Ridge Senior Living
REFRESH-INTERVAL;VALUE=DURATION:PT1H
X-Robots-Tag:noindex
X-PUBLISHED-TTL:PT1H
BEGIN:VTIMEZONE
TZID:America/Chicago
BEGIN:DAYLIGHT
TZOFFSETFROM:-0600
TZOFFSETTO:-0500
TZNAME:CDT
DTSTART:20250309T080000
END:DAYLIGHT
BEGIN:STANDARD
TZOFFSETFROM:-0500
TZOFFSETTO:-0600
TZNAME:CST
DTSTART:20251102T070000
END:STANDARD
END:VTIMEZONE
BEGIN:VEVENT
DTSTART;TZID=America/Chicago:20251022T173000
DTEND;TZID=America/Chicago:20251022T183000
DTSTAMP:20260425T194432
CREATED:20250930T142112Z
LAST-MODIFIED:20251021T145114Z
UID:10001677-1761154200-1761157800@carverridgeseniorliving.com
SUMMARY:S'mores\, Bonfire and Music w/Jenna
DESCRIPTION:
URL:https://carverridgeseniorliving.com/event-calendar/smores-bonfire-and-music-w-jenna/
LOCATION:Front Patio
CATEGORIES:Senior Living
END:VEVENT
BEGIN:VEVENT
DTSTART;TZID=America/Chicago:20250916T173000
DTEND;TZID=America/Chicago:20250916T183000
DTSTAMP:20260425T194432
CREATED:20250829T130609Z
LAST-MODIFIED:20250916T140604Z
UID:10001379-1758043800-1758047400@carverridgeseniorliving.com
SUMMARY:S'mores\, fire and music w/Jenna
DESCRIPTION:
URL:https://carverridgeseniorliving.com/event-calendar/smores-fire-and-music-w-jenna/
LOCATION:Front Patio
CATEGORIES:Senior Living
END:VEVENT
BEGIN:VEVENT
DTSTART;TZID=America/Chicago:20250901T133000
DTEND;TZID=America/Chicago:20250901T143000
DTSTAMP:20260425T194432
CREATED:20250829T130605Z
LAST-MODIFIED:20250901T130605Z
UID:10001369-1756733400-1756737000@carverridgeseniorliving.com
SUMMARY:Rootbeer floats on the patio!
DESCRIPTION:
URL:https://carverridgeseniorliving.com/event-calendar/rootbeer-floats-on-the-patio/
LOCATION:Front Patio
CATEGORIES:Senior Living
END:VEVENT
BEGIN:VEVENT
DTSTART;TZID=America/Chicago:20250828T173000
DTEND;TZID=America/Chicago:20250828T183000
DTSTAMP:20260425T194432
CREATED:20250731T113626Z
LAST-MODIFIED:20250828T130655Z
UID:10001094-1756402200-1756405800@carverridgeseniorliving.com
SUMMARY:Firepit w/S'mores and music (by Jenna)
DESCRIPTION:
URL:https://carverridgeseniorliving.com/event-calendar/firepit-w-smores-and-music-by-jenna/
LOCATION:Front Patio
CATEGORIES:Senior Living
END:VEVENT
BEGIN:VEVENT
DTSTART;TZID=America/Chicago:20250818T133000
DTEND;TZID=America/Chicago:20250818T143000
DTSTAMP:20260425T194432
CREATED:20250731T113624Z
LAST-MODIFIED:20250818T125425Z
UID:10001091-1755523800-1755527400@carverridgeseniorliving.com
SUMMARY:Hot Fudge Sundaes on the Patio
DESCRIPTION:
URL:https://carverridgeseniorliving.com/event-calendar/hot-fudge-sundaes-on-the-patio/
LOCATION:Front Patio
CATEGORIES:Senior Living
END:VEVENT
BEGIN:VEVENT
DTSTART;TZID=America/Chicago:20250805T163000
DTEND;TZID=America/Chicago:20250805T173000
DTSTAMP:20260425T194432
CREATED:20250725T112110Z
LAST-MODIFIED:20250805T123604Z
UID:10001020-1754411400-1754415000@carverridgeseniorliving.com
SUMMARY:-5:30pm Night to Unite! Kona ice truck - Front Patio
DESCRIPTION:
URL:https://carverridgeseniorliving.com/event-calendar/530pm-night-to-unite-kona-ice-truck-front-patio/
LOCATION:Front Patio
CATEGORIES:Legacy Court,Senior Living
END:VEVENT
BEGIN:VEVENT
DTSTART;TZID=America/Chicago:20250630T133000
DTEND;TZID=America/Chicago:20250630T143000
DTSTAMP:20260425T194432
CREATED:20250531T200614Z
LAST-MODIFIED:20250630T100651Z
UID:10000493-1751290200-1751293800@carverridgeseniorliving.com
SUMMARY:Ice Cream Sundays on the Patio!
DESCRIPTION:
URL:https://carverridgeseniorliving.com/event-calendar/ice-cream-sundays-on-the-patio/
LOCATION:Front Patio
CATEGORIES:Senior Living
END:VEVENT
BEGIN:VEVENT
DTSTART;TZID=America/Chicago:20250626T150000
DTEND;TZID=America/Chicago:20250626T160000
DTSTAMP:20260425T194432
CREATED:20250528T200620Z
LAST-MODIFIED:20250625T093623Z
UID:10000459-1750950000-1750953600@carverridgeseniorliving.com
SUMMARY:Bomb Pops on the Patio
DESCRIPTION:
URL:https://carverridgeseniorliving.com/event-calendar/bomb-pops-on-the-patio/
LOCATION:Front Patio
CATEGORIES:Senior Living
END:VEVENT
BEGIN:VEVENT
DTSTART;TZID=America/Chicago:20250621T130000
DTEND;TZID=America/Chicago:20250621T140000
DTSTAMP:20260425T194432
CREATED:20250522T191000Z
LAST-MODIFIED:20250621T092105Z
UID:10000391-1750510800-1750514400@carverridgeseniorliving.com
SUMMARY:Family Fun Fair! Until 3pm
DESCRIPTION:
URL:https://carverridgeseniorliving.com/event-calendar/family-fun-fair-until-3pm/
LOCATION:Front Patio
CATEGORIES:Legacy Court,Senior Living
END:VEVENT
BEGIN:VEVENT
DTSTART;TZID=America/Chicago:20250602T150000
DTEND;TZID=America/Chicago:20250602T160000
DTSTAMP:20260425T194432
CREATED:20250521T185349Z
LAST-MODIFIED:20250602T200640Z
UID:10000372-1748876400-1748880000@carverridgeseniorliving.com
SUMMARY:Root Beer Floats w/Amanda
DESCRIPTION:
URL:https://carverridgeseniorliving.com/event-calendar/music-bingo-w-jenna/
LOCATION:Front Patio
CATEGORIES:Senior Living
END:VEVENT
BEGIN:VEVENT
DTSTART;TZID=America/Chicago:20250529T150000
DTEND;TZID=America/Chicago:20250529T160000
DTSTAMP:20260425T194432
CREATED:20250512T180902Z
LAST-MODIFIED:20250529T200604Z
UID:10000224-1748530800-1748534400@carverridgeseniorliving.com
SUMMARY:Ice Cream Cone Social on the Patio
DESCRIPTION:
URL:https://carverridgeseniorliving.com/event-calendar/ice-cream-cone-social-on-the-patio/
LOCATION:Front Patio
CATEGORIES:Senior Living
END:VEVENT
BEGIN:VEVENT
DTSTART;TZID=America/Chicago:20250523T100000
DTEND;TZID=America/Chicago:20250523T110000
DTSTAMP:20260425T194432
CREATED:20250512T180829Z
LAST-MODIFIED:20250522T200623Z
UID:10000054-1747994400-1747998000@carverridgeseniorliving.com
SUMMARY:Planting Day! - Help plant the Outdoor planters
DESCRIPTION:Come to the bistro between 10-10:45 to get nails filed and/or painted.
URL:https://carverridgeseniorliving.com/event-calendar/planting-day-help-plant-the-outdoor-planters/
LOCATION:Front Patio
CATEGORIES:Legacy Court,Senior Living
END:VEVENT
END:VCALENDAR