BEGIN:VCALENDAR
VERSION:2.0
PRODID:-//Carver Ridge Senior Living - ECPv6.11.2.1//NONSGML v1.0//EN
CALSCALE:GREGORIAN
METHOD:PUBLISH
X-ORIGINAL-URL:https://carverridgeseniorliving.com
X-WR-CALDESC:Events for Carver Ridge Senior Living
REFRESH-INTERVAL;VALUE=DURATION:PT1H
X-Robots-Tag:noindex
X-PUBLISHED-TTL:PT1H
BEGIN:VTIMEZONE
TZID:America/Chicago
BEGIN:DAYLIGHT
TZOFFSETFROM:-0600
TZOFFSETTO:-0500
TZNAME:CDT
DTSTART:20250309T080000
END:DAYLIGHT
BEGIN:STANDARD
TZOFFSETFROM:-0500
TZOFFSETTO:-0600
TZNAME:CST
DTSTART:20251102T070000
END:STANDARD
END:VTIMEZONE
BEGIN:VEVENT
DTSTART;TZID=America/Chicago:20250529T150000
DTEND;TZID=America/Chicago:20250529T160000
DTSTAMP:20260425T211551
CREATED:20250512T180902Z
LAST-MODIFIED:20250529T200604Z
UID:10000224-1748530800-1748534400@carverridgeseniorliving.com
SUMMARY:Ice Cream Cone Social on the Patio
DESCRIPTION:
URL:https://carverridgeseniorliving.com/event-calendar/ice-cream-cone-social-on-the-patio/
LOCATION:Front Patio
CATEGORIES:Senior Living
END:VEVENT
BEGIN:VEVENT
DTSTART;TZID=America/Chicago:20250523T100000
DTEND;TZID=America/Chicago:20250523T110000
DTSTAMP:20260425T211551
CREATED:20250512T180829Z
LAST-MODIFIED:20250522T200623Z
UID:10000054-1747994400-1747998000@carverridgeseniorliving.com
SUMMARY:Planting Day! - Help plant the Outdoor planters
DESCRIPTION:Come to the bistro between 10-10:45 to get nails filed and/or painted.
URL:https://carverridgeseniorliving.com/event-calendar/planting-day-help-plant-the-outdoor-planters/
LOCATION:Front Patio
CATEGORIES:Legacy Court,Senior Living
END:VEVENT
END:VCALENDAR