BEGIN:VCALENDAR
VERSION:2.0
PRODID:-//Carver Ridge Senior Living - ECPv6.11.2.1//NONSGML v1.0//EN
CALSCALE:GREGORIAN
METHOD:PUBLISH
X-WR-CALNAME:Carver Ridge Senior Living
X-ORIGINAL-URL:https://carverridgeseniorliving.com
X-WR-CALDESC:Events for Carver Ridge Senior Living
REFRESH-INTERVAL;VALUE=DURATION:PT1H
X-Robots-Tag:noindex
X-PUBLISHED-TTL:PT1H
BEGIN:VTIMEZONE
TZID:America/Chicago
BEGIN:DAYLIGHT
TZOFFSETFROM:-0600
TZOFFSETTO:-0500
TZNAME:CDT
DTSTART:20260308T080000
END:DAYLIGHT
BEGIN:STANDARD
TZOFFSETFROM:-0500
TZOFFSETTO:-0600
TZNAME:CST
DTSTART:20261101T070000
END:STANDARD
END:VTIMEZONE
BEGIN:VEVENT
DTSTART;TZID=America/Chicago:20260429T134500
DTEND;TZID=America/Chicago:20260429T144500
DTSTAMP:20260422T170735
CREATED:20260331T100632Z
LAST-MODIFIED:20260422T180607Z
UID:10003374-1777470300-1777473900@carverridgeseniorliving.com
SUMMARY:Catholic Communion Delivery
DESCRIPTION:
URL:https://carverridgeseniorliving.com/event-calendar/catholic-communion-delivery-30/
LOCATION:Piano Lounge
CATEGORIES:Legacy Court
END:VEVENT
BEGIN:VEVENT
DTSTART;TZID=America/Chicago:20260429T183000
DTEND;TZID=America/Chicago:20260429T193000
DTSTAMP:20260422T170735
CREATED:20260331T100632Z
LAST-MODIFIED:20260331T100632Z
UID:10003376-1777487400-1777491000@carverridgeseniorliving.com
SUMMARY:HHA Led Game show viewing hour!
DESCRIPTION:
URL:https://carverridgeseniorliving.com/event-calendar/hha-led-game-show-viewing-hour-88/
LOCATION:Piano Lounge
CATEGORIES:Legacy Court
END:VEVENT
BEGIN:VEVENT
DTSTART;TZID=America/Chicago:20260502T100000
DTEND;TZID=America/Chicago:20260502T110000
DTSTAMP:20260422T170735
CREATED:20260402T170632Z
LAST-MODIFIED:20260422T180608Z
UID:10003481-1777716000-1777719600@carverridgeseniorliving.com
SUMMARY:Balloonball w/Yvonna
DESCRIPTION:
URL:https://carverridgeseniorliving.com/event-calendar/balloonball-w-yvonna-26/
LOCATION:Piano Lounge
CATEGORIES:Legacy Court
END:VEVENT
BEGIN:VEVENT
DTSTART;TZID=America/Chicago:20260504T140000
DTEND;TZID=America/Chicago:20260504T150000
DTSTAMP:20260422T170735
CREATED:20260405T172123Z
LAST-MODIFIED:20260422T180610Z
UID:10003493-1777903200-1777906800@carverridgeseniorliving.com
SUMMARY:Monday Movie Matinee
DESCRIPTION:
URL:https://carverridgeseniorliving.com/event-calendar/monday-movie-matinee-50/
LOCATION:Piano Lounge
CATEGORIES:Legacy Court
END:VEVENT
BEGIN:VEVENT
DTSTART;TZID=America/Chicago:20260506T100000
DTEND;TZID=America/Chicago:20260506T110000
DTSTAMP:20260422T170735
CREATED:20260406T172131Z
LAST-MODIFIED:20260422T180610Z
UID:10003500-1778061600-1778065200@carverridgeseniorliving.com
SUMMARY:Music with Bryant
DESCRIPTION:
URL:https://carverridgeseniorliving.com/event-calendar/music-with-bryant-53/
LOCATION:Piano Lounge
CATEGORIES:Legacy Court
END:VEVENT
BEGIN:VEVENT
DTSTART;TZID=America/Chicago:20260506T110000
DTEND;TZID=America/Chicago:20260506T120000
DTSTAMP:20260422T170735
CREATED:20260406T172131Z
LAST-MODIFIED:20260422T180611Z
UID:10003501-1778065200-1778068800@carverridgeseniorliving.com
SUMMARY:Senior Fitness
DESCRIPTION:
URL:https://carverridgeseniorliving.com/event-calendar/senior-fitness-23/
LOCATION:Piano Lounge
CATEGORIES:Legacy Court
END:VEVENT
BEGIN:VEVENT
DTSTART;TZID=America/Chicago:20260506T134500
DTEND;TZID=America/Chicago:20260506T144500
DTSTAMP:20260422T170735
CREATED:20260407T172115Z
LAST-MODIFIED:20260422T180611Z
UID:10003505-1778075100-1778078700@carverridgeseniorliving.com
SUMMARY:Catholic Communion Delivery
DESCRIPTION:
URL:https://carverridgeseniorliving.com/event-calendar/catholic-communion-delivery-31/
LOCATION:Piano Lounge
CATEGORIES:Legacy Court
END:VEVENT
BEGIN:VEVENT
DTSTART;TZID=America/Chicago:20260509T100000
DTEND;TZID=America/Chicago:20260509T110000
DTSTAMP:20260422T170735
CREATED:20260409T172120Z
LAST-MODIFIED:20260422T180613Z
UID:10003514-1778320800-1778324400@carverridgeseniorliving.com
SUMMARY:Balloonball w/Amanda
DESCRIPTION:
URL:https://carverridgeseniorliving.com/event-calendar/balloonball-w-amanda-26/
LOCATION:Piano Lounge
CATEGORIES:Legacy Court
END:VEVENT
BEGIN:VEVENT
DTSTART;TZID=America/Chicago:20260511T140000
DTEND;TZID=America/Chicago:20260511T150000
DTSTAMP:20260422T170735
CREATED:20260412T172115Z
LAST-MODIFIED:20260422T180613Z
UID:10003524-1778508000-1778511600@carverridgeseniorliving.com
SUMMARY:Monday Movie Matinee
DESCRIPTION:
URL:https://carverridgeseniorliving.com/event-calendar/monday-movie-matinee-51/
LOCATION:Piano Lounge
CATEGORIES:Legacy Court
END:VEVENT
BEGIN:VEVENT
DTSTART;TZID=America/Chicago:20260513T100000
DTEND;TZID=America/Chicago:20260513T110000
DTSTAMP:20260422T170735
CREATED:20260413T172125Z
LAST-MODIFIED:20260422T180614Z
UID:10003531-1778666400-1778670000@carverridgeseniorliving.com
SUMMARY:Music with Bryant
DESCRIPTION:
URL:https://carverridgeseniorliving.com/event-calendar/music-with-bryant-54/
LOCATION:Piano Lounge
CATEGORIES:Legacy Court
END:VEVENT
BEGIN:VEVENT
DTSTART;TZID=America/Chicago:20260513T134500
DTEND;TZID=America/Chicago:20260513T144500
DTSTAMP:20260422T170735
CREATED:20260414T172228Z
LAST-MODIFIED:20260422T180614Z
UID:10003535-1778679900-1778683500@carverridgeseniorliving.com
SUMMARY:Catholic Communion Delivery
DESCRIPTION:
URL:https://carverridgeseniorliving.com/event-calendar/catholic-communion-delivery-32/
LOCATION:Piano Lounge
CATEGORIES:Legacy Court
END:VEVENT
BEGIN:VEVENT
DTSTART;TZID=America/Chicago:20260516T100000
DTEND;TZID=America/Chicago:20260516T110000
DTSTAMP:20260422T170735
CREATED:20260416T173642Z
LAST-MODIFIED:20260422T180615Z
UID:10003545-1778925600-1778929200@carverridgeseniorliving.com
SUMMARY:Balloonball w/Yvonna
DESCRIPTION:
URL:https://carverridgeseniorliving.com/event-calendar/balloonball-w-yvonna-27/
LOCATION:Piano Lounge
CATEGORIES:Legacy Court
END:VEVENT
BEGIN:VEVENT
DTSTART;TZID=America/Chicago:20260518T140000
DTEND;TZID=America/Chicago:20260518T150000
DTSTAMP:20260422T170735
CREATED:20260419T175145Z
LAST-MODIFIED:20260422T180616Z
UID:10003557-1779112800-1779116400@carverridgeseniorliving.com
SUMMARY:Monday Movie Matinee
DESCRIPTION:
URL:https://carverridgeseniorliving.com/event-calendar/monday-movie-matinee-52/
LOCATION:Piano Lounge
CATEGORIES:Legacy Court
END:VEVENT
BEGIN:VEVENT
DTSTART;TZID=America/Chicago:20260520T100000
DTEND;TZID=America/Chicago:20260520T110000
DTSTAMP:20260422T170735
CREATED:20260420T175140Z
LAST-MODIFIED:20260422T180617Z
UID:10003564-1779271200-1779274800@carverridgeseniorliving.com
SUMMARY:Music with Bryant
DESCRIPTION:
URL:https://carverridgeseniorliving.com/event-calendar/music-with-bryant-55/
LOCATION:Piano Lounge
CATEGORIES:Legacy Court
END:VEVENT
BEGIN:VEVENT
DTSTART;TZID=America/Chicago:20260520T110000
DTEND;TZID=America/Chicago:20260520T120000
DTSTAMP:20260422T170735
CREATED:20260420T175141Z
LAST-MODIFIED:20260422T180617Z
UID:10003565-1779274800-1779278400@carverridgeseniorliving.com
SUMMARY:Senior Fitness
DESCRIPTION:
URL:https://carverridgeseniorliving.com/event-calendar/senior-fitness-24/
LOCATION:Piano Lounge
CATEGORIES:Legacy Court
END:VEVENT
BEGIN:VEVENT
DTSTART;TZID=America/Chicago:20260520T134500
DTEND;TZID=America/Chicago:20260520T144500
DTSTAMP:20260422T170735
CREATED:20260421T180634Z
LAST-MODIFIED:20260422T180617Z
UID:10003569-1779284700-1779288300@carverridgeseniorliving.com
SUMMARY:Catholic Communion Delivery
DESCRIPTION:
URL:https://carverridgeseniorliving.com/event-calendar/catholic-communion-delivery-33/
LOCATION:Piano Lounge
CATEGORIES:Legacy Court
END:VEVENT
END:VCALENDAR