BEGIN:VCALENDAR
VERSION:2.0
PRODID:-//Carver Ridge Senior Living - ECPv6.11.2.1//NONSGML v1.0//EN
CALSCALE:GREGORIAN
METHOD:PUBLISH
X-ORIGINAL-URL:https://carverridgeseniorliving.com
X-WR-CALDESC:Events for Carver Ridge Senior Living
REFRESH-INTERVAL;VALUE=DURATION:PT1H
X-Robots-Tag:noindex
X-PUBLISHED-TTL:PT1H
BEGIN:VTIMEZONE
TZID:America/Chicago
BEGIN:DAYLIGHT
TZOFFSETFROM:-0600
TZOFFSETTO:-0500
TZNAME:CDT
DTSTART:20260308T080000
END:DAYLIGHT
BEGIN:STANDARD
TZOFFSETFROM:-0500
TZOFFSETTO:-0600
TZNAME:CST
DTSTART:20261101T070000
END:STANDARD
END:VTIMEZONE
BEGIN:VEVENT
DTSTART;TZID=America/Chicago:20260513T134500
DTEND;TZID=America/Chicago:20260513T144500
DTSTAMP:20260422T184412
CREATED:20260414T172228Z
LAST-MODIFIED:20260422T180614Z
UID:10003535-1778679900-1778683500@carverridgeseniorliving.com
SUMMARY:Catholic Communion Delivery
DESCRIPTION:
URL:https://carverridgeseniorliving.com/event-calendar/catholic-communion-delivery-32/
LOCATION:Piano Lounge
CATEGORIES:Legacy Court
END:VEVENT
BEGIN:VEVENT
DTSTART;TZID=America/Chicago:20260516T100000
DTEND;TZID=America/Chicago:20260516T110000
DTSTAMP:20260422T184412
CREATED:20260416T173642Z
LAST-MODIFIED:20260422T180615Z
UID:10003545-1778925600-1778929200@carverridgeseniorliving.com
SUMMARY:Balloonball w/Yvonna
DESCRIPTION:
URL:https://carverridgeseniorliving.com/event-calendar/balloonball-w-yvonna-27/
LOCATION:Piano Lounge
CATEGORIES:Legacy Court
END:VEVENT
BEGIN:VEVENT
DTSTART;TZID=America/Chicago:20260518T140000
DTEND;TZID=America/Chicago:20260518T150000
DTSTAMP:20260422T184412
CREATED:20260419T175145Z
LAST-MODIFIED:20260422T180616Z
UID:10003557-1779112800-1779116400@carverridgeseniorliving.com
SUMMARY:Monday Movie Matinee
DESCRIPTION:
URL:https://carverridgeseniorliving.com/event-calendar/monday-movie-matinee-52/
LOCATION:Piano Lounge
CATEGORIES:Legacy Court
END:VEVENT
BEGIN:VEVENT
DTSTART;TZID=America/Chicago:20260520T100000
DTEND;TZID=America/Chicago:20260520T110000
DTSTAMP:20260422T184412
CREATED:20260420T175140Z
LAST-MODIFIED:20260422T180617Z
UID:10003564-1779271200-1779274800@carverridgeseniorliving.com
SUMMARY:Music with Bryant
DESCRIPTION:
URL:https://carverridgeseniorliving.com/event-calendar/music-with-bryant-55/
LOCATION:Piano Lounge
CATEGORIES:Legacy Court
END:VEVENT
BEGIN:VEVENT
DTSTART;TZID=America/Chicago:20260520T110000
DTEND;TZID=America/Chicago:20260520T120000
DTSTAMP:20260422T184412
CREATED:20260420T175141Z
LAST-MODIFIED:20260422T180617Z
UID:10003565-1779274800-1779278400@carverridgeseniorliving.com
SUMMARY:Senior Fitness
DESCRIPTION:
URL:https://carverridgeseniorliving.com/event-calendar/senior-fitness-24/
LOCATION:Piano Lounge
CATEGORIES:Legacy Court
END:VEVENT
BEGIN:VEVENT
DTSTART;TZID=America/Chicago:20260520T134500
DTEND;TZID=America/Chicago:20260520T144500
DTSTAMP:20260422T184412
CREATED:20260421T180634Z
LAST-MODIFIED:20260422T180617Z
UID:10003569-1779284700-1779288300@carverridgeseniorliving.com
SUMMARY:Catholic Communion Delivery
DESCRIPTION:
URL:https://carverridgeseniorliving.com/event-calendar/catholic-communion-delivery-33/
LOCATION:Piano Lounge
CATEGORIES:Legacy Court
END:VEVENT
END:VCALENDAR